BEGIN:VCALENDAR
VERSION:2.0
PRODID:-//Vkind - ECPv6.15.14//NONSGML v1.0//EN
CALSCALE:GREGORIAN
METHOD:PUBLISH
X-ORIGINAL-URL:https://www.vkind.com
X-WR-CALDESC:Events for Vkind
REFRESH-INTERVAL;VALUE=DURATION:PT1H
X-Robots-Tag:noindex
X-PUBLISHED-TTL:PT1H
BEGIN:VTIMEZONE
TZID:-04:00
END:VTIMEZONE
BEGIN:VTIMEZONE
TZID:-05:00
END:VTIMEZONE
BEGIN:VEVENT
DTSTART;TZID=-04:00:20230826T100000
DTEND;TZID=-04:00:20230826T120000
DTSTAMP:20260423T024318
CREATED:20230721T044104Z
LAST-MODIFIED:20230826T061549Z
UID:10000583-1693044000-1693051200@www.vkind.com
SUMMARY:Poplar Spring Animal Sanctuary VSDC Members-only Volunteer Day
DESCRIPTION:Join us for a volunteer day at Poplar Spring Animal Sanctuary. Poplar can only accommodate 20 volunteers so we are limiting this to **current dues-paying** **VSDC members only**. You must be a paid member to attend. \nIf you are not already and want to become a paying VSDC member\, you can join now by visiting [http://vsdc.org](https://vsdc.org/join/#join). \nIf you are signed up here to join us for this volunteer event\, but ARE NOT a paying member of VSDC\, we will have to remove you to make room for members to attend. You will have 24 hours to become a member from the time you sign up here. Please visit [https://vsdc.org/join/#join](https://vsdc.org/join/#join) to become a paying member of VSDC. \nVolunteer tasks will range from requiring some mobility and strength to low impact activities. It is highly recommended you wear clothing and shoes that can get dirty. \nThere will not be any lunch provided. Please bring your own meal or snacks. \n*When you sign up to join\, you automatically acknowledge [VSDC’s Liability Waiver](https://vsdc.org/activity-waiver/)* \n*By coming to this event\, we expect you will follow the code of conduct found at [Policies – VSDC – Veg Society of DC](https://vsdc.org/policies)* \nVSDC (http://www.vsdc.org) is a clear and consistent voice for improving the lives of all beings through education on the benefits of a vegan diet & lifestyle. Sharing food is the bond that brings families together; so it is with VSDC. From simply “breaking bread” to experiencing delicious and nutritious vegan foods from around the world\, we make your journey easier\, enjoyable & meaningful. \n**VSDC. Creating communities. For your health\, the animals\, and the planet.**
URL:https://www.vkind.com/vegan-events/poplar-spring-animal-sanctuary-vsdc-members-only-volunteer-day-3/
LOCATION:Poplar Spring Animal Sanctuary\, 15200 Mount Nebo Rd M\, Poolesville\, MD\, 20837\, United States
ATTACH;FMTTYPE=image/jpeg:https://www.vkind.com/wp-content/uploads/2023/02/1024x576-VuK68g.tmp_.jpg
GEO:39.10444;-77.44823
X-APPLE-STRUCTURED-LOCATION;VALUE=URI;X-ADDRESS=Poplar Spring Animal Sanctuary 15200 Mount Nebo Rd M Poolesville MD 20837 United States;X-APPLE-RADIUS=500;X-TITLE=15200 Mount Nebo Rd M:geo:-77.44823,39.10444
END:VEVENT
BEGIN:VEVENT
DTSTART;TZID=-04:00:20230618T100000
DTEND;TZID=-04:00:20230618T120000
DTSTAMP:20260423T024318
CREATED:20230412T175106Z
LAST-MODIFIED:20230615T170045Z
UID:10000497-1687082400-1687089600@www.vkind.com
SUMMARY:Poplar Spring Animal Sanctuary VSDC Members-only Volunteer Day
DESCRIPTION:Join us for a volunteer day at Poplar Spring Animal Sanctuary. Poplar can only accommodate 20 volunteers so we are limiting this to **current dues-paying** **VSDC members only**. You must be a paid member to attend. \nIf you are not already and want to become a paying VSDC member\, you can join now by visiting [http://vsdc.org](https://vsdc.org/join/#join). \nIf you are signed up here to join us for this volunteer event\, but ARE NOT a paying member of VSDC\, we will have to remove you to make room for members to attend. You will have 24 hours to become a member from the time you sign up here. Please visit [https://vsdc.org/join/#join](https://vsdc.org/join/#join) to become a paying member of VSDC. \nVolunteer tasks will range from requiring some mobility and strength to low impact activities. It is highly recommended you wear clothing and shoes that can get dirty. \nThere will not be any lunch provided. Please bring your own meal or snacks. \n*When you sign up to join\, you automatically acknowledge [VSDC’s Liability Waiver](https://vsdc.org/activity-waiver/)*\n*By coming to this event\, we expect you will follow the code of conduct found at [Policies – VSDC – Veg Society of DC](https://vsdc.org/policies)* \nVSDC (http://www.vsdc.org) is a clear and consistent voice for improving the lives of all beings through education on the benefits of a vegan diet & lifestyle. Sharing food is the bond that brings families together; so it is with VSDC. From simply “breaking bread” to experiencing delicious and nutritious vegan foods from around the world\, we make your journey easier\, enjoyable & meaningful. \n**VSDC. Creating communities. For your health\, the animals\, and the planet.**
URL:https://www.vkind.com/vegan-events/poplar-spring-animal-sanctuary-vsdc-members-only-volunteer-day-2/
LOCATION:Poplar Spring Animal Sanctuary\, 15200 Mount Nebo Rd M\, Poolesville\, MD\, 20837\, United States
ATTACH;FMTTYPE=image/jpeg:https://www.vkind.com/wp-content/uploads/2023/02/1024x576-VuK68g.tmp_.jpg
GEO:39.10444;-77.44823
X-APPLE-STRUCTURED-LOCATION;VALUE=URI;X-ADDRESS=Poplar Spring Animal Sanctuary 15200 Mount Nebo Rd M Poolesville MD 20837 United States;X-APPLE-RADIUS=500;X-TITLE=15200 Mount Nebo Rd M:geo:-77.44823,39.10444
END:VEVENT
BEGIN:VEVENT
DTSTART;TZID=-05:00:20230311T100000
DTEND;TZID=-05:00:20230312T120000
DTSTAMP:20260423T024318
CREATED:20230212T102015Z
LAST-MODIFIED:20230312T135304Z
UID:10000441-1678528800-1678622400@www.vkind.com
SUMMARY:Poplar Spring Animal Sanctuary VSDC Members Only Volunteer Day
DESCRIPTION:Join us for a volunteer day at Poplar Spring Animal Sanctuary. Poplar can only accommodate 20 volunteers so we are limiting this to **current dues-paying** **VSDC members only**. You must be a paid member to attend. \nIf you are not a VSDC member and would like to join\, you may do so [here.](https://vsdc.org/membership/) \n**PLEASE FOLLOW THE DIRECTIONS BELOW TO REGISTER** \nYou must register at [https://vsdc.org/memberevents/#!event/2023/3/11/poplar-spring-volunteer-day ](https://vsdc.org/memberevents/#!event/2023/3/11/poplar-spring-volunteer-day) before you RSVP. You will need your VSDC member login to register. Also please RSVP on Meetup and indicate if you have registered. If you RSVP yes on Meetup and you haven’t registered you will be removed. **We are limited to 20 people so please change your RSVP to no if you can’t go so someone else can.** Once your RSVP is changed to no we will cancel your registration so someone else can register. We will be checking registrations at the event. If you have not registered you will not be permitted to attend so we can keep our attendance at 20. This is for the safety of the volunteers and the animals at the sanctuary. \nThis our first attempt at a members only event using this system so please bear with us. If you have any questions please message me. \n*When you sign up to join\, you automatically acknowledge [VSDC’s Liability Waiver](https://vsdc.org/activity-waiver/)*\nVSDC (http://www.vsdc.org) is a clear and consistent voice for improving the lives of all beings through education on the benefits of a vegan diet & lifestyle. Sharing food is the bond that brings families together; so it is with VSDC. From simply “breaking bread” to experiencing delicious and nutritious vegan foods from around the world\, we make your journey easier\, enjoyable & meaningful.\nBy coming to this event\, we expect you will follow the code of conduct found at [Policies – VSDC – Veg Society of DC](https://vsdc.org/policies)
URL:https://www.vkind.com/vegan-events/poplar-spring-animal-sanctuary-vsdc-members-only-volunteer-day/
LOCATION:Poplar Spring Animal Sanctuary\, 15200 Mount Nebo Rd M\, Poolesville\, MD\, 20837\, United States
ATTACH;FMTTYPE=image/jpeg:https://www.vkind.com/wp-content/uploads/2023/02/1024x576-VuK68g.tmp_.jpg
GEO:39.10444;-77.44823
X-APPLE-STRUCTURED-LOCATION;VALUE=URI;X-ADDRESS=Poplar Spring Animal Sanctuary 15200 Mount Nebo Rd M Poolesville MD 20837 United States;X-APPLE-RADIUS=500;X-TITLE=15200 Mount Nebo Rd M:geo:-77.44823,39.10444
END:VEVENT
END:VCALENDAR