BEGIN:VCALENDAR
VERSION:2.0
PRODID:-//Vkind - ECPv6.15.14//NONSGML v1.0//EN
CALSCALE:GREGORIAN
METHOD:PUBLISH
X-ORIGINAL-URL:https://www.vkind.com
X-WR-CALDESC:Events for Vkind
REFRESH-INTERVAL;VALUE=DURATION:PT1H
X-Robots-Tag:noindex
X-PUBLISHED-TTL:PT1H
BEGIN:VTIMEZONE
TZID:-04:00
END:VTIMEZONE
BEGIN:VTIMEZONE
TZID:-05:00
END:VTIMEZONE
BEGIN:VEVENT
DTSTART;TZID=-04:00:20240609T100000
DTEND;TZID=-04:00:20240609T120000
DTSTAMP:20260422T124454
CREATED:20240322T062011Z
LAST-MODIFIED:20240608T133019Z
UID:10007675-1717927200-1717934400@www.vkind.com
SUMMARY:VSDC Volunteer Day at Poplar Spring Animal Sanctuary
DESCRIPTION:Join us for a VSDC volunteer day at Poplar Spring Animal Sanctuary. \nVolunteer tasks will range from requiring some mobility and strength to low-impact activities\, for example\, raking\, cleaning barns and pastures\, and washing and refilling water buckets. It is highly recommended you wear clothing and shoes that can get dirty. \nNo food or drink is available onsite\, so please bring a vegan meal\, snacks\, and/or drinks. If the weather is nice\, picnic tables are available to enjoy lunch with other attendees after volunteering. \nPlease plan to arrive a little early so we are gathered and ready to get started at 10 am sharp. \nTHANK YOU for helping Poplar Spring Animal Sanctuary\, and we look forward to seeing you there! \n**Update Your RSVP**\nOut of respect for others interested in attending this limited-space event\, please update your RSVP promptly as your schedule changes. \n**VSDC: More Than A Meetup**\nWe are so glad to have you as part of The Veg Society of DC Vegan Meetup group\, and we enjoy seeing you at our events. Did you know that [VSDC](https://vsdc.org/) is a nonprofit organization with membership benefits? \nWith VSDC membership\, you will save money at area restaurants and businesses\, attend VSDC member-only events\, and\, most importantly\, support us as a clear and consistent voice for improving the lives of all beings through community building and education centered on the benefits of a vegan diet and lifestyle. \nThe membership fee is minimal\, but the impact is significant! [Become a member of VSDC](https://vsdc.org/membership/). \n**Liability Waiver and Code of Conduct**\nWhen you sign up to attend\, you automatically acknowledge [VSDC’s Liability Waiver](https://vsdc.org/activity-waiver/) and commit to follow the code of conduct found at [Policies – VSDC – Veg Society of DC](https://vsdc.org/policies/).
URL:https://www.vkind.com/vegan-events/vsdc-volunteer-day-at-poplar-spring-animal-sanctuary/
LOCATION:Poplar Spring Animal Sanctuary\, 15200 Mount Nebo Rd M\, Poolesville\, MD\, 20837\, United States
ATTACH;FMTTYPE=image/jpeg:https://www.vkind.com/wp-content/uploads/2023/02/1024x576-VuK68g.tmp_.jpg
GEO:39.10444;-77.44823
X-APPLE-STRUCTURED-LOCATION;VALUE=URI;X-ADDRESS=Poplar Spring Animal Sanctuary 15200 Mount Nebo Rd M Poolesville MD 20837 United States;X-APPLE-RADIUS=500;X-TITLE=15200 Mount Nebo Rd M:geo:-77.44823,39.10444
END:VEVENT
BEGIN:VEVENT
DTSTART;TZID=-04:00:20240427T133000
DTEND;TZID=-04:00:20240427T150000
DTSTAMP:20260422T124454
CREATED:20240331T115530Z
LAST-MODIFIED:20240427T175016Z
UID:10007681-1714224600-1714230000@www.vkind.com
SUMMARY:VSDC Visit to Poplar Spring Animal Sanctuary- SOLD OUT!
DESCRIPTION:Join VSDC for a tour of the Sanctuary\, which is home to over 250 rescued farm animals! This is a not-to-be-missed opportunity to learn about the animals’ rescue stories and interact with cows\, pigs\, goats\, sheep\, and more! \nPlease allow ample time so you arrive on time. You won’t want to miss one moment of these magical creatures! \n**We have purchased a block of tickets\, which\, with fees\, cost $12.24 each. We are rounding up and will donate the difference to Poplar! Tickets sell out quickly\, so don’t delay!!!** \n**When You Arrive**\nPoplar Spring Animal Sanctuary is located at 15200 Mt. Nebo Rd. Poolesville MD. There is no sign at the entrance. You will see a green gate that is shut and a white mailbox with the number 15200 on it. Get out of your car to open the gate (it is only latched\, not locked)\, drive through\, and close the gate behind you. Follow the gravel drive one mile to the marked and gated parking area. Please remain inside the gated parking area until the tour begins. Feel free to take photos of the animals and sanctuary! Please wear clothes you don’t mind getting dirty\, we will be interacting with all the animals. Dress for the weather\, as the tour is all outdoors \n**Transportation**\nThe sanctuary is only accessible by car. If you need a ride\, feel free to post to the page below. Of course\, please use good sense in riding with people you don’t know and understand that VSDC cannot take responsibility for the behavior of volunteer drivers. \n**VSDC: More Than A Meetup**\nWe are so glad to have you as part of The Veg Society of DC Vegan Meetup group\, and we enjoy seeing you at our events. Did you know that [VSDC](https://vsdc.org/) is a nonprofit organization with membership benefits? \nWith VSDC membership\, you will save money at area restaurants and businesses\, attend VSDC member-only events\, and\, most importantly\, support us as a clear and consistent voice for improving the lives of all beings through community building and education centered on the benefits of a vegan diet and lifestyle. \nThe membership fee is minimal\, but the impact is significant! [Become a member of VSDC](https://vsdc.org/membership/). \n**Liability Waiver and Code of Conduct**\nWhen you sign up to attend\, you automatically acknowledge [VSDC’s Liability Waiver](https://vsdc.org/activity-waiver/) and commit to follow the code of conduct found at [Policies – VSDC – Veg Society of DC](https://vsdc.org/policies/).
URL:https://www.vkind.com/vegan-events/vsdc-visit-to-poplar-spring-animal-sanctuary-space-is-limited/
LOCATION:Poplar Spring Animal Sanctuary\, 15200 Mount Nebo Rd M\, Poolesville\, MD\, 20837\, United States
ATTACH;FMTTYPE=image/jpeg:https://www.vkind.com/wp-content/uploads/2024/03/1024x576-DEGLzD.tmp_.jpg
GEO:39.10444;-77.44823
X-APPLE-STRUCTURED-LOCATION;VALUE=URI;X-ADDRESS=Poplar Spring Animal Sanctuary 15200 Mount Nebo Rd M Poolesville MD 20837 United States;X-APPLE-RADIUS=500;X-TITLE=15200 Mount Nebo Rd M:geo:-77.44823,39.10444
END:VEVENT
BEGIN:VEVENT
DTSTART;TZID=-04:00:20240407T100000
DTEND;TZID=-04:00:20240407T120000
DTSTAMP:20260422T124455
CREATED:20240109T050029Z
LAST-MODIFIED:20240407T162524Z
UID:10007620-1712484000-1712491200@www.vkind.com
SUMMARY:VSDC Volunteer Day at Poplar Spring Animal Sanctuary
DESCRIPTION:Join us for a VSDC volunteer day at Poplar Spring Animal Sanctuary. \nVolunteer tasks will range from requiring some mobility and strength to low-impact activities\, for example\, raking\, cleaning barns and pastures\, and washing and refilling water buckets. It is highly recommended you wear clothing and shoes that can get dirty. \nNo food or drink is available onsite\, so please bring a vegan meal\, snacks\, and/or drinks. If the weather is nice\, picnic tables are available to enjoy lunch with other attendees after volunteering. \nPlease plan to arrive a little early so we are gathered and ready to get started at 10 am sharp. \nTHANK YOU for helping Poplar Spring Animal Sanctuary\, and we look forward to seeing you there! \n**Update Your RSVP**\nOut of respect for others interested in attending this limited-space event\, please update your RSVP promptly as your schedule changes. \n**VSDC: More Than A Meetup**\nWe are so glad to have you as part of The Veg Society of DC Vegan Meetup group\, and we enjoy seeing you at our events. Did you know that [VSDC](https://vsdc.org/) is a nonprofit organization with membership benefits? \nWith VSDC membership\, you will save money at area restaurants and businesses\, attend VSDC member-only events\, and\, most importantly\, support us as a clear and consistent voice for improving the lives of all beings through community building and education centered on the benefits of a vegan diet and lifestyle. \nThe membership fee is minimal\, but the impact is significant! [Become a member of VSDC](https://vsdc.org/membership/). \n**Liability Waiver and Code of Conduct**\nWhen you sign up to attend\, you automatically acknowledge [VSDC’s Liability Waiver](https://vsdc.org/activity-waiver/) and commit to follow the code of conduct found at [Policies – VSDC – Veg Society of DC](https://vsdc.org/policies/).
URL:https://www.vkind.com/vegan-events/poplar-spring-animal-sanctuary-vsdc-volunteer-day-2/
LOCATION:Poplar Spring Animal Sanctuary\, 15200 Mount Nebo Rd M\, Poolesville\, MD\, 20837\, United States
ATTACH;FMTTYPE=image/jpeg:https://www.vkind.com/wp-content/uploads/2023/02/1024x576-VuK68g.tmp_.jpg
GEO:39.10444;-77.44823
X-APPLE-STRUCTURED-LOCATION;VALUE=URI;X-ADDRESS=Poplar Spring Animal Sanctuary 15200 Mount Nebo Rd M Poolesville MD 20837 United States;X-APPLE-RADIUS=500;X-TITLE=15200 Mount Nebo Rd M:geo:-77.44823,39.10444
END:VEVENT
BEGIN:VEVENT
DTSTART;TZID=-05:00:20231202T100000
DTEND;TZID=-05:00:20231202T120000
DTSTAMP:20260422T124455
CREATED:20231010T071102Z
LAST-MODIFIED:20231202T083548Z
UID:10007561-1701511200-1701518400@www.vkind.com
SUMMARY:Poplar Spring Animal Sanctuary - VSDC Volunteer Day
DESCRIPTION:Join us for another VSDC volunteer day at Poplar Spring Animal Sanctuary. The sanctuary can only accommodate about 15 volunteers so we are limiting this to **current dues-paying** **VSDC members only**. You must be a paid VSDC member to attend. \nVolunteer tasks will range from requiring some mobility and strength to low impact activities\, e.g. raking\, cleaning barns and pastures\, cleaning and refilling water buckets. It is highly recommended you wear clothing and shoes that can get dirty. \nIf you are not already and want to become a paying VSDC member\, you can join now by visiting [http://vsdc.org](https://vsdc.org/join/#join). \nIf you are signed up here to join us for this volunteer event\, but ARE NOT a paying member of VSDC\, we will have to remove you to make room for members to attend. You will have 24 hours to become a member from the time you sign up here. Please visit [https://vsdc.org/join/#join](https://vsdc.org/join/#join) to become a paying member of VSDC. \nThere will NOT be any lunch provided. Please bring your own vegan meal or snacks\, water\, etc. \nPlease plan to arrive a little early so we are gathered by 10 am. THANK YOU for your generosity to help Poplar Spring Animal Sanctuary and we look forward to seeing you there! \n*When you sign up to join\, you automatically acknowledge [VSDC’s Liability Waiver](https://vsdc.org/activity-waiver/)* \n*By coming to this event\, we expect you will follow the code of conduct found at [Policies – VSDC – Veg Society of DC](https://vsdc.org/policies)* \nVSDC (http://www.vsdc.org) is a clear and consistent voice for improving the lives of all beings through education on the benefits of a vegan diet & lifestyle. Sharing food is the bond that brings families together; so it is with VSDC. From simply “breaking bread” to experiencing delicious and nutritious vegan foods from around the world\, we make your journey easier\, enjoyable & meaningful. \n**VSDC. Creating communities. For your health\, the animals\, and the planet.**
URL:https://www.vkind.com/vegan-events/poplar-spring-animal-sanctuary-vsdc-volunteer-day/
LOCATION:Poplar Spring Animal Sanctuary\, 15200 Mount Nebo Rd M\, Poolesville\, MD\, 20837\, United States
ATTACH;FMTTYPE=image/jpeg:https://www.vkind.com/wp-content/uploads/2023/02/1024x576-VuK68g.tmp_.jpg
GEO:39.10444;-77.44823
X-APPLE-STRUCTURED-LOCATION;VALUE=URI;X-ADDRESS=Poplar Spring Animal Sanctuary 15200 Mount Nebo Rd M Poolesville MD 20837 United States;X-APPLE-RADIUS=500;X-TITLE=15200 Mount Nebo Rd M:geo:-77.44823,39.10444
END:VEVENT
BEGIN:VEVENT
DTSTART;TZID=-04:00:20231015T100000
DTEND;TZID=-04:00:20231015T120000
DTSTAMP:20260422T124455
CREATED:20230911T140558Z
LAST-MODIFIED:20231014T084524Z
UID:10007543-1697364000-1697371200@www.vkind.com
SUMMARY:Cancelled due to Weather: Poplar Spring Animal Sanctuary Volunteer Day
DESCRIPTION:Join us for another VSDC volunteer day at Poplar Spring Animal Sanctuary. The sanctuary can only accommodate about 15 volunteers so we are limiting this to **current dues-paying** **VSDC members only**. You must be a paid VSDC member to attend. \nVolunteer tasks will range from requiring some mobility and strength to low impact activities\, e.g. raking\, cleaning barns and pastures\, cleaning and refilling water buckets. It is highly recommended you wear clothing and shoes that can get dirty. \nIf you are not already and want to become a paying VSDC member\, you can join now by visiting [http://vsdc.org](https://vsdc.org/join/#join). \nIf you are signed up here to join us for this volunteer event\, but ARE NOT a paying member of VSDC\, we will have to remove you to make room for members to attend. You will have 24 hours to become a member from the time you sign up here. Please visit [https://vsdc.org/join/#join](https://vsdc.org/join/#join) to become a paying member of VSDC. \nThere will NOT be any lunch provided. Please bring your own vegan meal or snacks\, water\, etc. \nTHANK YOU for your generosity to help Poplar Spring Animal Sanctuary and we look forward to seeing you there! \n*When you sign up to join\, you automatically acknowledge [VSDC’s Liability Waiver](https://vsdc.org/activity-waiver/)* \n*By coming to this event\, we expect you will follow the code of conduct found at [Policies – VSDC – Veg Society of DC](https://vsdc.org/policies)* \nVSDC (http://www.vsdc.org) is a clear and consistent voice for improving the lives of all beings through education on the benefits of a vegan diet & lifestyle. Sharing food is the bond that brings families together; so it is with VSDC. From simply “breaking bread” to experiencing delicious and nutritious vegan foods from around the world\, we make your journey easier\, enjoyable & meaningful. \n**VSDC. Creating communities. For your health\, the animals\, and the planet.**
URL:https://www.vkind.com/vegan-events/poplar-spring-animal-sanctuary-vsdc-members-only-volunteer-day-4/
LOCATION:Poplar Spring Animal Sanctuary\, 15200 Mount Nebo Rd M\, Poolesville\, MD\, 20837\, United States
ATTACH;FMTTYPE=image/jpeg:https://www.vkind.com/wp-content/uploads/2023/02/1024x576-VuK68g.tmp_.jpg
GEO:39.10444;-77.44823
X-APPLE-STRUCTURED-LOCATION;VALUE=URI;X-ADDRESS=Poplar Spring Animal Sanctuary 15200 Mount Nebo Rd M Poolesville MD 20837 United States;X-APPLE-RADIUS=500;X-TITLE=15200 Mount Nebo Rd M:geo:-77.44823,39.10444
END:VEVENT
BEGIN:VEVENT
DTSTART;TZID=-04:00:20231001T140000
DTEND;TZID=-04:00:20231001T153000
DTSTAMP:20260422T124455
CREATED:20230823T044539Z
LAST-MODIFIED:20231001T023015Z
UID:10007526-1696168800-1696174200@www.vkind.com
SUMMARY:Poplar Spring Animal Sanctuary Open House + VSDC/Meetup Gathering at 2 pm
DESCRIPTION:*Update: Terry Cummings\, the co-founder\, will say hello to our group and provide an overview of Poplar Spring.*\n*The Open House is 1 to 4 pm. VSDC and our meetup members will gather at 2 pm to meet one another\, eat lunch together\, and see the sanctuary – whatever people would like to do. We will gather to the right of the small gift shop structure. Look for Saurabh who will be wearing a Green VSDC t-shirt. Then we will decide what to do and/or where to hang out.* \n**The [Poplar Spring](https://www.animalsanctuary.org/) Annual Open House and Fundraiser is free and set for Sunday\, October 1\, 2023 – 1 to 4 pm.** After a four year hiatus due to the pandemic\, they are planning this event at the sanctuary once again. Join [VSDC](www.vsdc.org) and many hundreds of people as the Open House will feature a live band\, catered food and drinks\, balloons and face painting\, and the opportunity to stroll around and visit the rescued animals. There will not be a silent auction this year. Again\, No admission fee\, but donations (of any amount) to Poplar Spring are very much appreciated. \nBring a chair\, a water bottle\, and anything else you need for this outdoor event. \nFor further information\, see their [website](https://www.animalsanctuary.org/events/annual-events/) \nPlease note that VSDC will not have a table at this event but we are pleased to support and promote the open house. Be sure to direct all inquiries to the organizers at Poplar Spring. \nFor those who want to offer a ride to others or are looking for a ride to the Open House\, please use the chat and message board on this page to be in contact. Please exercise caution and be careful not to share your personal info openly. \nBy coming to this event\, we expect you to follow the code of conduct found at [Policies – VSDC – Veg Society of DC](https://vsdc.org/policies/). \nvvvvvvvvvvvvvvvvvvvvvvvvvvvvvvvvvvvvvvvvvvvvvvvvvvvvvvvvvvvvvvvvvvvvvv \n[VSDC](www.vsdc.org) is a clear and consistent voice for improving the lives of all beings through education on the benefits of a vegan diet & lifestyle. Sharing food is the bond that brings families together; so it is with VSDC. From simply “breaking bread” to experiencing delicious and nutritious vegan foods from around the world\, we make your journey easier\, enjoyable & meaningful. \n**VSDC. Creating communities. For your health\, the animals\, and the planet.**
URL:https://www.vkind.com/vegan-events/poplar-spring-animal-sanctuary-open-house-vsdc-meetup-gathering-at-2-pm/
LOCATION:Poplar Spring Animal Sanctuary\, 15200 Mount Nebo Rd M\, Poolesville\, MD\, 20837\, United States
ATTACH;FMTTYPE=image/jpeg:https://www.vkind.com/wp-content/uploads/2023/08/1024x576-33tEtE.tmp_.jpg
GEO:39.10444;-77.44823
X-APPLE-STRUCTURED-LOCATION;VALUE=URI;X-ADDRESS=Poplar Spring Animal Sanctuary 15200 Mount Nebo Rd M Poolesville MD 20837 United States;X-APPLE-RADIUS=500;X-TITLE=15200 Mount Nebo Rd M:geo:-77.44823,39.10444
END:VEVENT
BEGIN:VEVENT
DTSTART;TZID=-04:00:20230826T100000
DTEND;TZID=-04:00:20230826T120000
DTSTAMP:20260422T124455
CREATED:20230721T044104Z
LAST-MODIFIED:20230826T061549Z
UID:10000583-1693044000-1693051200@www.vkind.com
SUMMARY:Poplar Spring Animal Sanctuary VSDC Members-only Volunteer Day
DESCRIPTION:Join us for a volunteer day at Poplar Spring Animal Sanctuary. Poplar can only accommodate 20 volunteers so we are limiting this to **current dues-paying** **VSDC members only**. You must be a paid member to attend. \nIf you are not already and want to become a paying VSDC member\, you can join now by visiting [http://vsdc.org](https://vsdc.org/join/#join). \nIf you are signed up here to join us for this volunteer event\, but ARE NOT a paying member of VSDC\, we will have to remove you to make room for members to attend. You will have 24 hours to become a member from the time you sign up here. Please visit [https://vsdc.org/join/#join](https://vsdc.org/join/#join) to become a paying member of VSDC. \nVolunteer tasks will range from requiring some mobility and strength to low impact activities. It is highly recommended you wear clothing and shoes that can get dirty. \nThere will not be any lunch provided. Please bring your own meal or snacks. \n*When you sign up to join\, you automatically acknowledge [VSDC’s Liability Waiver](https://vsdc.org/activity-waiver/)* \n*By coming to this event\, we expect you will follow the code of conduct found at [Policies – VSDC – Veg Society of DC](https://vsdc.org/policies)* \nVSDC (http://www.vsdc.org) is a clear and consistent voice for improving the lives of all beings through education on the benefits of a vegan diet & lifestyle. Sharing food is the bond that brings families together; so it is with VSDC. From simply “breaking bread” to experiencing delicious and nutritious vegan foods from around the world\, we make your journey easier\, enjoyable & meaningful. \n**VSDC. Creating communities. For your health\, the animals\, and the planet.**
URL:https://www.vkind.com/vegan-events/poplar-spring-animal-sanctuary-vsdc-members-only-volunteer-day-3/
LOCATION:Poplar Spring Animal Sanctuary\, 15200 Mount Nebo Rd M\, Poolesville\, MD\, 20837\, United States
ATTACH;FMTTYPE=image/jpeg:https://www.vkind.com/wp-content/uploads/2023/02/1024x576-VuK68g.tmp_.jpg
GEO:39.10444;-77.44823
X-APPLE-STRUCTURED-LOCATION;VALUE=URI;X-ADDRESS=Poplar Spring Animal Sanctuary 15200 Mount Nebo Rd M Poolesville MD 20837 United States;X-APPLE-RADIUS=500;X-TITLE=15200 Mount Nebo Rd M:geo:-77.44823,39.10444
END:VEVENT
BEGIN:VEVENT
DTSTART;TZID=-04:00:20230618T100000
DTEND;TZID=-04:00:20230618T120000
DTSTAMP:20260422T124455
CREATED:20230412T175106Z
LAST-MODIFIED:20230615T170045Z
UID:10000497-1687082400-1687089600@www.vkind.com
SUMMARY:Poplar Spring Animal Sanctuary VSDC Members-only Volunteer Day
DESCRIPTION:Join us for a volunteer day at Poplar Spring Animal Sanctuary. Poplar can only accommodate 20 volunteers so we are limiting this to **current dues-paying** **VSDC members only**. You must be a paid member to attend. \nIf you are not already and want to become a paying VSDC member\, you can join now by visiting [http://vsdc.org](https://vsdc.org/join/#join). \nIf you are signed up here to join us for this volunteer event\, but ARE NOT a paying member of VSDC\, we will have to remove you to make room for members to attend. You will have 24 hours to become a member from the time you sign up here. Please visit [https://vsdc.org/join/#join](https://vsdc.org/join/#join) to become a paying member of VSDC. \nVolunteer tasks will range from requiring some mobility and strength to low impact activities. It is highly recommended you wear clothing and shoes that can get dirty. \nThere will not be any lunch provided. Please bring your own meal or snacks. \n*When you sign up to join\, you automatically acknowledge [VSDC’s Liability Waiver](https://vsdc.org/activity-waiver/)*\n*By coming to this event\, we expect you will follow the code of conduct found at [Policies – VSDC – Veg Society of DC](https://vsdc.org/policies)* \nVSDC (http://www.vsdc.org) is a clear and consistent voice for improving the lives of all beings through education on the benefits of a vegan diet & lifestyle. Sharing food is the bond that brings families together; so it is with VSDC. From simply “breaking bread” to experiencing delicious and nutritious vegan foods from around the world\, we make your journey easier\, enjoyable & meaningful. \n**VSDC. Creating communities. For your health\, the animals\, and the planet.**
URL:https://www.vkind.com/vegan-events/poplar-spring-animal-sanctuary-vsdc-members-only-volunteer-day-2/
LOCATION:Poplar Spring Animal Sanctuary\, 15200 Mount Nebo Rd M\, Poolesville\, MD\, 20837\, United States
ATTACH;FMTTYPE=image/jpeg:https://www.vkind.com/wp-content/uploads/2023/02/1024x576-VuK68g.tmp_.jpg
GEO:39.10444;-77.44823
X-APPLE-STRUCTURED-LOCATION;VALUE=URI;X-ADDRESS=Poplar Spring Animal Sanctuary 15200 Mount Nebo Rd M Poolesville MD 20837 United States;X-APPLE-RADIUS=500;X-TITLE=15200 Mount Nebo Rd M:geo:-77.44823,39.10444
END:VEVENT
BEGIN:VEVENT
DTSTART;TZID=-05:00:20230311T100000
DTEND;TZID=-05:00:20230312T120000
DTSTAMP:20260422T124455
CREATED:20230212T102015Z
LAST-MODIFIED:20230312T135304Z
UID:10000441-1678528800-1678622400@www.vkind.com
SUMMARY:Poplar Spring Animal Sanctuary VSDC Members Only Volunteer Day
DESCRIPTION:Join us for a volunteer day at Poplar Spring Animal Sanctuary. Poplar can only accommodate 20 volunteers so we are limiting this to **current dues-paying** **VSDC members only**. You must be a paid member to attend. \nIf you are not a VSDC member and would like to join\, you may do so [here.](https://vsdc.org/membership/) \n**PLEASE FOLLOW THE DIRECTIONS BELOW TO REGISTER** \nYou must register at [https://vsdc.org/memberevents/#!event/2023/3/11/poplar-spring-volunteer-day ](https://vsdc.org/memberevents/#!event/2023/3/11/poplar-spring-volunteer-day) before you RSVP. You will need your VSDC member login to register. Also please RSVP on Meetup and indicate if you have registered. If you RSVP yes on Meetup and you haven’t registered you will be removed. **We are limited to 20 people so please change your RSVP to no if you can’t go so someone else can.** Once your RSVP is changed to no we will cancel your registration so someone else can register. We will be checking registrations at the event. If you have not registered you will not be permitted to attend so we can keep our attendance at 20. This is for the safety of the volunteers and the animals at the sanctuary. \nThis our first attempt at a members only event using this system so please bear with us. If you have any questions please message me. \n*When you sign up to join\, you automatically acknowledge [VSDC’s Liability Waiver](https://vsdc.org/activity-waiver/)*\nVSDC (http://www.vsdc.org) is a clear and consistent voice for improving the lives of all beings through education on the benefits of a vegan diet & lifestyle. Sharing food is the bond that brings families together; so it is with VSDC. From simply “breaking bread” to experiencing delicious and nutritious vegan foods from around the world\, we make your journey easier\, enjoyable & meaningful.\nBy coming to this event\, we expect you will follow the code of conduct found at [Policies – VSDC – Veg Society of DC](https://vsdc.org/policies)
URL:https://www.vkind.com/vegan-events/poplar-spring-animal-sanctuary-vsdc-members-only-volunteer-day/
LOCATION:Poplar Spring Animal Sanctuary\, 15200 Mount Nebo Rd M\, Poolesville\, MD\, 20837\, United States
ATTACH;FMTTYPE=image/jpeg:https://www.vkind.com/wp-content/uploads/2023/02/1024x576-VuK68g.tmp_.jpg
GEO:39.10444;-77.44823
X-APPLE-STRUCTURED-LOCATION;VALUE=URI;X-ADDRESS=Poplar Spring Animal Sanctuary 15200 Mount Nebo Rd M Poolesville MD 20837 United States;X-APPLE-RADIUS=500;X-TITLE=15200 Mount Nebo Rd M:geo:-77.44823,39.10444
END:VEVENT
END:VCALENDAR