BEGIN:VCALENDAR
VERSION:2.0
PRODID:-//Vkind - ECPv6.15.14//NONSGML v1.0//EN
CALSCALE:GREGORIAN
METHOD:PUBLISH
X-WR-CALNAME:Vkind
X-ORIGINAL-URL:https://www.vkind.com
X-WR-CALDESC:Events for Vkind
REFRESH-INTERVAL;VALUE=DURATION:PT1H
X-Robots-Tag:noindex
X-PUBLISHED-TTL:PT1H
BEGIN:VTIMEZONE
TZID:-05:00
END:VTIMEZONE
BEGIN:VEVENT
DTSTART;TZID=-05:00:20240207T183000
DTEND;TZID=-05:00:20240207T210000
DTSTAMP:20260423T153909
CREATED:20240113T194538Z
LAST-MODIFIED:20240207T030019Z
UID:10007624-1707330600-1707339600@www.vkind.com
SUMMARY:Vegan Dinner @ PLANTA Williamsburg #Brooklyndining
DESCRIPTION:**Arrive any time between 6:30pm and 9:00pm and stay as long as you want or leave when you need to. Arriving at 7:00pm or 8:00pm is perfectly great.** \nJoin us for a wonderful dinner event @ PLANTA Williamsburg. The venue is Brooklyn’s favorite plant-based culinary experience. A short walk from The Opera House\, Grand Ferry and Domino Park and the Old Man Comedy Club\, join us at PLANTA for innovative dishes crafted with a diverse array of ingredients to the chic and contemporary ambiance. PLANTA in Williamsburg stands as a destination where ethical dining meets culinary excellence in the heart of New York City. Additionally\, it is good to note that PLANTA ensures all of their produce and supplies are delivered in reusable containers to reduce waste and their to-go packaging is made from 100% compostable materials. \nFor more information\, check out their webpage here – [https://www.plantarestaurants.com/location/planta-williamsburg-new-york-city/](https://www.plantarestaurants.com/location/planta-williamsburg-new-york-city/) or Follow them on Instagram @PLANTA \nGOOGLE REVIEWS – 4.6/5 stars \nDaniela Triana – “When you walk in you immediately get a sense of the gorgeous aesthetic\, which I’m a sucker for. Definitely photo worthy\, and great atmosphere for date night or a girls night – or even just because. We went for dinner after a fun girls day and order a bunch of different things. Highly suggest the Bang Bang Broccoli. We didn’t even get a chance to get photos of it because it was gone in 5 seconds. I personally had 3 Herb Your Enthusiasms. There is a ton of ice in the cup\, which I could do without\, but the flavors are complimentary. Other favorites were: Whipped Ricotta\, Bao Slider\, 1000 layer potato and the big cookie for dessert” \nValeria Larriviere – “I’ve been here a handful of times now and it is always such a pleasant and delicious experience! No matter who I’ve gone with\, we always end up leaving with full bellies and smiles on our faces. Noah\, who has been one of my servers twice already\, is such a gem! Always has great recommendations and is very charismatic and attentive. All of the food I’ve had has been incredible but here are some stand-outs: the new Mushroom roll (the caviar crunch roll) was absolutely spectacular and our favorite dish of the night the last time I went. I also always get their Baby Gem ceasar! The Bang Bang Broccoli and Crispy Potatoes are also some of my personal favorites\, but you really can’t go wrong.” \n**FOR OUR NEW MEMBERS:** this is an incredibly friendly and welcoming group. We are a FUN group. Join us for a stellar evening of lively conversations and great food and drinks with fellow vegetarians and vegans. \nEveryone pays for themselves. Easy! \n**TRAIN DIRECTIONS:** Take the L Train to Bedford Ave (Exit via Bedford Ave & N 7th St at SE corner) and walk just 0.6 mile/13 min walk to Planta Williamsburg. \nWe would love to have you join us – Mark the day! \n**Arrive any time between 6:30pm and 9:00pm and stay as long as you want or leave when you need to. Arriving at 7:00pm or 8:00pm is perfectly great.** \nKarthik :))\nPhoto Courtesy – https://vegoutmag.com/news/planta-queen
URL:https://www.vkind.com/vegan-events/vegan-dinner-planta-williamsburg-brooklyndining/
LOCATION:PLANTA\, 316 Wythe Ave\, Brooklyn\, NY\, 11249\, United States
ATTACH;FMTTYPE=image/jpeg:https://www.vkind.com/wp-content/uploads/2024/01/1024x576-tlyVnf.tmp_.jpg
GEO:40.715473;-73.96484
X-APPLE-STRUCTURED-LOCATION;VALUE=URI;X-ADDRESS=PLANTA 316 Wythe Ave Brooklyn NY 11249 United States;X-APPLE-RADIUS=500;X-TITLE=316 Wythe Ave:geo:-73.96484,40.715473
END:VEVENT
BEGIN:VEVENT
DTSTART;TZID=-05:00:20240130T160000
DTEND;TZID=-05:00:20240130T180000
DTSTAMP:20260423T153909
CREATED:20231224T201545Z
LAST-MODIFIED:20240128T121529Z
UID:10007608-1706630400-1706637600@www.vkind.com
SUMMARY:VSDC Happy Hour at Planta in Bethesda
DESCRIPTION:**Update:** We are delighted to see such a strong interest in this event. We have contacted Planta\, and they cannot offer us additional space without a significant fee. We hope this event is a great success and part of a new series of events\, and we are sorry that not everyone can join us.\n________________________ \nPlease join your fellow VSDCers to enjoy the tasty happy hour menu at the all-vegan Planta Restaurant in Bethesda. You can [check out the menu](https://media-cdn.getbento.com/accounts/0dd435255ed47ef59b07b494968680e4/media/bQPbGA0HReKrnwynFOR5_hh_brwd_wburg_to_atl_hh_12_7_23_digital.pdf). We will raise a glass in honor of Veganuary! \n**Update Your RSVP**\nOut of respect for the restaurant and others interested in attending this limited-space event\, please update your RSVP promptly as your schedule changes. \n**Transportation**\nThe restaurant is within walking distance from the Bethesda station on the Red Line. There is paid parking nearby. \n**VSDC: More Than A Meetup**\nWe are so glad to have you as part of The Veg Society of DC Vegan Meetup group\, and we enjoy seeing you at our events. Did you know that [VSDC](https://vsdc.org/) is a nonprofit organization with membership benefits? \nWith VSDC membership\, you will save money at area restaurants and businesses\, attend VSDC member-only events\, and\, most importantly\, support us as a clear and consistent voice for improving the lives of all beings through community building and education centered on the benefits of a vegan diet and lifestyle. \nThe membership fee is minimal\, but the impact is significant! [Become a member of VSDC](https://vsdc.org/membership/). \n**Liability Waiver and Code of Conduct**\nWhen you sign up to attend\, you automatically acknowledge [VSDC’s Liability Waiver](https://vsdc.org/activity-waiver/) and commit to follow the code of conduct found at [Policies – VSDC – Veg Society of DC](https://vsdc.org/policies/).
URL:https://www.vkind.com/vegan-events/happy-hour-at-planta-in-bethesda/
LOCATION:PLANTA\, 316 Wythe Ave\, Brooklyn\, NY\, 11249\, United States
ATTACH;FMTTYPE=image/jpeg:https://www.vkind.com/wp-content/uploads/2023/12/1024x576-TZvdBg.tmp_.jpg
GEO:40.715473;-73.96484
X-APPLE-STRUCTURED-LOCATION;VALUE=URI;X-ADDRESS=PLANTA 316 Wythe Ave Brooklyn NY 11249 United States;X-APPLE-RADIUS=500;X-TITLE=316 Wythe Ave:geo:-73.96484,40.715473
END:VEVENT
END:VCALENDAR