BEGIN:VCALENDAR
VERSION:2.0
PRODID:-//Vkind - ECPv6.15.14//NONSGML v1.0//EN
CALSCALE:GREGORIAN
METHOD:PUBLISH
X-WR-CALNAME:Vkind
X-ORIGINAL-URL:https://www.vkind.com
X-WR-CALDESC:Events for Vkind
REFRESH-INTERVAL;VALUE=DURATION:PT1H
X-Robots-Tag:noindex
X-PUBLISHED-TTL:PT1H
BEGIN:VTIMEZONE
TZID:Europe/Berlin
BEGIN:DAYLIGHT
TZOFFSETFROM:+0100
TZOFFSETTO:+0200
TZNAME:CEST
DTSTART:20220327T010000
END:DAYLIGHT
BEGIN:STANDARD
TZOFFSETFROM:+0200
TZOFFSETTO:+0100
TZNAME:CET
DTSTART:20221030T010000
END:STANDARD
BEGIN:DAYLIGHT
TZOFFSETFROM:+0100
TZOFFSETTO:+0200
TZNAME:CEST
DTSTART:20230326T010000
END:DAYLIGHT
BEGIN:STANDARD
TZOFFSETFROM:+0200
TZOFFSETTO:+0100
TZNAME:CET
DTSTART:20231029T010000
END:STANDARD
BEGIN:DAYLIGHT
TZOFFSETFROM:+0100
TZOFFSETTO:+0200
TZNAME:CEST
DTSTART:20240331T010000
END:DAYLIGHT
BEGIN:STANDARD
TZOFFSETFROM:+0200
TZOFFSETTO:+0100
TZNAME:CET
DTSTART:20241027T010000
END:STANDARD
END:VTIMEZONE
BEGIN:VEVENT
DTSTART;TZID=Europe/Berlin:20230824T183000
DTEND;TZID=Europe/Berlin:20230824T213000
DTSTAMP:20260423T212823
CREATED:20230727T172140Z
LAST-MODIFIED:20230727T172140Z
UID:10007463-1692901800-1692912600@www.vkind.com
SUMMARY:Date Deficient - Vegan Dating Night
DESCRIPTION:We’ve been hearing you’re experiencing some serious Date Deficiency…so we’ve decided to help a little! \nWould love to go on a date knowing you already have something important in common? Or simply want to meet like-minded folx? Then this event is for you. \nWe’ll have a max. of 18 people – everyone will talk to everyone (in a speed dating form) to explore all opportunities for connection – either for romance\, friendship or simple networking! We’ll mingle\, we’ll chat\, we’ll laugh and we’ll socialize – all that while drinking delicious vegan wine (also alcohol-free). \nThe ticket includes a welcoming drink (wine/beer/lemo/tea)\, Eventbrite fee\, VAT and a fee for the event host – Viktoria\, who will make sure you get to talk to everyone and provide some ice-breaking activities. \n!!! This event DOES NOT come with an assumed normativity – all sexualities and identities are what makes the world beautiful <3 If you are interested in talking to certain people only\, this event is probably not for you:) \n*Please purchase your tickets carefully as there are no cancellations or refunds. The tickets are non transferable to other events / dates. If you decide / cannot join afterall\, you can sell your ticket or give it to a friend!*
URL:https://www.vkind.com/vegan-events/date-deficient-vegan-dating-night/
LOCATION:Plant Base\, Prenzlauer Allee 208\, Berlin\, Germany
ATTACH;FMTTYPE=image/jpeg:https://www.vkind.com/wp-content/uploads/2023/07/Date-Deficient-Vegan-Dating-Night.jpg
GEO:52.5369797;13.4220351
X-APPLE-STRUCTURED-LOCATION;VALUE=URI;X-ADDRESS=Plant Base Prenzlauer Allee 208 Berlin Germany;X-APPLE-RADIUS=500;X-TITLE=Prenzlauer Allee 208:geo:13.4220351,52.5369797
END:VEVENT
BEGIN:VEVENT
DTSTART;TZID=Europe/Berlin:20230817T183000
DTEND;TZID=Europe/Berlin:20230817T220000
DTSTAMP:20260423T212823
CREATED:20230727T175306Z
LAST-MODIFIED:20230727T175306Z
UID:10007464-1692297000-1692309600@www.vkind.com
SUMMARY:Vegan Polish Dumplings Workshop
DESCRIPTION:If there is one thing everybody knows about polish food it’s the pierogi – delicious traditional dumplings. Come by and enjoy them – VEGANIZED – cause who said vegans have to miss out on anything? \nPierogi are the flag dish and the absolute pride of polish cuisine. Join our workshop to enjoy the flavor of those delicious dumplings and learn how to make them from scratch! \nThe workshop is interactive and hands-on – you will make your own dough and dumplings\, cook them and enjoy freshly made (dinner time\, yay!). You can also bring some tupperware and take leftovers home. Naturally\, you’ll be provided with everything you need and guided step by step so that you can make pierogis yourself any time you want. \nYou will also get how-to handouts\, ideas for other fillings and insider tips that will speed up and ease the dumplings making process. \n*The workshop is in English* \n*Please purchase your tickets carefully as there are no cancellations or refunds. The tickets are non transferable to other events / dates. If you decide / cannot join afterall\, you can sell your ticket or give it to a friend!*
URL:https://www.vkind.com/vegan-events/vegan-polish-dumplings-workshop/
LOCATION:Plant Base\, Prenzlauer Allee 208\, Berlin\, Germany
ATTACH;FMTTYPE=image/jpeg:https://www.vkind.com/wp-content/uploads/2023/07/Vegan-Polish-Dumplings-Workshop.jpg
GEO:52.5369797;13.4220351
X-APPLE-STRUCTURED-LOCATION;VALUE=URI;X-ADDRESS=Plant Base Prenzlauer Allee 208 Berlin Germany;X-APPLE-RADIUS=500;X-TITLE=Prenzlauer Allee 208:geo:13.4220351,52.5369797
END:VEVENT
BEGIN:VEVENT
DTSTART;TZID=Europe/Berlin:20230810T183000
DTEND;TZID=Europe/Berlin:20230810T220000
DTSTAMP:20260423T212823
CREATED:20230727T171426Z
LAST-MODIFIED:20230727T171426Z
UID:10007462-1691692200-1691704800@www.vkind.com
SUMMARY:Vegan Latte Art - Barista Workshop
DESCRIPTION:How to properly steam milk for the perfect latte? How to create a rosette? And how does all of this change once we use plant-based milk? If you want the answers to these questions and more – this is the perfect workshop for you. \nWe’ll go through basic coffee knowledge\, learn about the structure of a perfect espresso shot\, blind-taste different plant milks\, and explain everything you need to know to properly steam vegan milk. But most importantly\, we’ll teach you how to wrap your head (and hands) around pouring milk and creating neat latte art. You’ll leave with a belly full of self-made drinks\, a head full of knowledge\, inspiration\, and hands carrying a helpful handout with recipes and notes\, a box of milk and one of our signature spice mixes. \n<3 The class is partially powered by VLY mylk <3 \n*The workshop is in English* \n*Please purchase your tickets carefully as there are no cancellations or refunds. The tickets are non transferable to other events / dates. If you decide / cannot join afterall\, you can sell your ticket or give it to a friend!*
URL:https://www.vkind.com/vegan-events/vegan-latte-art-barista-workshop/
LOCATION:Plant Base\, Prenzlauer Allee 208\, Berlin\, Germany
ATTACH;FMTTYPE=image/jpeg:https://www.vkind.com/wp-content/uploads/2023/07/Vegan-Latte-Art-Barista-Workshop.jpg
GEO:52.5369797;13.4220351
X-APPLE-STRUCTURED-LOCATION;VALUE=URI;X-ADDRESS=Plant Base Prenzlauer Allee 208 Berlin Germany;X-APPLE-RADIUS=500;X-TITLE=Prenzlauer Allee 208:geo:13.4220351,52.5369797
END:VEVENT
END:VCALENDAR