BEGIN:VCALENDAR
VERSION:2.0
PRODID:-//Vkind - ECPv6.15.14//NONSGML v1.0//EN
CALSCALE:GREGORIAN
METHOD:PUBLISH
X-WR-CALNAME:Vkind
X-ORIGINAL-URL:https://www.vkind.com
X-WR-CALDESC:Events for Vkind
REFRESH-INTERVAL;VALUE=DURATION:PT1H
X-Robots-Tag:noindex
X-PUBLISHED-TTL:PT1H
BEGIN:VTIMEZONE
TZID:-05:00
END:VTIMEZONE
BEGIN:VTIMEZONE
TZID:-04:00
END:VTIMEZONE
BEGIN:VEVENT
DTSTART;TZID=-05:00:20240130T190000
DTEND;TZID=-05:00:20240130T200000
DTSTAMP:20260424T004754
CREATED:20231220T175547Z
LAST-MODIFIED:20240131T004524Z
UID:10007604-1706641200-1706644800@www.vkind.com
SUMMARY:VSDC LGBTQIA+  Bowling\, Take Two at Pinstripes Georgetown
DESCRIPTION:VSDC LGBTQIA+ is excited to announce Bowling\, Take Two at Pinstripes Georgetown! This has been a long time in the works\, and apologies for the gap between events. Our Coordinator is back and ready to see your beautiful faces! So come one\, come all\, and let’s enjoy some good old fashioned bowling. Come ready to throw some balls and hang out with the coolest vegans and veg folks around. Let’s warm each other with good cheer this winter. \nWe have a reservation for two lanes\, so we need at least ten people\, and up to fourteen people can come! \n**WHAT: Bowling Night** \n**COST: $20 per person per hour\, which includes shoes!** \n**WHERE: Pinstripes Georgetown**\n1064 Wisconsin Ave\, Washington DC\nStreet parking and paid lot nearby.\nBus stop nearby as well. \n**WHEN: Tuesday\, January 30\, 2024** \n**WHO: You! And anyone you’d like to bring\, including people of all ages.** \n**FOOD: They have vegan and gluten-free options!** \nThis event is planned to be part of a series of events once a month: a great way to patronize local business\, enjoy delicious vegan food\, play games together\, and meet LGBTQIA+ vegans/vegetarians/veg-curious people. \n***Please RSVP quickly\, so we can make a reservation with an accurate head-count.*** \n*In an effort to reduce no shows for space-limited events\, we are now tracking those who fail to show up and do not change their RSVP beforehand. After three strikes you’re out – meaning that you will not be able to attend future space-limited VSDC events. It is unfair to those on the waitlist and to the restaurant when there are no-shows.* \nWhen you sign up to join\, you automatically acknowledge [VSDC’s Liability Waiver](https://vsdc.org/activity-waiver/) \nBy coming to this event\, we expect you to follow the code of conduct found at [Policies – VSDC – Veg Society of DC](https://vsdc.org/policies/) \n*** \n**VSDC: More Than A Meetup** \nWe are so glad to have you as part of The Veg Society of DC Vegan Meetup group\, and we enjoy seeing you at our events. Did you know that [VSDC](http://www.vsdc.org/) is a nonprofit organization with membership benefits?\nWith VSDC membership\, you will save money at area restaurants and businesses\, attend VSDC member-only events\, and\, most importantly\, support us as a clear and consistent voice for improving the lives of all beings through community-building and education centered on the benefits of a vegan diet and lifestyle.\nThe VSDC membership fee is minimal\, but the impact is significant! [Become a member of VSDC](https://vsdc.org/membership/). \n**VSDC. Creating communities. For your health\, the animals\, and the planet.**
URL:https://www.vkind.com/vegan-events/vsdc-lgbtqia-bowling-take-two-at-bowlero-arlington/
LOCATION:Pinstripes\, 1064 Wisconsin Ave NW\, Washington\, DC\, 20007\, us
ATTACH;FMTTYPE=image/jpeg:https://www.vkind.com/wp-content/uploads/2024/01/1024x576-DDj2Wk.tmp_.jpg
GEO:38.904522;-77.06305
X-APPLE-STRUCTURED-LOCATION;VALUE=URI;X-ADDRESS=Pinstripes 1064 Wisconsin Ave NW Washington DC 20007 us;X-APPLE-RADIUS=500;X-TITLE=1064 Wisconsin Ave NW:geo:-77.06305,38.904522
END:VEVENT
BEGIN:VEVENT
DTSTART;TZID=-04:00:20230617T160000
DTEND;TZID=-04:00:20230617T180000
DTSTAMP:20260424T004754
CREATED:20230527T210546Z
LAST-MODIFIED:20230615T170044Z
UID:10000529-1687017600-1687024800@www.vkind.com
SUMMARY:VSDC LGBTQIA+  Bowling / Bocce and Vegan Food: Pinstripes\, Bethesda MD
DESCRIPTION:VSDC is so excited for the third meeting of the LGBTQIA+ subgroup! Because it is so important to have community\, let’s continue our monthly tradition of gathering to celebrate our intersection of queerness and vegan lifestyles. We invite vegans and veg-curious folks to come bowling at Pinstripes Bethesda. The event is on Saturday June 17th from 4pm to 6pm. This sounds like the kind of fun that could get booked up quickly\, so please RSVP ASAP so we can make a reservation! Bocce courts can hold up to 10 people\, and we can have 8 people to a bowling lane. \nWHAT: Late lunch/early dinner\, bowling\, and bocce at Pinstripes Bethesda. This is part of a series of events once a month: a great way to patronize local business\, enjoy delicious vegan food\, play games together\, and meet LGBTQIA+ vegans/veg-curious people. \nFEE: $10 per person for bocce\, or $20 per person including shoes for bowling. \nFOOD: They have a full vegan menu! Attendees can choose to order some food to share. \nWHO: All VSDC and/or meetup members are invited! Bring fellow queers\, even if they’re not vegan. It’s always fun to extend community! Who doesn’t like bowling? (And if you don’t\, they also have bocce!) \nWHEN: Saturday\, June 17th\, 4pm-6pm \nWHERE: Pinstripes Bethesda\, 11920 Grand Park Avenue\, Bethesda\, MD. (We chose this location because there is a Metro very nearby\, unlike their Georgetown location. The nearest Metro stop is North Bethesda\, which is only a four-block walk from the venue.) \nPARKING: There is street parking; please be sure to read and follow all parking signs and instructions. \n***Please RSVP quickly\, so we can make a reservation with an accurate head-count.*** \n*In an effort to reduce no shows for space-limited events\, we are now tracking those who fail to show up and do not change their RSVP beforehand. After three strikes you’re out – meaning that you will not be able to attend future space-limited VSDC events. It is unfair to those on the waitlist and to the restaurant when there are no-shows.* \nWhen you sign up to join\, you automatically acknowledge [VSDC’s Liability Waiver](https://vsdc.org/activity-waiver/) \nBy coming to this event\, we expect you to follow the code of conduct found at [Policies – VSDC – Veg Society of DC](https://vsdc.org/policies/) \nLooking forward to seeing you all there! \nvvvvvvvvvvvvvvvvvvvvvvvvvvvvvvvvvvvvvvvvvvvvvvvvvvvvvvvvvvvvvvv \nVSDC (http://www.vsdc.org) is a clear and consistent voice for improving the lives of all beings through education on the benefits of a vegan diet & lifestyle. Sharing food is the bond that brings families together; so it is with VSDC. From simply “breaking bread” to experiencing delicious and nutritious vegan foods from around the world\, we make your journey easier\, enjoyable & meaningful. \n**VSDC. Creating communities. For your health\, the animals\, and the planet.**
URL:https://www.vkind.com/vegan-events/vsdc-lgbtqia-bowling-bocce-and-vegan-food-pinstripes-bethesda-md/
LOCATION:Pinstripes\, 1064 Wisconsin Ave NW\, Washington\, DC\, 20007\, us
ATTACH;FMTTYPE=image/jpeg:https://www.vkind.com/wp-content/uploads/2023/05/1024x576-cnVq5P.tmp_.jpg
GEO:38.904522;-77.06305
X-APPLE-STRUCTURED-LOCATION;VALUE=URI;X-ADDRESS=Pinstripes 1064 Wisconsin Ave NW Washington DC 20007 us;X-APPLE-RADIUS=500;X-TITLE=1064 Wisconsin Ave NW:geo:-77.06305,38.904522
END:VEVENT
END:VCALENDAR