BEGIN:VCALENDAR
VERSION:2.0
PRODID:-//Vkind - ECPv6.15.14//NONSGML v1.0//EN
CALSCALE:GREGORIAN
METHOD:PUBLISH
X-WR-CALNAME:Vkind
X-ORIGINAL-URL:https://www.vkind.com
X-WR-CALDESC:Events for Vkind
REFRESH-INTERVAL;VALUE=DURATION:PT1H
X-Robots-Tag:noindex
X-PUBLISHED-TTL:PT1H
BEGIN:VTIMEZONE
TZID:America/New_York
BEGIN:DAYLIGHT
TZOFFSETFROM:-0500
TZOFFSETTO:-0400
TZNAME:EDT
DTSTART:20200308T070000
END:DAYLIGHT
BEGIN:STANDARD
TZOFFSETFROM:-0400
TZOFFSETTO:-0500
TZNAME:EST
DTSTART:20201101T060000
END:STANDARD
BEGIN:DAYLIGHT
TZOFFSETFROM:-0500
TZOFFSETTO:-0400
TZNAME:EDT
DTSTART:20210314T070000
END:DAYLIGHT
BEGIN:STANDARD
TZOFFSETFROM:-0400
TZOFFSETTO:-0500
TZNAME:EST
DTSTART:20211107T060000
END:STANDARD
BEGIN:DAYLIGHT
TZOFFSETFROM:-0500
TZOFFSETTO:-0400
TZNAME:EDT
DTSTART:20220313T070000
END:DAYLIGHT
BEGIN:STANDARD
TZOFFSETFROM:-0400
TZOFFSETTO:-0500
TZNAME:EST
DTSTART:20221106T060000
END:STANDARD
END:VTIMEZONE
BEGIN:VEVENT
DTSTART;TZID=America/New_York:20211211T080000
DTEND;TZID=America/New_York:20211211T130000
DTSTAMP:20260424T010642
CREATED:20210803T141219Z
LAST-MODIFIED:20210803T141219Z
UID:10000213-1639209600-1639227600@www.vkind.com
SUMMARY:The Vegan Outlet- Central Florida
DESCRIPTION:Central Florida’s Plant-Based Plug In. \nFree monthly event on the 2nd Saturday every month. Family and pet-friendly! \nAn all VEGAN Event with over 20 vendors including food\, crafts\, art\, desserts\, and drinks \nLive music plus indoor and outdoor seating available \nOutdoor Event with Indoor space. Beer & Wine served on site
URL:https://www.vkind.com/vegan-events/the-vegan-outlet-central-florida/2021-12-11/
LOCATION:Persimmon Hollow Brewing Company\, 227 N Eola Dr\, Orlando\, FL\, 32801\, United States
ATTACH;FMTTYPE=image/jpeg:https://www.vkind.com/wp-content/uploads/2021/08/vegan-outlet.jpg
GEO:28.5455731;-81.3695437
X-APPLE-STRUCTURED-LOCATION;VALUE=URI;X-ADDRESS=Persimmon Hollow Brewing Company 227 N Eola Dr Orlando FL 32801 United States;X-APPLE-RADIUS=500;X-TITLE=227 N Eola Dr:geo:-81.3695437,28.5455731
END:VEVENT
BEGIN:VEVENT
DTSTART;TZID=America/New_York:20211113T080000
DTEND;TZID=America/New_York:20211113T130000
DTSTAMP:20260424T010642
CREATED:20210803T141219Z
LAST-MODIFIED:20210803T141219Z
UID:10000212-1636790400-1636808400@www.vkind.com
SUMMARY:The Vegan Outlet- Central Florida
DESCRIPTION:Central Florida’s Plant-Based Plug In. \nFree monthly event on the 2nd Saturday every month. Family and pet-friendly! \nAn all VEGAN Event with over 20 vendors including food\, crafts\, art\, desserts\, and drinks \nLive music plus indoor and outdoor seating available \nOutdoor Event with Indoor space. Beer & Wine served on site
URL:https://www.vkind.com/vegan-events/the-vegan-outlet-central-florida/2021-11-13/
LOCATION:Persimmon Hollow Brewing Company\, 227 N Eola Dr\, Orlando\, FL\, 32801\, United States
ATTACH;FMTTYPE=image/jpeg:https://www.vkind.com/wp-content/uploads/2021/08/vegan-outlet.jpg
GEO:28.5455731;-81.3695437
X-APPLE-STRUCTURED-LOCATION;VALUE=URI;X-ADDRESS=Persimmon Hollow Brewing Company 227 N Eola Dr Orlando FL 32801 United States;X-APPLE-RADIUS=500;X-TITLE=227 N Eola Dr:geo:-81.3695437,28.5455731
END:VEVENT
BEGIN:VEVENT
DTSTART;TZID=America/New_York:20211009T080000
DTEND;TZID=America/New_York:20211009T130000
DTSTAMP:20260424T010642
CREATED:20210803T141219Z
LAST-MODIFIED:20210803T141219Z
UID:10000211-1633766400-1633784400@www.vkind.com
SUMMARY:The Vegan Outlet- Central Florida
DESCRIPTION:Central Florida’s Plant-Based Plug In. \nFree monthly event on the 2nd Saturday every month. Family and pet-friendly! \nAn all VEGAN Event with over 20 vendors including food\, crafts\, art\, desserts\, and drinks \nLive music plus indoor and outdoor seating available \nOutdoor Event with Indoor space. Beer & Wine served on site
URL:https://www.vkind.com/vegan-events/the-vegan-outlet-central-florida/2021-10-09/
LOCATION:Persimmon Hollow Brewing Company\, 227 N Eola Dr\, Orlando\, FL\, 32801\, United States
ATTACH;FMTTYPE=image/jpeg:https://www.vkind.com/wp-content/uploads/2021/08/vegan-outlet.jpg
GEO:28.5455731;-81.3695437
X-APPLE-STRUCTURED-LOCATION;VALUE=URI;X-ADDRESS=Persimmon Hollow Brewing Company 227 N Eola Dr Orlando FL 32801 United States;X-APPLE-RADIUS=500;X-TITLE=227 N Eola Dr:geo:-81.3695437,28.5455731
END:VEVENT
BEGIN:VEVENT
DTSTART;TZID=America/New_York:20210911T080000
DTEND;TZID=America/New_York:20210911T130000
DTSTAMP:20260424T010642
CREATED:20210803T141219Z
LAST-MODIFIED:20210803T141219Z
UID:10000210-1631347200-1631365200@www.vkind.com
SUMMARY:The Vegan Outlet- Central Florida
DESCRIPTION:Central Florida’s Plant-Based Plug In. \nFree monthly event on the 2nd Saturday every month. Family and pet-friendly! \nAn all VEGAN Event with over 20 vendors including food\, crafts\, art\, desserts\, and drinks \nLive music plus indoor and outdoor seating available \nOutdoor Event with Indoor space. Beer & Wine served on site
URL:https://www.vkind.com/vegan-events/the-vegan-outlet-central-florida/2021-09-11/
LOCATION:Persimmon Hollow Brewing Company\, 227 N Eola Dr\, Orlando\, FL\, 32801\, United States
ATTACH;FMTTYPE=image/jpeg:https://www.vkind.com/wp-content/uploads/2021/08/vegan-outlet.jpg
GEO:28.5455731;-81.3695437
X-APPLE-STRUCTURED-LOCATION;VALUE=URI;X-ADDRESS=Persimmon Hollow Brewing Company 227 N Eola Dr Orlando FL 32801 United States;X-APPLE-RADIUS=500;X-TITLE=227 N Eola Dr:geo:-81.3695437,28.5455731
END:VEVENT
BEGIN:VEVENT
DTSTART;TZID=America/New_York:20210814T080000
DTEND;TZID=America/New_York:20210814T130000
DTSTAMP:20260424T010642
CREATED:20210803T141219Z
LAST-MODIFIED:20210803T141219Z
UID:10000209-1628928000-1628946000@www.vkind.com
SUMMARY:The Vegan Outlet- Central Florida
DESCRIPTION:Central Florida’s Plant-Based Plug In. \nFree monthly event on the 2nd Saturday every month. Family and pet-friendly! \nAn all VEGAN Event with over 20 vendors including food\, crafts\, art\, desserts\, and drinks \nLive music plus indoor and outdoor seating available \nOutdoor Event with Indoor space. Beer & Wine served on site
URL:https://www.vkind.com/vegan-events/the-vegan-outlet-central-florida/2021-08-14/
LOCATION:Persimmon Hollow Brewing Company\, 227 N Eola Dr\, Orlando\, FL\, 32801\, United States
ATTACH;FMTTYPE=image/jpeg:https://www.vkind.com/wp-content/uploads/2021/08/vegan-outlet.jpg
GEO:28.5455731;-81.3695437
X-APPLE-STRUCTURED-LOCATION;VALUE=URI;X-ADDRESS=Persimmon Hollow Brewing Company 227 N Eola Dr Orlando FL 32801 United States;X-APPLE-RADIUS=500;X-TITLE=227 N Eola Dr:geo:-81.3695437,28.5455731
END:VEVENT
END:VCALENDAR