BEGIN:VCALENDAR
VERSION:2.0
PRODID:-//Vkind - ECPv6.15.14//NONSGML v1.0//EN
CALSCALE:GREGORIAN
METHOD:PUBLISH
X-ORIGINAL-URL:https://www.vkind.com
X-WR-CALDESC:Events for Vkind
REFRESH-INTERVAL;VALUE=DURATION:PT1H
X-Robots-Tag:noindex
X-PUBLISHED-TTL:PT1H
BEGIN:VTIMEZONE
TZID:-04:00
END:VTIMEZONE
BEGIN:VEVENT
DTSTART;TZID=-04:00:20230625T090000
DTEND;TZID=-04:00:20230625T141500
DTSTAMP:20260424T010225
CREATED:20230624T191539Z
LAST-MODIFIED:20230624T191539Z
UID:10000566-1687683600-1687702500@www.vkind.com
SUMMARY:Veggie Biking: DC - Bethesda loop with lunch at Planta
DESCRIPTION:Please join us for another Veggie Bike Ride looping around DC and Bethesda area. \nWe will ride south on Rock Creek trail via the Zoo towards Georgetown.\nFrom Georgetown\, we will take the Capital Crescent trail to Bethesda.\nWill be taking a lunch break at Planta in Bethesda downtown.\nAfter the lunch\, we will continue moving north and then north east towards Rock Creek Park. After reaching Rock Creek park\, we will take the Beach Drive (which is partially closed to vehicular traffic) towards the starting point. \nMeeting point: Rock Creek Park\, at [Parking Lot 1](https://goo.gl/maps/F6r1z1EmtrAQtSLM9)\nMeeting time: 9am\, June 25\nRoute: [https://goo.gl/maps/kY5fLdhBfLwDdDHY7](https://goo.gl/maps/kY5fLdhBfLwDdDHY7)\nLength: 24 miles\nDifficulty level: strenuous\nElevation change: 550 ft up and 550 ft down\nBike time: ~2.5 hours at moderate pace (~10 mph)\nTotal time: ~5 hours (including stops).\nBiking surface: paved\nRoute type: mostly paved trail\, some roads\nBreak at mid point: Planta\, Bethesda\nWeather: we will not be riding in rain\, windy (greater than 10mph) or cold (less that 50 F) conditions so stay tuned for Comments on this page. \nFood/Water: Bring your own vegan snacks and (non-alcoholic) beverage to enjoy. Please carry plenty of water! \nPease do not attend if you are sick or have been near someone who thinks they may have or have been exposed to COVID-19. VSDC greatly appreciates your cooperation. \n*For important updates\, regularly monitor the “Comments” section on this page (below).*\n*Don’t be a no show! If your plans change\, update your RSVP.*\nWhen you sign up to join\, you automatically acknowledge\n[VSDC Activity Waiver](https://vsdc.org/activity-waiver/).\n*Please also view and abide by the RULES listed below* \nRULES \n* Pets are not allowed\n* Use of intoxicants such as alcohol\, cigarettes and/or illegal substances is banned during this event.\n* Practice safe biking habits including:\n* Wearing a bike helmet\n* Keeping a safe distance between each other (bikes don’t have brake lights and tailgating can easily result in crashes)\n* Avoid side by side riding unless the road gives us ample opportunity\n* This event is for those who are fully vaccinated only. Also please do not attend if you are sick or have been near someone who thinks they may have or have been exposed to COVID-19. \nIf you comply with the above\, we look forward to seeing you IRL (in real life)! Thanks for your support. \n*** \nVSDC (http://www.vsdc.org) is a clear and consistent voice for improving the lives of all beings through education on the benefits of a vegan diet & lifestyle. Sharing food is the bond that brings families together; so it is with VSDC. From simply “breaking bread” to experiencing delicious and nutritious vegan foods from around the world\, we make your journey easier\, enjoyable & meaningful. \nVSDC. Creating communities. For your health\, the animals\, and the planet.
URL:https://www.vkind.com/vegan-events/veggie-biking-dc-bethesda-loop-with-lunch-at-planta-2/
LOCATION:Peirce Mill\, 2401 Tilden St NW\, Washington\, DC\, 20008\, us
ATTACH;FMTTYPE=image/jpeg:https://www.vkind.com/wp-content/uploads/2022/06/1024x576-3lejea.tmp_.jpg
GEO:38.939823;-77.052315
X-APPLE-STRUCTURED-LOCATION;VALUE=URI;X-ADDRESS=Peirce Mill 2401 Tilden St NW Washington DC 20008 us;X-APPLE-RADIUS=500;X-TITLE=2401 Tilden St NW:geo:-77.052315,38.939823
END:VEVENT
BEGIN:VEVENT
DTSTART;TZID=-04:00:20230624T090000
DTEND;TZID=-04:00:20230624T140000
DTSTAMP:20260424T010225
CREATED:20230612T161552Z
LAST-MODIFIED:20230623T190048Z
UID:10000560-1687597200-1687615200@www.vkind.com
SUMMARY:Veggie Biking: DC - Bethesda loop with lunch at Planta
DESCRIPTION:Please join us for another Veggie Bike Ride looping around DC and Bethesda area. \nWe will ride south on Rock Creek trail via the Zoo towards Georgetown.\nFrom Georgetown\, we will take the Capital Crescent trail to Bethesda.\nWill be taking a lunch break at Planta in Bethesda downtown.\nAfter the lunch\, we will continue moving north and then north east towards Rock Creek Park. After reaching Rock Creek park\, we will take the Beach Drive (which is partially closed to vehicular traffic) towards the starting point. \nAlternative day in case of rain: Sunday\, Jun 25. \nMeeting point: Rock Creek Park\, at [Parking Lot 1](https://goo.gl/maps/F6r1z1EmtrAQtSLM9)\nMeeting time: 9am\, June 24\nRoute: [https://goo.gl/maps/kY5fLdhBfLwDdDHY7](https://goo.gl/maps/kY5fLdhBfLwDdDHY7)\nLength: 24 miles\nDifficulty level: strenuous\nElevation change: 550 ft up and 550 ft down\nBike time: ~2.5 hours at moderate pace (~10 mph)\nTotal time: ~5 hours (including stops).\nBiking surface: paved\nRoute type: mostly paved trail\, some roads\nBreak at mid point: Planta\, Bethesda\nWeather: we will not be riding in rain\, windy (greater than 10mph) or cold (less that 50 F) conditions so stay tuned for Comments on this page. \nFood/Water: Bring your own vegan snacks and (non-alcoholic) beverage to enjoy. Please carry plenty of water! \nPease do not attend if you are sick or have been near someone who thinks they may have or have been exposed to COVID-19. VSDC greatly appreciates your cooperation. \n*For important updates\, regularly monitor the “Comments” section on this page (below).*\n*Don’t be a no show! If your plans change\, update your RSVP.*\nWhen you sign up to join\, you automatically acknowledge\n[VSDC Activity Waiver](https://vsdc.org/activity-waiver/).\n*Please also view and abide by the RULES listed below* \nRULES \n* Pets are not allowed\n* Use of intoxicants such as alcohol\, cigarettes and/or illegal substances is banned during this event.\n* Practice safe biking habits including:\n* Wearing a bike helmet\n* Keeping a safe distance between each other (bikes don’t have brake lights and tailgating can easily result in crashes)\n* Avoid side by side riding unless the road gives us ample opportunity\n* This event is for those who are fully vaccinated only. Also please do not attend if you are sick or have been near someone who thinks they may have or have been exposed to COVID-19. \nIf you comply with the above\, we look forward to seeing you IRL (in real life)! Thanks for your support. \n*** \nVSDC (http://www.vsdc.org) is a clear and consistent voice for improving the lives of all beings through education on the benefits of a vegan diet & lifestyle. Sharing food is the bond that brings families together; so it is with VSDC. From simply “breaking bread” to experiencing delicious and nutritious vegan foods from around the world\, we make your journey easier\, enjoyable & meaningful. \nVSDC. Creating communities. For your health\, the animals\, and the planet.
URL:https://www.vkind.com/vegan-events/veggie-biking-dc-bethesda-loop-with-lunch-at-planta/
LOCATION:Peirce Mill\, 2401 Tilden St NW\, Washington\, DC\, 20008\, us
ATTACH;FMTTYPE=image/jpeg:https://www.vkind.com/wp-content/uploads/2022/06/1024x576-3lejea.tmp_.jpg
GEO:38.939823;-77.052315
X-APPLE-STRUCTURED-LOCATION;VALUE=URI;X-ADDRESS=Peirce Mill 2401 Tilden St NW Washington DC 20008 us;X-APPLE-RADIUS=500;X-TITLE=2401 Tilden St NW:geo:-77.052315,38.939823
END:VEVENT
END:VCALENDAR