BEGIN:VCALENDAR
VERSION:2.0
PRODID:-//Vkind - ECPv6.15.14//NONSGML v1.0//EN
CALSCALE:GREGORIAN
METHOD:PUBLISH
X-ORIGINAL-URL:https://www.vkind.com
X-WR-CALDESC:Events for Vkind
REFRESH-INTERVAL;VALUE=DURATION:PT1H
X-Robots-Tag:noindex
X-PUBLISHED-TTL:PT1H
BEGIN:VTIMEZONE
TZID:-05:00
END:VTIMEZONE
BEGIN:VTIMEZONE
TZID:-04:00
END:VTIMEZONE
BEGIN:VEVENT
DTSTART;TZID=-05:00:20241208T110000
DTEND;TZID=-05:00:20241208T140000
DTSTAMP:20260424T135227
CREATED:20241108T175100Z
LAST-MODIFIED:20241207T191558Z
UID:10007833-1733655600-1733666400@www.vkind.com
SUMMARY:VSDC Volunteer Day at Peaceful Fields Sanctuary in Winchester
DESCRIPTION:Join us for a VSDC volunteer day at Peaceful Fields Sanctuary in Winchester. \nIt takes a community of dedicated people to make Peaceful Fields Sanctuary what it is. Peaceful Fields could not pursue their mission without the generous support of volunteers who pledge their time\, resources\, and energy for the residents. \nThe time will be spent entirely outdoors doing manual labor and care provision. You may work amongst chickens\, turkeys\, ducks\, and pigmy goats. Boots/muck or rain boots that can get muddy and dirty are recommended. No open-toed shoes. Wear clothing that you don’t mind getting dirty. The volunteer day is rain or shine. \nBring a reusable water bottle; water will be available on-site. You are welcome to bring your own vegan snacks. \nPlease arrive early so we can begin promptly at 11:00 am. When you arrive\, please park in the grass in front of the house. \nIf you need a ride or want to carpool\, please post your request on the event page. Please use good sense when accepting a ride from someone you don’t know. VSDC cannot take responsibility for the outcome of shared rides. \nChildren must be 12+ years old and accompanied by an adult. \nYou are welcome to bring fresh produce as a treat for the animals at the end (apples\, strawberries\, grapes\, bananas\, etc). \nFor more info\, visit [Peaceful Fields Sanctuary – a vegan farmed animal sanctuary](https://peacefulfieldssanctuary.org/) \n**Update Your RSVP**\nPlease update your RSVP promptly as your schedule changes out of respect for others interested in attending this limited-space event. \n**VSDC: More Than A Meetup**\nWe are so glad to have you as part of The Veg Society of DC Vegan Meetup group\, and we enjoy seeing you at our events. Did you know that [VSDC](https://vsdc.org/) is a nonprofit organization with membership benefits? \nWith VSDC membership\, you will save money at area restaurants and businesses\, attend VSDC member-only events\, and\, most importantly\, support us as a clear and consistent voice for improving the lives of all beings through community building and education centered on the benefits of a vegan diet and lifestyle. \nThe membership fee is minimal\, but the impact is significant! [Become a member of VSDC](https://vsdc.org/membership/). \n**Liability Waiver and Code of Conduct**\nWhen you sign up to attend\, you automatically acknowledge [VSDC’s Liability Waiver](https://vsdc.org/activity-waiver/) and commit to follow the code of conduct found at [Policies – VSDC – Veg Society of DC](https://vsdc.org/policies/).
URL:https://www.vkind.com/vegan-events/vsdc-volunteer-day-at-peaceful-fields-sanctuary-in-winchester/
LOCATION:Peaceful Fields Sanctuary\, 153 Peacefield Ln\, Winchester\, VA\, 22603\, United States
ATTACH;FMTTYPE=image/jpeg:https://www.vkind.com/wp-content/uploads/2024/05/1024x576-pgV1ar.tmp_.jpg
GEO:39.255493;-78.204475
X-APPLE-STRUCTURED-LOCATION;VALUE=URI;X-ADDRESS=Peaceful Fields Sanctuary 153 Peacefield Ln Winchester VA 22603 United States;X-APPLE-RADIUS=500;X-TITLE=153 Peacefield Ln:geo:-78.204475,39.255493
END:VEVENT
BEGIN:VEVENT
DTSTART;TZID=-04:00:20240721T100000
DTEND;TZID=-04:00:20240721T130000
DTSTAMP:20260424T135227
CREATED:20240528T101518Z
LAST-MODIFIED:20240721T180531Z
UID:10007723-1721556000-1721566800@www.vkind.com
SUMMARY:VSDC Volunteer Day at Peaceful Fields Sanctuary
DESCRIPTION:Join us for a VSDC volunteer day at Peaceful Fields Sanctuary in Winchester. \nIt takes a community of dedicated people to make Peaceful Fields Sanctuary what it is. Peaceful Fields could not pursue their mission without the generous support of volunteers who pledge their time\, resources\, and energy for the residents. \nThe time will be spent entirely outdoors doing manual labor and care provision. You may work amongst chickens\, turkeys\, ducks\, and pigmy goats. Boots/muck or rain boots that can get muddy and dirty are recommended. No open-toed shoes. Wear clothing that you don’t mind getting dirty. The volunteer day is rain or shine. \nBring a reusable water bottle; water will be available on-site. You are welcome to bring your own vegan snacks. \nPlease arrive early so we can begin promptly at 10:00 am. When you arrive\, please park in the grass in front of the house. \nCarpool opportunities are available. Please indicate when you RSVP if you’d like to carpool. Of course\, use good sense in accepting a ride from someone you don’t know. VSDC cannot take responsibility for carpoolers. \nChildren must be 12+ years old and accompanied by an adult. \nYou are welcome to bring fresh produce as a treat for the animals at the end (apples\, strawberries\, grapes\, bananas\, etc). \nFor more info\, visit [Peaceful Fields Sanctuary – a vegan farmed animal sanctuary](https://peacefulfieldssanctuary.org/) \n**Update Your RSVP**\nPlease update your RSVP promptly as your schedule changes out of respect for others interested in attending this limited-space event. \n**VSDC: More Than A Meetup**\nWe are so glad to have you as part of The Veg Society of DC Vegan Meetup group\, and we enjoy seeing you at our events. Did you know that [VSDC](https://vsdc.org/) is a nonprofit organization with membership benefits? \nWith VSDC membership\, you will save money at area restaurants and businesses\, attend VSDC member-only events\, and\, most importantly\, support us as a clear and consistent voice for improving the lives of all beings through community building and education centered on the benefits of a vegan diet and lifestyle. \nThe membership fee is minimal\, but the impact is significant! [Become a member of VSDC](https://vsdc.org/membership/). \n**Liability Waiver and Code of Conduct**\nWhen you sign up to attend\, you automatically acknowledge [VSDC’s Liability Waiver](https://vsdc.org/activity-waiver/) and commit to follow the code of conduct found at [Policies – VSDC – Veg Society of DC](https://vsdc.org/policies/).
URL:https://www.vkind.com/vegan-events/vsdc-volunteer-day-at-peaceful-fields-sanctuary/
LOCATION:Peaceful Fields Sanctuary\, 153 Peacefield Ln\, Winchester\, VA\, 22603\, United States
ATTACH;FMTTYPE=image/jpeg:https://www.vkind.com/wp-content/uploads/2024/05/1024x576-pgV1ar.tmp_.jpg
GEO:39.255493;-78.204475
X-APPLE-STRUCTURED-LOCATION;VALUE=URI;X-ADDRESS=Peaceful Fields Sanctuary 153 Peacefield Ln Winchester VA 22603 United States;X-APPLE-RADIUS=500;X-TITLE=153 Peacefield Ln:geo:-78.204475,39.255493
END:VEVENT
END:VCALENDAR