BEGIN:VCALENDAR
VERSION:2.0
PRODID:-//Vkind - ECPv6.15.14//NONSGML v1.0//EN
CALSCALE:GREGORIAN
METHOD:PUBLISH
X-WR-CALNAME:Vkind
X-ORIGINAL-URL:https://www.vkind.com
X-WR-CALDESC:Events for Vkind
REFRESH-INTERVAL;VALUE=DURATION:PT1H
X-Robots-Tag:noindex
X-PUBLISHED-TTL:PT1H
BEGIN:VTIMEZONE
TZID:-05:00
END:VTIMEZONE
BEGIN:VTIMEZONE
TZID:-04:00
END:VTIMEZONE
BEGIN:VEVENT
DTSTART;TZID=-05:00:20241128T130000
DTEND;TZID=-05:00:20241128T150000
DTSTAMP:20260423T172002
CREATED:20241125T163043Z
LAST-MODIFIED:20241128T170051Z
UID:10007844-1732798800-1732806000@www.vkind.com
SUMMARY:Deluxe Vegan Thanksgiving Lunch at Peacefood Cafe Downtown - Venue #3
DESCRIPTION:**Please arrive promptly at 1:00pm. There will be one seating only. Everyone pays for their own meal.** \n*****You may not RSVP for more than one of our Thanksgiving events. If you RSVP yes for this one and you’ve already RSVP’d for another Thanksgiving meal of ours\, please change that RSVP to no. Please adjust your RSVPs so that you are RSVPing for one Thanksgiving venue only\, otherwise your RSVPs will be removed. Thank you.***** \nIt has long been a tradition for our group to organize a Meetup on Thanksgiving Day\, for those of us who are in the city without their family over the holiday. \nWe also warmly invite those who may be going later in the day to their family celebrations\, to start their Thanksgiving Day with fellow vegetarians and vegans. \nPeacefood Café Downtown is the newer\, sister restaurant of the very popular Peacefood Café UWS. It’s bigger & more comfortable at nearly twice the size\, easy to get to\, & has the same excellent food as the UWS Peacefood Cafe. Whether you’ve been here before or it is your first time\, join us on Thanksgiving for a delectable lunch and wonderful company at Peacefood Café Downtown. \nFor Thanksgiving\, Peacefood Cafe Downtown has a **special Thanksgiving Menu**. The Thanksgiving menu features two starters: **Chestnut Apple Bisque** ($12 bowl/$7 cup\, gluten free) or **Raw Sushi** (julienne veggies\, walnut pate\, nori\, sprouts\, ginger\, avocado) ($20\, gluten free). Fried Oyster Mushrooms are $20 (gluten free). Or\, for $24 you can order **Raw Lasagna** (mushroom\, zucchini\, spinach\, cashew cheese\, marinara sauce – gluten free). (This is meant as a meal in itself\, or you can add one or more starters.) … **Or\, order a “Deluxe” meal (RECOMMENDED)\, a large meal of traditional Thanksgiving fare\, for $45. These Deluxe meals include your choice of four entrees PLUS ALL of the following: Homemade Stuffing\, Porcini Mushroom Gravy (gluten free)\, Orange Mashed Yam (gluten free)\, Sauteed String Beans (gluten free) and Champagne Cranberry Sauce (gluten free).** These all come with your choice of any of the following four entrees\, all for the $45 full-meal price: **Lemon Caper Un-Turkey**\, **Holiday Pot Roast** (gluten free)\, **Stuffed Squash with Quinoa Pilaf** (gluten free)\, or **Lentil Walnut Loaf** (gluten free). **(Just to clarify\, you get your choice of any of those four entrees\, plus Homemade Stuffing\, plus Porcini & Wild Mushroom Gravy\, plus Orange Mashed Yam\, plus Sauteed String Beans\, plus Champagne Cranberry Sauce\, all for $45.)** Only this Thanksgiving Menu will be served on Thanksgiving. (You can additionally order from a full selection of outstanding housemade desserts\, and beverages\, if desired.) \n**Please arrive promptly at 1:00pm. There will be one seating only. Everyone pays for their own meal.** \n**NYCGo.com** lists Peacefood Café as one of NYC’s healthiest restaurants. “Trying to change your relationship with food? This is a good place to start. Indian-spiced chickpea fries are a swell snack\, as are the pan-seared mushroom and chive dumplings with ginger-balsamic dipping sauce. … The many facets of each dish breed indifference to animal protein. They do the same thing for refined sugar\, especially when it comes to raw cacao mousse pie in a walnut-coconut-date crust. ” \n**New York Magazine’s** take on Peacefood\, “Vegan cafe/diner combo promises to please all but the most devoted carnivore.” \n**CBS New York** rates it as one of the 10 best restaurants for Vegetarians in NYC: “At this elegant upscale vegan bakery and cafe\, baked goods are made with spelt instead of flour. Even their vegan Caesar salad has spelt croutons. The chocolate chip cookie sandwich has a oozy-chocolate pudding like center in the middle of two crispy spelt cookies. Or try the grasshopper variety with a tangy mint filling.” \nIndeed\, Peacefood is also known for their **extensive and heavenly dessert menu**\, including tiramisu\,cheesecake\, macaroons\, brownies\, key lime pie\, strawberry shortcake\, and chocolate chip cookie sandwiches. \nFor those of you who have never attended one of our Meetup events: this is an incredibly friendly & welcoming group. **We’ll be meeting right outside Peacefood Cafe at 1:00pm\, and then walking in as a group at 1:00pm. Everyone pays for their own meal. Easy!** \n**Please arrive promptly at 1:00pm. There will be one seating only. Everyone pays for their own meal.** \n**Train Directions:** Take the L\, N\, Q\, R\, 4\, 5 & 6 Trains to Union Sq. 14th St. \n*****Please RSVP for one Thanksgiving venue only. If you RSVP yes for this one and you’ve already RSVP’d for another Thanksgiving meal of ours\, please change that RSVP to no. Please adjust your RSVPs so that you are RSVPing for one Thanksgiving venue only\, otherwise your RSVPs will be removed. Thank you.***** \nLooking forward to see you on Thanksgiving for a delicious lunch with our wonderful vegetarian & vegan members. \nDavid
URL:https://www.vkind.com/vegan-events/deluxe-vegan-thanksgiving-lunch-at-peacefood-cafe-downtown-venue-3-2/
LOCATION:Peacefood Cafe Downtown\, 41 East 11th Street\, New York\, NY\, 10003\, United States
ATTACH;FMTTYPE=image/jpeg:https://www.vkind.com/wp-content/uploads/2022/11/1024x576-nudsLt.tmp_.jpg
GEO:40.733337;-73.992744
X-APPLE-STRUCTURED-LOCATION;VALUE=URI;X-ADDRESS=Peacefood Cafe Downtown 41 East 11th Street New York NY 10003 United States;X-APPLE-RADIUS=500;X-TITLE=41 East 11th Street:geo:-73.992744,40.733337
END:VEVENT
BEGIN:VEVENT
DTSTART;TZID=-04:00:20240918T190000
DTEND;TZID=-04:00:20240918T210000
DTSTAMP:20260423T172002
CREATED:20240828T191540Z
LAST-MODIFIED:20240918T235019Z
UID:10007783-1726686000-1726693200@www.vkind.com
SUMMARY:Vegan Dinner at Peacefood Cafe Downtown
DESCRIPTION:**Please arrive at 7:00. There will be one seating only. Everyone pays for their own meal.** \nJoin us at the **Peacefood Cafe**\, just south of Union Square. This is one of our favorites in the City! Per **The Urban Scoop:** “… we’ve been to Peacefood well over a dozen times over the years simply because it has good food…” \n**Peacefood Cafe founding partner Eric:** “I want my customers to feel the love from the atmosphere of the restaurant. The food and décor add to how I want people to feel when dining here\, relaxed and inviting.“ \n**Timeout**: “… with carrot cake this good\, they don’t need to hide behind design. It’s not just the best vegan carrot we’ve ever had\, it’s one of the best carrot cakes of all time…” \n**Eatup NY**: “… With cookies\, cakes\, and even raw key lime pies…it will be hard to resist. But try your best to save the dessert for later\, because the food here is too good to pass up. As the friendly servers greet you and bring you to your table\, you suddenly feel right at home…” \n**For those of you who have never attended one of our Meetup events:** this is an incredibly friendly & welcoming group. It will be easy to find our group: we are taking over the majority of the restaurant. Also\, everyone pays for their own meal. Easy! \n**Where to Meet**: Look for us inside or ask the staff where the meetup group is\, if needed. \n**Train Directions**: The closest trains are the (N)\, (Q)\, (R)\, (L)\, (4)\, (5)\, (6) & (W) to 14 St-Union Sq. Please note any MTA reroutes on the day of event. \n**Come at 7:00pm and enjoy a delicious vegan dinner with fellow veg-friends.** \nEddie
URL:https://www.vkind.com/vegan-events/vegan-dinner-at-peacefood-cafe-downtown/
LOCATION:Peacefood Cafe Downtown\, 41 East 11th Street\, New York\, NY\, 10003\, United States
ATTACH;FMTTYPE=image/jpeg:https://www.vkind.com/wp-content/uploads/2024/08/1024x576-g5WUMo.tmp_.jpg
GEO:40.733337;-73.992744
X-APPLE-STRUCTURED-LOCATION;VALUE=URI;X-ADDRESS=Peacefood Cafe Downtown 41 East 11th Street New York NY 10003 United States;X-APPLE-RADIUS=500;X-TITLE=41 East 11th Street:geo:-73.992744,40.733337
END:VEVENT
BEGIN:VEVENT
DTSTART;TZID=-05:00:20231123T130000
DTEND;TZID=-05:00:20231123T150000
DTSTAMP:20260423T172002
CREATED:20231114T033102Z
LAST-MODIFIED:20231123T054549Z
UID:10007585-1700744400-1700751600@www.vkind.com
SUMMARY:Deluxe Vegan Thanksgiving Lunch at Peacefood Cafe Downtown - Venue #2
DESCRIPTION:**Please arrive promptly at 1:00pm. There will be one seating only. Everyone pays for their own meal.** \n*****You may not RSVP for more than one of our Thanksgiving events. If you RSVP yes for this one and you’ve already RSVP’d for another Thanksgiving meal of ours\, please change that RSVP to no. Please adjust your RSVPs so that you are RSVPing for one Thanksgiving venue only\, otherwise your RSVPs will be removed. Thank you.***** \nIt has long been a tradition for our group to organize a Meetup on Thanksgiving Day\, for those of us who are in the city without their family over the holiday. \nWe also warmly invite those who may be going later in the day to their family celebrations\, to start their Thanksgiving Day with fellow vegetarians and vegans. \nPeacefood Café Downtown is the newer\, sister restaurant of the very popular Peacefood Café UWS. It’s bigger & more comfortable at nearly twice the size\, easy to get to\, & has the same excellent food as the UWS Peacefood Cafe. Whether you’ve been here before or it is your first time\, join us on Thanksgiving for a delectable lunch and wonderful company at Peacefood Café Downtown. \nFor Thanksgiving\, Peacefood Cafe Downtown has a **special Thanksgiving Menu**. The Thanksgiving menu features two starters: **Chestnut Apple Bisque** ($12 bowl/$7 cup\, gluten free) or **Raw Sushi** (julienne veggies\, walnut pate\, nori\, sprouts\, ginger\, avocado) ($18\, gluten free). Or\, for $22 you can order **Raw Lasagna** (mushroom\, zucchini\, spinach\, cashew cheese\, marinara sauce – gluten free). (This is meant as a meal in itself\, or you can add one or more starters.) … **Or\, order a “Deluxe” meal (RECOMMENDED)\, a large meal of traditional Thanksgiving fare\, for $35. These Deluxe meals include your choice of four entrees PLUS ALL of the following: Homemade Stuffing\, Porcini & Wild Mushroom Gravy (gluten free)\, Orange Mashed Yam (gluten free)\, Sauteed String Beans (gluten free) and Champagne Cranberry Sauce (gluten free).** These all come with your choice of any of the following four entrees\, all for the $35 full-meal price: **Pan-Seared Lemon Caper Un-Turkey**\, **Pom Pom Mushroom Pot Roast** (gluten free)\, **Stuffed Squash with Quinoa Pilaf** (quinoa\, nuts\, seeds\, dried fruits & herbs) (gluten free)\, or **Lentil Walnut Loaf** (gluten free). **(Just to clarify\, you get your choice of any of those four entrees\, plus Homemade Stuffing\, plus Porcini & Wild Mushroom Gravy\, plus Orange Mashed Yam\, plus Sauteed String Beans\, plus Champagne Cranberry Sauce\, all for $35.)** Only this Thanksgiving Menu will be served on Thanksgiving. (You can additionally order from a full selection of outstanding housemade desserts\, and beverages\, if desired.) \n**Please arrive promptly at 1:00pm. There will be one seating only. Everyone pays for their own meal.** \nNYCGo.com lists Peacefood Café as one of NYC’s healthiest restaurants. “Trying to change your relationship with food? This is a good place to start. Indian-spiced chickpea fries are a swell snack\, as are the pan-seared mushroom and chive dumplings with ginger-balsamic dipping sauce. … The many facets of each dish breed indifference to animal protein. They do the same thing for refined sugar\, especially when it comes to raw cacao mousse pie in a walnut-coconut-date crust. ” \nNew York Magazine’s take on Peacefood\, “Vegan cafe/diner combo promises to please all but the most devoted carnivore.” CBS New York rates it as one of the 10 best restaurants for Vegetarians in NYC: “At this elegant upscale vegan bakery and cafe\, baked goods are made with spelt instead of flour. Even their vegan Caesar salad has spelt croutons. The chocolate chip cookie sandwich has a oozy-chocolate pudding like center in the middle of two crispy spelt cookies. Or try the grasshopper variety with a tangy mint filling.” \nIndeed\, Peacefood is also known for their extensive and heavenly dessert menu\, including tiramisu\,cheesecake\, macaroons\, brownies\, key lime pie\, strawberry shortcake\, and chocolate chip cookie sandwiches. \nFor those of you who have never attended one of our Meetup events: this is an incredibly friendly & welcoming group. We’ll be meeting right outside Peacefood Cafe at 1:00pm\, and then walking in as a group when the restaurant opens at 1:00pm. Everyone pays for their own meal. Easy! \n**Please arrive promptly at 1:00pm. There will be one seating only. Everyone pays for their own meal.** \n**Train Directions:** Take the L\, N\, Q\, R\, 4\, 5 & 6 Trains to Union Sq. 14th St. \n*****Please RSVP for one Thanksgiving venue only. If you RSVP yes for this one and you’ve already RSVP’d for another Thanksgiving meal of ours\, please change that RSVP to no. Please adjust your RSVPs so that you are RSVPing for one Thanksgiving venue only\, otherwise your RSVPs will be removed. Thank you.***** \nLooking forward to see you on Thanksgiving for a delicious lunch with our wonderful vegetarian & vegan members. \nDavid
URL:https://www.vkind.com/vegan-events/deluxe-vegan-thanksgiving-lunch-at-peacefood-cafe-downtown-venue-2/
LOCATION:Peacefood Cafe Downtown\, 41 East 11th Street\, New York\, NY\, 10003\, United States
ATTACH;FMTTYPE=image/jpeg:https://www.vkind.com/wp-content/uploads/2022/11/1024x576-nudsLt.tmp_.jpg
GEO:40.733337;-73.992744
X-APPLE-STRUCTURED-LOCATION;VALUE=URI;X-ADDRESS=Peacefood Cafe Downtown 41 East 11th Street New York NY 10003 United States;X-APPLE-RADIUS=500;X-TITLE=41 East 11th Street:geo:-73.992744,40.733337
END:VEVENT
BEGIN:VEVENT
DTSTART;TZID=-05:00:20221124T130000
DTEND;TZID=-05:00:20221124T150000
DTSTAMP:20260423T172002
CREATED:20221116T225022Z
LAST-MODIFIED:20221123T232034Z
UID:10000358-1669294800-1669302000@www.vkind.com
SUMMARY:Deluxe Vegan Thanksgiving Lunch at Peacefood Cafe Downtown - Venue #3
DESCRIPTION:**Please arrive promptly at 1:00pm. There will be one seating only. Everyone pays for their own meal.** \n*****You may not RSVP for more than one of our Thanksgiving events. If you RSVP yes for this one and you’ve already RSVP’d for another Thanksgiving meal of ours\, please change that RSVP to no. Thank you.***** \nIt has long been a tradition for our group to organize a Meetup on Thanksgiving Day\, for those of us who are in the city without their family over the holiday. \nWe also warmly invite those who may be going later in the day to their family celebrations\, to start their Thanksgiving Day with fellow vegetarians and vegans. \nPeacefood Café Downtown is the newer\, sister restaurant of the very popular Peacefood Café UWS. It’s bigger & more comfortable at nearly twice the size\, easy to get to\, & has the same excellent food as the UWS Peacefood Cafe. Whether you’ve been here before or it is your first time\, join us on Thanksgiving for a delectable lunch and wonderful company at Peacefood Café Downtown. \nFor Thanksgiving\, Peacefood Cafe Downtown has a **special Thanksgiving Menu**. The Thanksgiving menu features two starters: **Chestnut Apple Bisque** ($12 bowl/$7 cup\, gluten free) or **Raw Sushi** (julienne veggies\, walnut pate\, nori\, sprouts\, ginger\, avocado) ($18\, gluten free). Or\, for $22 you can order **Raw Lasagna** (mushroom\, zucchini\, spinach\, cashew cheese\, marinara sauce – gluten free). (This is meant as a meal in itself\, or you can add one or more starters.) … **Or\, order a “Deluxe” meal (RECOMMENDED)\, a large meal of traditional Thanksgiving fare\, for $38. These Deluxe meals include your choice of four entrees PLUS ALL of the following: Homemade Stuffing (gluten free)\, Porcini & Wild Mushroom Gravy (gluten free)\, Orange Mashed Yam (gluten free)\, and Sauteed String Beans (gluten free).** These all come with your choice of any of the following four entrees\, all for the $38 full-meal price: **Pan-Seared Lemon Caper Un-Turkey**\, **Pom Pom Mushroom Pot Roast** (gluten free)\, **Stuffed Squash with Quinoa Pilaf** (quinoa\, nuts\, seeds\, dried fruits & herbs) (gluten free)\, or **Lentil Walnut Loaf** (gluten free). **(Just to clarify\, you get your choice of any of those four entrees\, plus Homemade Stuffing\, plus Porcini & Wild Mushroom Gravy\, plus Orange Mashed Yam\, plus Sauteed String Beans\, all for $38.)** Only this Thanksgiving Menu will be served on Thanksgiving. (You can additionally order from a full selection of outstanding housemade desserts\, and beverages\, if desired.) \n**Please arrive promptly at 1:00pm. There will be one seating only. Everyone pays for their own meal.** \nNYCGo.com lists Peacefood Café as one of NYC’s healthiest restaurants. “Trying to change your relationship with food? This is a good place to start. Indian-spiced chickpea fries are a swell snack\, as are the pan-seared mushroom and chive dumplings with ginger-balsamic dipping sauce. … The many facets of each dish breed indifference to animal protein. They do the same thing for refined sugar\, especially when it comes to raw cacao mousse pie in a walnut-coconut-date crust. ” \nNew York Magazine’s take on Peacefood\, “Vegan cafe/diner combo promises to please all but the most devoted carnivore.” CBS New York rates it as one of the 10 best restaurants for Vegetarians in NYC: “At this elegant upscale vegan bakery and cafe\, baked goods are made with spelt instead of flour. Even their vegan Caesar salad has spelt croutons. The chocolate chip cookie sandwich has a oozy-chocolate pudding like center in the middle of two crispy spelt cookies. Or try the grasshopper variety with a tangy mint filling.” \nIndeed\, Peacefood is also known for their extensive and heavenly dessert menu\, including tiramisu\,cheesecake\, macaroons\, brownies\, key lime pie\, strawberry shortcake\, and chocolate chip cookie sandwiches. The Culinary Society of Columbia University says: “Many of the desserts vegans must constantly deprive themselves of were there: cupcakes\, tiramisu\, and brownies. We ordered both the tiramisu and a cinnamon bun; we were both amazed on how identical each tasted to its dairy filled alternative.” \nFor those of you who have never attended one of our Meetup events: this is an incredibly friendly & welcoming group. We’ll be meeting right outside Peacefood Cafe at 1:00pm\, and then walking in as a group when the restaurant opens at 1:00pm. Everyone pays for their own meal. Easy! \n**Please arrive promptly at 1:00pm. There will be one seating only. Everyone pays for their own meal.** \n**Train Directions:** Take the L\, N\, Q\, R\, 4\, 5 & 6 Trains to Union Sq. 14th St. \n*****Please RSVP for one Thanksgiving venue only. Please do not RSVP at two Thanksgiving venues to hold a spot at an additional venue.***** \nLooking forward to see you on Thanksgiving for a delicious lunch with our wonderful vegetarian & vegan members. \nDavid
URL:https://www.vkind.com/vegan-events/deluxe-vegan-thanksgiving-lunch-at-peacefood-cafe-downtown-venue-3/
LOCATION:Peacefood Cafe Downtown\, 41 East 11th Street\, New York\, NY\, 10003\, United States
ATTACH;FMTTYPE=image/jpeg:https://www.vkind.com/wp-content/uploads/2022/11/1024x576-nudsLt.tmp_.jpg
GEO:40.733337;-73.992744
X-APPLE-STRUCTURED-LOCATION;VALUE=URI;X-ADDRESS=Peacefood Cafe Downtown 41 East 11th Street New York NY 10003 United States;X-APPLE-RADIUS=500;X-TITLE=41 East 11th Street:geo:-73.992744,40.733337
END:VEVENT
END:VCALENDAR