BEGIN:VCALENDAR
VERSION:2.0
PRODID:-//Vkind - ECPv6.15.14//NONSGML v1.0//EN
CALSCALE:GREGORIAN
METHOD:PUBLISH
X-ORIGINAL-URL:https://www.vkind.com
X-WR-CALDESC:Events for Vkind
REFRESH-INTERVAL;VALUE=DURATION:PT1H
X-Robots-Tag:noindex
X-PUBLISHED-TTL:PT1H
BEGIN:VTIMEZONE
TZID:America/New_York
BEGIN:DAYLIGHT
TZOFFSETFROM:-0500
TZOFFSETTO:-0400
TZNAME:EDT
DTSTART:20220313T070000
END:DAYLIGHT
BEGIN:STANDARD
TZOFFSETFROM:-0400
TZOFFSETTO:-0500
TZNAME:EST
DTSTART:20221106T060000
END:STANDARD
BEGIN:DAYLIGHT
TZOFFSETFROM:-0500
TZOFFSETTO:-0400
TZNAME:EDT
DTSTART:20230312T070000
END:DAYLIGHT
BEGIN:STANDARD
TZOFFSETFROM:-0400
TZOFFSETTO:-0500
TZNAME:EST
DTSTART:20231105T060000
END:STANDARD
BEGIN:DAYLIGHT
TZOFFSETFROM:-0500
TZOFFSETTO:-0400
TZNAME:EDT
DTSTART:20240310T070000
END:DAYLIGHT
BEGIN:STANDARD
TZOFFSETFROM:-0400
TZOFFSETTO:-0500
TZNAME:EST
DTSTART:20241103T060000
END:STANDARD
END:VTIMEZONE
BEGIN:VEVENT
DTSTART;TZID=America/New_York:20230825T180000
DTEND;TZID=America/New_York:20230827T220000
DTSTAMP:20260423T151540
CREATED:20230725T190013Z
LAST-MODIFIED:20230725T190013Z
UID:10001111-1692986400-1693173600@www.vkind.com
SUMMARY:“Plants Of The Caribbean” Pop Up Restaurant
DESCRIPTION:Plants Of The Caribbean is an evening “of vegan food fantasies”. Be enraptured by incredible displays\, delectable food\, and alluring music. \n\n\n\n\nHey everyone\, if you don’t know me\, I’m Chef Kess. Veganism is my life and I am super excited to talk more about my pop-up\, (Plants Of The Caribbean”). The Vegan Chef Kess brand (the world’s first entertainment co) will be hosting this luxurious event at Our House Culture Center from Friday\, August 25- Saturday\, August 27th. The menu is vast with options for everyone from baby vegans to veteran vegans. No matter where you are on your vegan journey\, you will be immersed in an opulent vegan dining experience and leave fully satisfied. Come on out and taste the Caribbean (Vegan style!) Get Vegucated\, Veganized\, and Vegurated! You don’t want to miss out on this event or you will be green with vegan envy.
URL:https://www.vkind.com/vegan-events/plants-of-the-caribbean-pop-up-restaurant/
LOCATION:Our House Culture Center\, 6380 Germantown Avenue\, Philadelphia\, PA\, 19144\, United States
ATTACH;FMTTYPE=image/jpeg:https://www.vkind.com/wp-content/uploads/2023/07/Plants-Of-The-Caribbean-Pop-Up-Restaurant.jpg
GEO:40.0456171;-75.1823145
X-APPLE-STRUCTURED-LOCATION;VALUE=URI;X-ADDRESS=Our House Culture Center 6380 Germantown Avenue Philadelphia PA 19144 United States;X-APPLE-RADIUS=500;X-TITLE=6380 Germantown Avenue:geo:-75.1823145,40.0456171
END:VEVENT
END:VCALENDAR