BEGIN:VCALENDAR
VERSION:2.0
PRODID:-//Vkind - ECPv6.15.14//NONSGML v1.0//EN
CALSCALE:GREGORIAN
METHOD:PUBLISH
X-WR-CALNAME:Vkind
X-ORIGINAL-URL:https://www.vkind.com
X-WR-CALDESC:Events for Vkind
REFRESH-INTERVAL;VALUE=DURATION:PT1H
X-Robots-Tag:noindex
X-PUBLISHED-TTL:PT1H
BEGIN:VTIMEZONE
TZID:-04:00
END:VTIMEZONE
BEGIN:VTIMEZONE
TZID:America/Phoenix
BEGIN:STANDARD
TZOFFSETFROM:-0700
TZOFFSETTO:-0700
TZNAME:MST
DTSTART:20210101T000000
END:STANDARD
END:VTIMEZONE
BEGIN:VEVENT
DTSTART;TZID=-04:00:20230806T190000
DTEND;TZID=-04:00:20230806T210000
DTSTAMP:20260424T102124
CREATED:20230717T020522Z
LAST-MODIFIED:20230806T080055Z
UID:10000579-1691348400-1691355600@www.vkind.com
SUMMARY:Vegan Live Piano Karaoke Part 2
DESCRIPTION:Encore of June’s vegan karaoke event at Organic Grill! \nFresh off from accompanying Kelly Clarkson for her recent Kellyoke record release party\, pianist/singer Wendy Ip is ready to accompany YOU live on any of 1500 pop/rock songs whilst you enjoy delicious vegan food. Liquid courage is available as well! \n(Lyrics will be provided!) Songlist: https://bit.ly/wendyipsonglist (No cover charge – just make sure you order something to support the restaurant!) \nVlad of Organic Grill has asked me to pass along the following:\nIf you plan on being seated please make sure you order a meal and spend at least $20 (e.g. a main course and/or 2 smaller courses). Last time Vlad noted that people sat for hours only ordering one drink while others who wanted to eat dinner had to be turned away and didn’t get a seat. So please be respectful that there is limited seating at this event and priority will be given to those planning on eating dinner. Thank you very much for understanding and we look forward to providing a fun & delicious evening!
URL:https://www.vkind.com/vegan-events/vegan-live-piano-karaoke-part-2/
LOCATION:The Organic Grill\, 133 W 3rd St\, New York\, NY\, 10003\, us
ATTACH;FMTTYPE=image/jpeg:https://www.vkind.com/wp-content/uploads/2023/07/1024x576-KSmSoE.tmp_.jpg
GEO:40.730873;-74.00079
X-APPLE-STRUCTURED-LOCATION;VALUE=URI;X-ADDRESS=The Organic Grill 133 W 3rd St New York NY 10003 us;X-APPLE-RADIUS=500;X-TITLE=133 W 3rd St:geo:-74.00079,40.730873
END:VEVENT
BEGIN:VEVENT
DTSTART;TZID=-04:00:20230627T190000
DTEND;TZID=-04:00:20230627T210000
DTSTAMP:20260424T102124
CREATED:20230616T174526Z
LAST-MODIFIED:20230627T203043Z
UID:10000563-1687892400-1687899600@www.vkind.com
SUMMARY:Vegan Karaoke with Live Piano at Organic Grill!
DESCRIPTION:Vlad from Organic Grill heard about vegan pianist/singer Wendy Ip’s live piano karaoke nights and decided to give it a try at his wonderful vegan restaurant which many of us have eaten at! Come support a musical night out at Organic Grill! Choose from a songlist of 1500 songs and sing to live piano accompaniment! Or just sit back and enjoy the entertainment of others doing so.\n(Lyrics will be provided!) Songlist: https://bit.ly/wendyipsonglist \n(No cover charge – just make sure you order something to support the restaurant!)
URL:https://www.vkind.com/vegan-events/vegan-karaoke-with-live-piano-at-organic-grill/
LOCATION:The Organic Grill\, 133 W 3rd St\, New York\, NY\, 10003\, us
ATTACH;FMTTYPE=image/jpeg:https://www.vkind.com/wp-content/uploads/2023/06/1024x576-Yp3oT9.tmp_.jpg
GEO:40.730873;-74.00079
X-APPLE-STRUCTURED-LOCATION;VALUE=URI;X-ADDRESS=The Organic Grill 133 W 3rd St New York NY 10003 us;X-APPLE-RADIUS=500;X-TITLE=133 W 3rd St:geo:-74.00079,40.730873
END:VEVENT
BEGIN:VEVENT
DTSTART;TZID=America/Phoenix:20221019T200000
DTEND;TZID=America/Phoenix:20221019T213000
DTSTAMP:20260424T102124
CREATED:20221018T132303Z
LAST-MODIFIED:20221018T132351Z
UID:10000323-1666209600-1666215000@www.vkind.com
SUMMARY:vEdgy Comedy Show (a Comedy show for Vegans by Vegans)
DESCRIPTION:Hey Vegan Rebels! \nWant to see top comedians in the country but tired of not being able to enjoy the food? \nDon’t worry\, we got you!! \nPresenting vEdgy Comedy a comedy show for Vegans by Vegans! \nENJOY TOP COMEDIANS IN THE COUNTRY AS THEY DELIVER PLANT-POWERED PUNCHLINES! \nFeaturing: \n\nAndre D. Thompson (Tonight Show w/Jimmy Fallon)\nDiana Vogel (Gotham Comedy Club)\nIgor Martinez (NY Comedy Festival)\nSean Mallory (Stand-Up NY)\nBryan Torresdey (Kenan Thompson’s Ultimate Comedy Experience Finalist 2022)\nShafi Hossain (Penthouse Comedy)\nSPECIAL HEADLINER Myq Kaplan (Conan\, Comedy Central Presents\, Just For Laughs)\n\nTickets only $10 plus one delicious item during the show\, trust me you’ll want the food (recommend the OG burger!) \nPlease get tickets ASAP\, limited seating show WILL SELL OUT! \nFollow @vedgycomedy in IG for all updates!
URL:https://www.vkind.com/vegan-events/vedgy-comedy-show/
LOCATION:The Organic Grill\, 133 W 3rd St\, New York\, NY\, 10003\, us
ATTACH;FMTTYPE=image/jpeg:https://www.vkind.com/wp-content/uploads/2022/10/vEdgy-Comedy-Show-Poster.jpg
GEO:40.730873;-74.00079
X-APPLE-STRUCTURED-LOCATION;VALUE=URI;X-ADDRESS=The Organic Grill 133 W 3rd St New York NY 10003 us;X-APPLE-RADIUS=500;X-TITLE=133 W 3rd St:geo:-74.00079,40.730873
END:VEVENT
END:VCALENDAR