BEGIN:VCALENDAR
VERSION:2.0
PRODID:-//Vkind - ECPv6.15.14//NONSGML v1.0//EN
CALSCALE:GREGORIAN
METHOD:PUBLISH
X-WR-CALNAME:Vkind
X-ORIGINAL-URL:https://www.vkind.com
X-WR-CALDESC:Events for Vkind
REFRESH-INTERVAL;VALUE=DURATION:PT1H
X-Robots-Tag:noindex
X-PUBLISHED-TTL:PT1H
BEGIN:VTIMEZONE
TZID:America/Phoenix
BEGIN:STANDARD
TZOFFSETFROM:-0700
TZOFFSETTO:-0700
TZNAME:MST
DTSTART:20210101T000000
END:STANDARD
END:VTIMEZONE
BEGIN:VEVENT
DTSTART;TZID=America/Phoenix:20221217T110000
DTEND;TZID=America/Phoenix:20221217T160000
DTSTAMP:20260424T013258
CREATED:20221216T170315Z
LAST-MODIFIED:20221216T170315Z
UID:10000393-1671274800-1671292800@www.vkind.com
SUMMARY:OC VEGAN FEST
DESCRIPTION:OC VEGAN FEST Hosted by The Plant District at The Blue Lot\, Venue address is: \n119 N Bush St\, Santa Ana\, California. \nHappening on Saturday\, December 17th\, 2022 from 11AM-4PM. \nParking is 1 block away from the venue in the DTSA Parking Lots. Parking Address is : 300 E 5th St\, Santa Ana\, CA 92701 or any surrounding structure. \nSanta Ana’s Vegan & Plant Based festival\, bringing together some of the best plant based talent around! ???????????????? \nMark the Calendar and tell all of your friends and family! \nThe Plant District is a nonprofit organization dedicated to helping plant-based businesses meet their long/short term goals and become a successful thriving company. No matter what level they are at we meet them there and add more value to their business. \nWe can help with every aspect of growing your business from digital design\, printing banners/canopies/tablecloth/etc\, menu consultation\, finding and obtaining brick and mortar\, and even assist with funding.
URL:https://www.vkind.com/vegan-events/oc-vegan-fest/
LOCATION:OC VEGAN FEST\, 119 N Bush Street\, Santa Ana\, CA\, 92701\, United States
ATTACH;FMTTYPE=image/jpeg:https://www.vkind.com/wp-content/uploads/2022/12/OC-VEGAN-FEST.jpg
GEO:33.7461663;-117.8663159
X-APPLE-STRUCTURED-LOCATION;VALUE=URI;X-ADDRESS=OC VEGAN FEST 119 N Bush Street Santa Ana CA 92701 United States;X-APPLE-RADIUS=500;X-TITLE=119 N Bush Street:geo:-117.8663159,33.7461663
END:VEVENT
END:VCALENDAR