BEGIN:VCALENDAR
VERSION:2.0
PRODID:-//Vkind - ECPv6.15.14//NONSGML v1.0//EN
CALSCALE:GREGORIAN
METHOD:PUBLISH
X-ORIGINAL-URL:https://www.vkind.com
X-WR-CALDESC:Events for Vkind
REFRESH-INTERVAL;VALUE=DURATION:PT1H
X-Robots-Tag:noindex
X-PUBLISHED-TTL:PT1H
BEGIN:VTIMEZONE
TZID:-04:00
END:VTIMEZONE
BEGIN:VEVENT
DTSTART;TZID=-04:00:20240421T100000
DTEND;TZID=-04:00:20240421T173000
DTSTAMP:20260423T213214
CREATED:20240305T182034Z
LAST-MODIFIED:20240421T140056Z
UID:10007662-1713693600-1713720600@www.vkind.com
SUMMARY:Help Wanted for VSDC Table for Planet Virginia!
DESCRIPTION:[Update: VSDC is set for volunteers for our table at Planet Virginia and we appreciate the great support from our community!\nThis meetup event is for those who want to volunteer to help staff the VSDC table.] \n**As a proud sponsor of Planet Virginia (and the Planet series!)\, VSDC will have a table at Planet Virginia – a Free\, outdoor\, all-vegan event in Herndon VA with great speakers and delicious food!**\n**We need volunteers to sign up for shifts at the VSDC table on Sunday\, April 21st from 10 am to 5:30 pm.**\nIf you can take a shift at the VSDC table\, please include your first and last name and also indicate what volunteer time-block you prefer when you RSVP. Shifts are: 10-12\, 12-2\, 2-4\, 4-5:30; if you are flexible\, please indicate “Any”.\nNote: Only the VSDC organizers will see these details. Then we will be in touch to provide more information and training. \n**Planet Virginia needs volunteers as well!** This includes set-up before and break-down and load-out after the event. You can sign up [here.](https://planetseriesevents.org/volunteer-2/) \n**About Planet Virginia -** a free event that is open to the public\nDue to popular demand\, the Planet Series expanded into Virginia (along with Maryland\, DC and Delaware) in 2024\, merging with the Fairfax Veg Fest. \nThe Speaker lineup is: \n* Event emcee **Eric C Lindstrom** (as *The Skeptical Vegan*)\n* Opening remarks (**Lisa DeCrescente**): 10:00 – 10:15\n* **Dr. Neal Barnard**\, PCRM: 10:15 – 11:15\n* **Gene Baur**\, Farm Sanctuary:11:15 – 11:45\n* **Jane Demarines**\, Sustainable Earth Eating: 12:00 – 12:15\n* **Gwyn Whittaker\,** GreenFare: 12:15 – 12:45\n* **Sisters Serving U**: 1:00 – 1:40\n* **Dr. T. Colin Campbell**: 2:00 – 3:00\n* **Leanne Campbell**: 3:15 – 3:45\n* **Dr. Kim Williams**: 4:00 – 4:45\n* Closing remarks (Lisa DeCrescente): 4:45 – 5:00 \nThe full schedule is available [here:](https://planetseriesevents.org/virginia/) \n**VSDC: More Than A Meetup**\nWe are so glad to have you as part of The Veg Society of DC Vegan Meetup group\, and we enjoy seeing you at our events. Did you know that [VSDC](https://vsdc.org/) is a nonprofit organization with membership benefits? \nWith VSDC membership\, you will save money at area restaurants and businesses\, attend VSDC member-only events\, and\, most importantly\, support us as a clear and consistent voice for improving the lives of all beings through community building and education centered on the benefits of a vegan diet and lifestyle. \nThe VSDC membership fee is minimal\, but the impact is significant! [Become a member of VSDC](https://vsdc.org/membership/). \n**Liability Waiver and Code of Conduct**\nWhen you sign up to attend\, you automatically acknowledge [VSDC’s Liability Waiver](https://vsdc.org/activity-waiver/) and commit to follow the code of conduct found at [Policies – VSDC – Veg Society of DC](https://vsdc.org/policies/). \n**VSDC. Creating communities. For your health\, the animals\, and the planet.**
URL:https://www.vkind.com/vegan-events/help-wanted-vsdc-volunteers-needed-for-planet-virginia/
LOCATION:Northwest Federal Credit Union Headquarters\, 200 Spring St #120\, Herndon\, VA\, 20170\, United States
ATTACH;FMTTYPE=image/jpeg:https://www.vkind.com/wp-content/uploads/2024/03/1024x576-UX6z1Q.tmp_.jpg
GEO:38.95959;-77.37449
X-APPLE-STRUCTURED-LOCATION;VALUE=URI;X-ADDRESS=Northwest Federal Credit Union Headquarters 200 Spring St #120 Herndon VA 20170 United States;X-APPLE-RADIUS=500;X-TITLE=200 Spring St #120:geo:-77.37449,38.95959
END:VEVENT
BEGIN:VEVENT
DTSTART;TZID=-04:00:20240421T100000
DTEND;TZID=-04:00:20240421T170000
DTSTAMP:20260423T213214
CREATED:20240313T234033Z
LAST-MODIFIED:20240421T140100Z
UID:10007671-1713693600-1713718800@www.vkind.com
SUMMARY:Attend Planet Virginia!  Volunteers Needed
DESCRIPTION:[Update: PLEASE do attend Planet Virginia on Sun April 21st – it is FREE and all are welcome. We expect the organizers are not accepting volunteers to sign-up now for the overall event.] \n**As a proud sponsor of Planet Virginia (and the Planet series!)\,** the [Veg Society of DC ](https://vsdc.org/)(VSDC) encourages our members to attend [Planet Virginia](https://planetseriesevents.org/virginia/)\, a free\, outdoor\, all-vegan event with great speakers and delicious food! It is open to the public and happening on Sunday\, April 21st\, from 10 am to 5 pm\, in Herndon\, Virginia. \nInvite and bring your family and friends to this fun and educational event! \nVSDC has scheduled this meetup event to publicize Planet Virginia\, to encourage people to attend\, and to encourage people to volunteer for the overall event. \nThe [Planet Virginia](https://planetseriesevents.org/virginia/) team needs volunteers all day including set-up\, various aspects during the day\, and for break-down and load-out. Please go to their [volunteer webpage (click this hyperlink)](https://planetseriesevents.org/volunteer-2/) to sign up today to help them today. \nConfirmed speakers include:\nNeal Barnard MD\nDr. T Colin Campbell\nLeAnne Campbell\nGene Baur\nDr. Kim Williams \nThe full schedule is available [here.](https://planetseriesevents.org/virginia/) \nJoin many of your friends from VSDC and our vegan meetup group who will be attending! Please be sure to volunteer for the Planet Virginia event [here.](https://planetseriesevents.org/volunteer-2/) \nAbout Planet Virginia:\nThe [Planet Series ](https://planetseriesevents.org/)has expanded into Virginia (along with Maryland\, DC and Delaware) in 2024\, merging with the Fairfax Veg Fest. \n**VSDC: More Than A Meetup**\nWe are so glad to have you as part of The Veg Society of DC Vegan Meetup group\, and we enjoy seeing you at our events. Did you know that [VSDC](https://vsdc.org/) is a nonprofit organization with membership benefits? \nWith VSDC membership\, you will save money at area restaurants and businesses\, attend VSDC member-only events\, and\, most importantly\, support us as a clear and consistent voice for improving the lives of all beings through community building and education centered on the benefits of a vegan diet and lifestyle. \nThe VSDC membership fee is minimal\, but the impact is significant! [Become a member of VSDC](https://vsdc.org/membership/). \n**VSDC. Creating communities. For your health\, the animals\, and the planet.**
URL:https://www.vkind.com/vegan-events/attend-planet-virginia-volunteers-needed/
LOCATION:Northwest Federal Credit Union Headquarters\, 200 Spring St #120\, Herndon\, VA\, 20170\, United States
ATTACH;FMTTYPE=image/jpeg:https://www.vkind.com/wp-content/uploads/2024/03/1024x576-gTu3Bq.tmp_.jpg
GEO:38.95959;-77.37449
X-APPLE-STRUCTURED-LOCATION;VALUE=URI;X-ADDRESS=Northwest Federal Credit Union Headquarters 200 Spring St #120 Herndon VA 20170 United States;X-APPLE-RADIUS=500;X-TITLE=200 Spring St #120:geo:-77.37449,38.95959
END:VEVENT
BEGIN:VEVENT
DTSTART;TZID=-04:00:20230423T100000
DTEND;TZID=-04:00:20230423T170000
DTSTAMP:20260423T213214
CREATED:20230328T162131Z
LAST-MODIFIED:20230423T190457Z
UID:10000483-1682244000-1682269200@www.vkind.com
SUMMARY:Fairfax Veg Fest + VSDC/Meetup Gathering at 1 pm
DESCRIPTION:*Update 4/15/23:*\n*VSDC and our meetup members will gather at 1 pm to meet one another and eat lunch together. We will gather just behind the Fairfax VF registration/info table. Look for Saurabh who will be wearing a Green VSDC t-shirt. Then we will find a nice shady spot to hang out.* \n**The Fairfax Veg Fest is free (see below to get a free ticket) and activities include:** \n* **Rock star speakers**\n* **80+ Exhibitors\, with food vendors**\n* **C﻿ooking Demos**\n* **Live Music (Close Enough\, International Trio)**\n* **F﻿ace Painting for kids**\n* **Peaceful Fields Farm Sanctuary ambassadors**\n* **Adoptable dogs from FOHA (bring your own dog)** \n**Bring a chair\, a water bottle\, and anything else you need for this outdoor event.** \nFor full information and to get a free ticket\, see the Fairfax Veg Fest website at:\n[https://www.fairfaxvegfest.org/](https://www.fairfaxvegfest.org/) \nPlease note that VSDC will not have a table at this event but we are pleased to support and promote the festival. Be sure to direct all inquiries to the Fairfax Veg Fest organizers at:\n[https://www.fairfaxvegfest.org](https://www.fairfaxvegfest.org/) \n*By signing up for this event you are agreeing to abide by our harassment policy https://vsdc.org/policies/*
URL:https://www.vkind.com/vegan-events/faifax-veg-fest/
LOCATION:Northwest Federal Credit Union Headquarters\, 200 Spring St #120\, Herndon\, VA\, 20170\, United States
ATTACH;FMTTYPE=image/jpeg:https://www.vkind.com/wp-content/uploads/2023/03/1024x576-1J1hkC.tmp_.jpg
GEO:38.95959;-77.37449
X-APPLE-STRUCTURED-LOCATION;VALUE=URI;X-ADDRESS=Northwest Federal Credit Union Headquarters 200 Spring St #120 Herndon VA 20170 United States;X-APPLE-RADIUS=500;X-TITLE=200 Spring St #120:geo:-77.37449,38.95959
END:VEVENT
END:VCALENDAR