BEGIN:VCALENDAR
VERSION:2.0
PRODID:-//Vkind - ECPv6.15.14//NONSGML v1.0//EN
CALSCALE:GREGORIAN
METHOD:PUBLISH
X-ORIGINAL-URL:https://www.vkind.com
X-WR-CALDESC:Events for Vkind
REFRESH-INTERVAL;VALUE=DURATION:PT1H
X-Robots-Tag:noindex
X-PUBLISHED-TTL:PT1H
BEGIN:VTIMEZONE
TZID:-05:00
END:VTIMEZONE
BEGIN:VTIMEZONE
TZID:-04:00
END:VTIMEZONE
BEGIN:VEVENT
DTSTART;TZID=-05:00:20250307T183000
DTEND;TZID=-05:00:20250307T210000
DTSTAMP:20260423T193519
CREATED:20250217T142029Z
LAST-MODIFIED:20250307T195517Z
UID:10007886-1741372200-1741381200@www.vkind.com
SUMMARY:Veg*n Dinner @ The VEGOIST - No5 #LongIslandCity #Queens
DESCRIPTION:***It is perfectly all right to arrive at 7:30pm or 8:00pm\, though arriving at 6:30 or 7:00 is ideal. The group will be hanging out until 9:00pm at the venue.*** \nJoin us as we’ll be visiting No5NYC\, a bar/restaurant located in Long Island City (Queens)\, NYC. We have hosted Meetup events at this venue in the past\, and we are excited to host again this year. With their newly expanded indoor space\, and wonderful vegan options\, dining here during this Winter-Spring season makes perfect sense. \nFor more info :\n**Website** – [https://www.no5nyc.com/](https://www.no5nyc.com/)\nor Follow them on Instagram **@the_vegoist** \nCome join us at The Vegoist- No5NYC for an evening of delicious veg*n cuisine! Please note that they do have a Vegan Menu. \nI want to share some recent **Google reviews – Rating 4.4/5** \nRomy Wei – “Best vegan food in the nyc area! We shared a few things and they were all amazing\, every detail was great. The chocolate cake was divine. The atmosphere is also really cool\, it’s giving an urban jungle\, funky-disco vibe. The waiter was also really nice and the food only took a few minutes. 10/10 would recommend!” \nChastity V – “This is my and my daughter’s favorite restaurant. It’s a nice vibe and a chill atmosphere. They have board games you can play with. Anytime we came here to eat Andrea has been our server and she’s so nice and sweet and has a beautiful energy. The food is delicious\, they have vegan and non-vegan options. This time we had chips and Guacamole\, chicken less taco\, vegan cheese Quesadilla and a beyond burger with fries. My favorite dessert is the vegan carrot cake.” \nJoin us from 6:30pm-9:00pm\n**No5 NYC**\n**35-43 37th St\, Long Island City\, NY** \nWith all the wonderful vegetarians and vegans who attend each of our events\, people enjoy the fact they can mingle (speak with lots of different people)\, and they love the beautiful venues that we go to. Join us for a stellar evening of lively conversation and lovely surroundings with fellow vegetarians and vegans. \nFor our new members: this is an incredibly friendly and welcoming group. We’ll be hanging out outdoors by the patio area\, and you can get to know all our wonderful members. \nDress comfortably! No5NYC will be the perfect location for us to chill and enjoy the Winter-spring evening. \n**TRAIN DIRECTIONS:** Take the N\, W train to 36th Ave Subway Station\, just 0.3 mile/ 7 min walk to No 5 NYC\, or take the R\, M train to 36 Street Subway Station\, just 0.3 mile/ 8 min walk to the venue. \nJoin us for a fun and relaxed festive evening socializing with fellow vegetarians and vegans. \nWe would love to have you join us – Mark the day! \nKarthik :)) \n***It is perfectly all right to arrive at 7:30pm or 8:00pm\, though arriving at 6:30 or 7:00 is ideal. The group will be hanging out until 9:00pm at the venue.*** \nImage Courtesy – https://www.happycow.net/reviews/the-vegoist-at-no5-astoria-103886
URL:https://www.vkind.com/vegan-events/vegn-dinner-the-vegoist-no5-longislandcity-queens-2/
LOCATION:The VEGOIST @ No5\, 35-43 37th St\, Queens\, NY\, 11101\, United States
ATTACH;FMTTYPE=image/jpeg:https://www.vkind.com/wp-content/uploads/2025/02/1024x576-kJ5y8E.tmp_.jpg
GEO:40.754517;-73.9246
X-APPLE-STRUCTURED-LOCATION;VALUE=URI;X-ADDRESS=The VEGOIST @ No5 35-43 37th St Queens NY 11101 United States;X-APPLE-RADIUS=500;X-TITLE=35-43 37th St:geo:-73.9246,40.754517
END:VEVENT
BEGIN:VEVENT
DTSTART;TZID=-04:00:20240416T183000
DTEND;TZID=-04:00:20240416T210000
DTSTAMP:20260423T193519
CREATED:20240327T194559Z
LAST-MODIFIED:20240414T094024Z
UID:10007676-1713292200-1713301200@www.vkind.com
SUMMARY:Veg*n Dinner @ The VEGOIST - No5 #LongIslandCity #Queens
DESCRIPTION:***It is perfectly all right to arrive at 7:30pm or 8:00pm\, though arriving at 6:30 or 7:00 is ideal. The group will be hanging out until 9:00pm at the venue.*** \nJoin us as we’ll be visiting No5NYC\, a bar/restaurant located in Long Island City (Queens)\, NYC. We have hosted Meetup events at this venue in the past\, and we are excited to host again this year. With their newly expanded outdoor patio\, and wonderful vegan options\, dining here during this Spring season makes perfect sense. \nFor more info :\n**Website** – [https://www.no5nyc.com/](https://www.no5nyc.com/)\nor Follow them on Instagram **@the_vegoist** \nCome join us at The Vegoist- No5NYC for an evening of delicious veg*n cuisine! Please note that they do have a Vegan Menu. \nI want to share some recent **Google reviews – Rating 4.5/5** \nEm Bash – “Absolutely love this vegan spot! The food is sooo delicious\, drinks are yummy and the service is always great. Also\, the decor and lighting is always on point. I have brought a lot of friends and family here and will continue to do so.” \nWan Chen – “Excellent vegan menu! And loved that they also have a non-vegan menu! My personal favorites are the “fish” tacos (flavorful\, crunchy\, texture is just like fish)\, vegan truffle mac and cheese (cheesy\, truffley\, and so comforting)\, and vegan butternut squash ravioli (definitely guilt free\, savory in every bite\, and the tomato sauce is divine!). Can’t wait to go back to try the rest of the menu. Oh\, my boyfriend ordered their vegan quesadilla (not pictured) and it was cheesy AF!” \nJoin us from 6:30pm-9:00pm\n**No5 NYC**\n**35-43 37th St\, Long Island City\, NY** \nWith all the wonderful vegetarians and vegans who attend each of our events\, people enjoy the fact they can mingle (speak with lots of different people)\, and they love the beautiful venues that we go to. Join us for a stellar evening of lively conversation and lovely surroundings with fellow vegetarians and vegans. \nFor our new members: this is an incredibly friendly and welcoming group. We’ll be hanging out outdoors by the patio area\, and you can get to know all our wonderful members. \nDress comfortably! No5NYC will be the perfect location for us to chill and enjoy the spring evening. \n**TRAIN DIRECTIONS:** Take the N\, W train to 36th Ave Subway Station\, just 0.3 mile/ 7 min walk to No 5 NYC\, or take the R\, M train to 36 Street Subway Station\, just 0.3 mile/ 8 min walk to the venue. \nJoin us for a fun and relaxed festive evening socializing with fellow vegetarians and vegans. \nWe would love to have you join us – Mark the day! \nKarthik :)) \n***It is perfectly all right to arrive at 7:30pm or 8:00pm\, though arriving at 6:30 or 7:00 is ideal. The group will be hanging out until 9:00pm at the venue.*** \nImage Courtesy – https://weheartastoria.com/
URL:https://www.vkind.com/vegan-events/vegn-dinner-the-vegoist-no5-longislandcity-queens/
LOCATION:The VEGOIST @ No5\, 35-43 37th St\, Queens\, NY\, 11101\, United States
ATTACH;FMTTYPE=image/jpeg:https://www.vkind.com/wp-content/uploads/2023/04/1024x576-Vbe86R.tmp_.jpg
GEO:40.754517;-73.9246
X-APPLE-STRUCTURED-LOCATION;VALUE=URI;X-ADDRESS=The VEGOIST @ No5 35-43 37th St Queens NY 11101 United States;X-APPLE-RADIUS=500;X-TITLE=35-43 37th St:geo:-73.9246,40.754517
END:VEVENT
BEGIN:VEVENT
DTSTART;TZID=-04:00:20230426T183000
DTEND;TZID=-04:00:20230426T210000
DTSTAMP:20260423T193519
CREATED:20230408T105101Z
LAST-MODIFIED:20230426T120516Z
UID:10000493-1682533800-1682542800@www.vkind.com
SUMMARY:Veg*n Dinner @ The VEGOIST - No5NYC #LongIslandCity #Queens
DESCRIPTION:***It is perfectly all right to arrive at 7:30pm or 8:00pm\, though arriving at 6:30 or 7:00 is ideal. The group will be hanging out until 9:00pm at the venue.*** \nJoin us as we’ll be visiting No5NYC\, a bar/restaurant located in Long Island City (Queens)\, NYC. We have hosted Meetup events at this venue in the past\, and we are excited to host again this year. With their newly expanded outdoor patio\, and wonderful vegan options\, dining here during this Spring season makes perfect sense. \nFor more info :\n**Website** – https://www.no5nyc.com/\nor Follow them on Instagram **@the_vegoist** \nCome join us at The Vegoist- No5NYC for an evening of delicious veg*n cuisine! Please note that they do have a Vegan Menu. \nI want to share some recent **Google reviews – Rating 4.5/5** \nEm Bash – “Absolutely love this vegan spot! The food is sooo delicious\, drinks are yummy and the service is always great. Also\, the decor and lighting is always on point. I have brought a lot of friends and family here and will continue to do so.” \nWan Chen – “Excellent vegan menu! And loved that they also have a non-vegan menu! My personal favorites are the “fish” tacos (flavorful\, crunchy\, texture is just like fish)\, vegan truffle mac and cheese (cheesy\, truffley\, and so comforting)\, and vegan butternut squash ravioli (definitely guilt free\, savory in every bite\, and the tomato sauce is divine!). Can’t wait to go back to try the rest of the menu. Oh\, my boyfriend ordered their vegan quesadilla (not pictured) and it was cheesy AF!” \nJoin us from 6:30pm-9:00pm\n**No5 NYC**\n**35-43 37th St\, Long Island City\, NY** \nWith all the wonderful vegetarians and vegans who attend each of our events\, people enjoy the fact they can mingle (speak with lots of different people)\, and they love the beautiful venues that we go to. Join us for a stellar evening of lively conversation and lovely surroundings with fellow vegetarians and vegans. \nFor our new members: this is an incredibly friendly and welcoming group. We’ll be hanging out outdoors by the patio area\, and you can get to know all our wonderful members. \nDress comfortably! No5NYC will be the perfect location for us to chill and enjoy the spring evening. \nTRAIN DIRECTIONS: Take the N\, W train to 36th Ave Subway Station\, just 0.3 mile/ 7 min walk to No 5 NYC\, or take the R\, M train to 36 Street Subway Station\, just 0.3 mile/ 8 min walk to the venue. \nJoin us for a fun and relaxed festive evening socializing with fellow vegetarians and vegans. \nWe would love to have you join us – Mark the day! \nKarthik :)) \n***It is perfectly all right to arrive at 7:30pm or 8:00pm\, though arriving at 6:30 or 7:00 is ideal. The group will be hanging out until 9:00pm at the venue.*** \nImage Courtesy – https://weheartastoria.com/
URL:https://www.vkind.com/vegan-events/vegn-dinner-the-vegoist-no5nyc-longislandcity-queens/
LOCATION:The VEGOIST @ No5\, 35-43 37th St\, Queens\, NY\, 11101\, United States
ATTACH;FMTTYPE=image/jpeg:https://www.vkind.com/wp-content/uploads/2023/04/1024x576-Vbe86R.tmp_.jpg
GEO:40.754517;-73.9246
X-APPLE-STRUCTURED-LOCATION;VALUE=URI;X-ADDRESS=The VEGOIST @ No5 35-43 37th St Queens NY 11101 United States;X-APPLE-RADIUS=500;X-TITLE=35-43 37th St:geo:-73.9246,40.754517
END:VEVENT
END:VCALENDAR