BEGIN:VCALENDAR
VERSION:2.0
PRODID:-//Vkind - ECPv6.15.14//NONSGML v1.0//EN
CALSCALE:GREGORIAN
METHOD:PUBLISH
X-ORIGINAL-URL:https://www.vkind.com
X-WR-CALDESC:Events for Vkind
REFRESH-INTERVAL;VALUE=DURATION:PT1H
X-Robots-Tag:noindex
X-PUBLISHED-TTL:PT1H
BEGIN:VTIMEZONE
TZID:-04:00
END:VTIMEZONE
BEGIN:VEVENT
DTSTART;TZID=-04:00:20250503T100000
DTEND;TZID=-04:00:20250503T130000
DTSTAMP:20260423T054643
CREATED:20250311T164057Z
LAST-MODIFIED:20250411T102041Z
UID:10007896-1746266400-1746277200@www.vkind.com
SUMMARY:VSDC Vegan Sketchers Visit to the U.S. National Arboretum
DESCRIPTION:Come sketch with us at the U.S. National Arboretum! We’ll spend the first hour and a half walking through some of the gardens\, gathering inspiration. Then we’ll head over to the National Capitol Columns grounds to find a shady spot to sit and sketch what we’ve seen. \nYou’ll need to bring your own art materials such as a sketchbook\, pencil(s)\, pen(s)\, small watercolor set\, brushes\, water\, etc. Sadly\, there are very few picnic tables positioned in the shade in the Arboretum\, so bring a packable camp chair and/or a blanket. Whatever will make you most comfortable sitting for the remainder of the event. Also\, feel free to bring a picnic lunch as there are no food concessions in the park. \nAll skill levels are encouraged to attend\, whether you’re a sketching newbie or a seasoned artist. I guarantee we all have something to learn from each other! \nDogs are welcome at the US Arboretum\, but are required to be leashed at all times. \nBathroom Facilities/Water: Restroom facilities and a water fountain are available at the R Street entrance. \nWeather: This event will be canceled if rain or strong winds are forecast. \n*** \n**Update Your RSVP** \nPlease update your RSVP promptly as your schedule changes. \n**VSDC: More Than A Meetup** \nWe are so glad to have you as part of The Veg Society of DC Vegan Meetup group\, and we enjoy seeing you at our events. Did you know that VSDC is a nonprofit organization with membership benefits? \nWith VSDC membership\, you will save money at area restaurants and businesses\, attend VSDC member-only events\, and\, most importantly\, support us as a clear and consistent voice for improving the lives of all beings through community building and education centered on the benefits of a vegan diet and lifestyle. \nThe membership fee is minimal\, but the impact is significant! Become a member of VSDC. \n**Liability Waiver and Code of Conduct** \nWhen you sign up to join\, you automatically acknowledge VSDC’s [Liability Waiver](https://vsdc.org/activity-waiver/) and commit to follow the code of conduct found at [Policies – VSDC – Veg Society of DC](https://vsdc.org/policies/) \n**VSDC. Creating communities. For your health\, the animals\, and the planet.**
URL:https://www.vkind.com/vegan-events/vegan-sketchers-visit-to-the-u-s-national-arboretum/
LOCATION:National Grove of State Trees\, National Arboretum\, 2400 R Street NE\, Washington\, dc\, 20002\, United States
ATTACH;FMTTYPE=image/jpeg:https://www.vkind.com/wp-content/uploads/2025/03/1024x576-YeIMrc.tmp_.jpg
GEO:38.9067;-76.969
X-APPLE-STRUCTURED-LOCATION;VALUE=URI;X-ADDRESS=National Grove of State Trees National Arboretum 2400 R Street NE Washington dc 20002 United States;X-APPLE-RADIUS=500;X-TITLE=2400 R Street NE:geo:-76.969,38.9067
END:VEVENT
END:VCALENDAR