BEGIN:VCALENDAR
VERSION:2.0
PRODID:-//Vkind - ECPv6.15.14//NONSGML v1.0//EN
CALSCALE:GREGORIAN
METHOD:PUBLISH
X-ORIGINAL-URL:https://www.vkind.com
X-WR-CALDESC:Events for Vkind
REFRESH-INTERVAL;VALUE=DURATION:PT1H
X-Robots-Tag:noindex
X-PUBLISHED-TTL:PT1H
BEGIN:VTIMEZONE
TZID:-04:00
END:VTIMEZONE
BEGIN:VEVENT
DTSTART;TZID=-04:00:20241006T140000
DTEND;TZID=-04:00:20241006T170000
DTSTAMP:20260423T211621
CREATED:20240904T144537Z
LAST-MODIFIED:20241006T034551Z
UID:10007789-1728223200-1728234000@www.vkind.com
SUMMARY:VSDC Veg Singles Scavenger Hunt
DESCRIPTION:Come form a team of veg singles and search for things! Find a duck\, find a statute of a mythical creature\, find love! \n*If it **is not** raining*\, we will have an outdoor scavenger hunt. Meet near the glass pyramids between the East and West buildings of the National Gallery of Art. \n*If it **is** raining*\, the hunt will be inside the National Gallery of Art. Go into the East building\, through security\, and meet near the indoor trees. \nIn either case\, look for your host\, Kathryn\, in a green VSDC shirt. We will split up into teams once the whole group is there\, so please arrive as close to 2 pm as possible. \nOnce we split up into teams\, each team will get the same list of items or artwork to search for. You will have 1.5 – 2 hours as a team to find as many things on the list as you can. We will meet back up at the end to announce the winner! \n**About the VSDC Veg Singles Group**\nThis group is for vegan and vegan-aspiring adults who do not currently have a romantic partner. People of any sexual orientation may join as long as they are single. Anyone 21 or older is welcome. You do not need to be looking to date; you can just come socialize with other singles. \n**Transportation**\nThe nearest Metro stations are Judiciary Square (Red Line)\, Archives – Navy Memorial (Green and Yellow Lines)\, and Smithsonian (Blue\, Orange\, and Silver Lines). There is limited street parking. \n**Update Your RSVP**\nPlease update your RSVP if you can no longer make it. \n**Liability Waiver and Code of Conduct**\nWhen you sign up to attend\, you automatically acknowledge [VSDC’s Liability Waiver](https://vsdc.org/activity-waiver/) and commit to follow the code of conduct found at [Policies – VSDC – Veg Society of DC](https://vsdc.org/policies/). \n**VSDC: More Than A Meetup**\nWe are so glad to have you as part of The Veg Society of DC Vegan Meetup group\, and we enjoy seeing you at our events. Did you know that [VSDC](https://vsdc.org/) is a nonprofit organization with membership benefits? \nWith VSDC membership\, you will save money at area restaurants and businesses\, attend VSDC member-only events\, and\, most importantly\, support us as a clear and consistent voice for improving the lives of all beings through community building and education centered on the benefits of a vegan diet and lifestyle. \nThe VSDC membership fee is minimal\, but the impact is significant! [Become a member of VSDC](https://vsdc.org/membership/). \n**VSDC. Creating communities. For your health\, the animals\, and the planet.**
URL:https://www.vkind.com/vegan-events/vsdc-veg-singles-scavenger-hunt/
LOCATION:National Gallery of Art\, 4th and Constitution Avenue NW\,\, Washington\, DC\, 20565\, United States
ATTACH;FMTTYPE=image/jpeg:https://www.vkind.com/wp-content/uploads/2024/09/1024x576-qAM3AC.tmp_.jpg
GEO:38.891388;-77.01779
X-APPLE-STRUCTURED-LOCATION;VALUE=URI;X-ADDRESS=National Gallery of Art 4th and Constitution Avenue NW Washington DC 20565 United States;X-APPLE-RADIUS=500;X-TITLE=4th and Constitution Avenue NW\,:geo:-77.01779,38.891388
END:VEVENT
END:VCALENDAR