BEGIN:VCALENDAR
VERSION:2.0
PRODID:-//Vkind - ECPv6.15.14//NONSGML v1.0//EN
CALSCALE:GREGORIAN
METHOD:PUBLISH
X-WR-CALNAME:Vkind
X-ORIGINAL-URL:https://www.vkind.com
X-WR-CALDESC:Events for Vkind
REFRESH-INTERVAL;VALUE=DURATION:PT1H
X-Robots-Tag:noindex
X-PUBLISHED-TTL:PT1H
BEGIN:VTIMEZONE
TZID:-05:00
END:VTIMEZONE
BEGIN:VEVENT
DTSTART;TZID=-05:00:20231217T170000
DTEND;TZID=-05:00:20231217T200000
DTSTAMP:20260424T222751
CREATED:20231130T072042Z
LAST-MODIFIED:20231214T145537Z
UID:10007595-1702832400-1702843200@www.vkind.com
SUMMARY:HipCityVeg & Holiday Lights with Vegan Trekkers
DESCRIPTION:Let’s meet at [Hip City Veg ](https://hipcityveg.com/locations/) 712 7th Street NW to order dinner at 5pm. We’ll take our food to the nearby [Kogod Courtyard](https://americanart.si.edu/visit/saam/kogod-courtyard) (enclosed and heated) which is part of the National Portrait Gallery. \nAfter eating\, we’ll check out the [Downtown Holiday Market in Penn Quarter](https://downtownholidaymarket.com/) which is around the corner from the National Portrait Gallery\, before heading over to President’s Park on the Ellipse to see the [National Christmas Tree](https://www.nps.gov/whho/planyourvisit/national-christmas-tree.htm) and the trees representing the 56 states and territories. We’ll also walk to the front of the White House to see the decorations before walking back to Gallery Place. \nPlease dress for the weather! We’ll be walking about 3 miles or so. \n*When you register to join this event\, you automatically acknowledge [VSDC’s Liability Waiver](https://vsdc.org/activity-waiver/)* \n*By coming to this event\, we expect you to follow the code of conduct found at [Policies – VSDC – Veg Society of DC](https://vsdc.org/policies/)* \n***\n[VSDC](https://vsdc.org/) is a clear and consistent voice for improving the lives of all beings through education on the benefits of a vegan diet & lifestyle. Sharing food is the bond that brings families together; so it is with VSDC. From simply “breaking bread” to experiencing delicious and nutritious vegan foods from around the world\, we make your journey easier\, enjoyable & meaningful. \n**VSDC. Creating communities. For your health\, the animals\, and the planet.** \n>
URL:https://www.vkind.com/vegan-events/hip-city-veg-holiday-lights-with-vegan-trekkers/
LOCATION:National Christmas Tree\, E St NW\, Washington\, DC\, 20500\, us
ATTACH;FMTTYPE=image/jpeg:https://www.vkind.com/wp-content/uploads/2023/11/1024x576-lgcdXv.tmp_.jpg
GEO:38.8949;-77.03631
X-APPLE-STRUCTURED-LOCATION;VALUE=URI;X-ADDRESS=National Christmas Tree E St NW Washington DC 20500 us;X-APPLE-RADIUS=500;X-TITLE=E St NW:geo:-77.03631,38.8949
END:VEVENT
END:VCALENDAR