BEGIN:VCALENDAR
VERSION:2.0
PRODID:-//Vkind - ECPv6.15.14//NONSGML v1.0//EN
CALSCALE:GREGORIAN
METHOD:PUBLISH
X-WR-CALNAME:Vkind
X-ORIGINAL-URL:https://www.vkind.com
X-WR-CALDESC:Events for Vkind
REFRESH-INTERVAL;VALUE=DURATION:PT1H
X-Robots-Tag:noindex
X-PUBLISHED-TTL:PT1H
BEGIN:VTIMEZONE
TZID:America/Toronto
BEGIN:DAYLIGHT
TZOFFSETFROM:-0500
TZOFFSETTO:-0400
TZNAME:EDT
DTSTART:20220313T070000
END:DAYLIGHT
BEGIN:STANDARD
TZOFFSETFROM:-0400
TZOFFSETTO:-0500
TZNAME:EST
DTSTART:20221106T060000
END:STANDARD
BEGIN:DAYLIGHT
TZOFFSETFROM:-0500
TZOFFSETTO:-0400
TZNAME:EDT
DTSTART:20230312T070000
END:DAYLIGHT
BEGIN:STANDARD
TZOFFSETFROM:-0400
TZOFFSETTO:-0500
TZNAME:EST
DTSTART:20231105T060000
END:STANDARD
BEGIN:DAYLIGHT
TZOFFSETFROM:-0500
TZOFFSETTO:-0400
TZNAME:EDT
DTSTART:20240310T070000
END:DAYLIGHT
BEGIN:STANDARD
TZOFFSETFROM:-0400
TZOFFSETTO:-0500
TZNAME:EST
DTSTART:20241103T060000
END:STANDARD
END:VTIMEZONE
BEGIN:VEVENT
DTSTART;TZID=America/Toronto:20230909T110000
DTEND;TZID=America/Toronto:20230910T180000
DTSTAMP:20260423T025510
CREATED:20230728T143542Z
LAST-MODIFIED:20230728T143542Z
UID:10007477-1694257200-1694368800@www.vkind.com
SUMMARY:VegTO Fest
DESCRIPTION:The 38th edition of our festival\, now known as VegTO Fest is being held September 9-10 from 11am-6pm at Nathan Phillips Square in downtown Toronto. The square attracts an estimated 1.5 million visitors yearly. With an area of 4.85 hectares (12.0 acres)\, it is Canada’s largest city square.It’s located very centrally\, a short walk from two subway stops\, a streetcar route as well as landmarks like the Eaton Centre\, Yonge and Dundas Square. Driving in from outside the city? There’s a huge parking lot right underneath the Square.
URL:https://www.vkind.com/vegan-events/vegto-fest/
LOCATION:Nathan Phillips Square\, 100 Queen Street West\, Toronto\, ON M5H 2N1\, Canada
ATTACH;FMTTYPE=image/jpeg:https://www.vkind.com/wp-content/uploads/2023/07/VegTO-Fest.jpg
GEO:43.6527709;-79.3846994
X-APPLE-STRUCTURED-LOCATION;VALUE=URI;X-ADDRESS=Nathan Phillips Square 100 Queen Street West Toronto ON M5H 2N1 Canada;X-APPLE-RADIUS=500;X-TITLE=100 Queen Street West:geo:-79.3846994,43.6527709
END:VEVENT
END:VCALENDAR