BEGIN:VCALENDAR
VERSION:2.0
PRODID:-//Vkind - ECPv6.15.14//NONSGML v1.0//EN
CALSCALE:GREGORIAN
METHOD:PUBLISH
X-ORIGINAL-URL:https://www.vkind.com
X-WR-CALDESC:Events for Vkind
REFRESH-INTERVAL;VALUE=DURATION:PT1H
X-Robots-Tag:noindex
X-PUBLISHED-TTL:PT1H
BEGIN:VTIMEZONE
TZID:America/New_York
BEGIN:DAYLIGHT
TZOFFSETFROM:-0500
TZOFFSETTO:-0400
TZNAME:EDT
DTSTART:20220313T070000
END:DAYLIGHT
BEGIN:STANDARD
TZOFFSETFROM:-0400
TZOFFSETTO:-0500
TZNAME:EST
DTSTART:20221106T060000
END:STANDARD
BEGIN:DAYLIGHT
TZOFFSETFROM:-0500
TZOFFSETTO:-0400
TZNAME:EDT
DTSTART:20230312T070000
END:DAYLIGHT
BEGIN:STANDARD
TZOFFSETFROM:-0400
TZOFFSETTO:-0500
TZNAME:EST
DTSTART:20231105T060000
END:STANDARD
BEGIN:DAYLIGHT
TZOFFSETFROM:-0500
TZOFFSETTO:-0400
TZNAME:EDT
DTSTART:20240310T070000
END:DAYLIGHT
BEGIN:STANDARD
TZOFFSETFROM:-0400
TZOFFSETTO:-0500
TZNAME:EST
DTSTART:20241103T060000
END:STANDARD
END:VTIMEZONE
BEGIN:VEVENT
DTSTART;TZID=America/New_York:20230916T120000
DTEND;TZID=America/New_York:20230916T180000
DTSTAMP:20260423T143620
CREATED:20230726T190336Z
LAST-MODIFIED:20230726T190336Z
UID:10003209-1694865600-1694887200@www.vkind.com
SUMMARY:The Veggie Taste
DESCRIPTION:We are celebrating 13 years supporting attendees with their transitioning into a Healthier Eating Lifestyle in Atlanta & the Metro Area.\nThis is the largest outdoor Vegan/ Plant Based Festival in Atlanta. \nThe Veggie Taste – 13th Annual\nGet ready for this VEGAN\, RAW\, PLANT BASED and VEGETARIAN Tasting Event where chefs will be sampling some of their delicious mouthwatering cuisine.\nThe Veggie Taste – 13th Annual\, is a family fun filled event encouraging healthy eating habits to everyone. You will learn how easy it is to transition into a more Healthy Lifestyle. \nThis Health & Wellness Event will have Nutritional Speakers\, Artisan Marketplace\, music\, product samples and much more.
URL:https://www.vkind.com/vegan-events/the-veggie-taste/
LOCATION:Morris Brown College\, 1 Walnut Street SW\, Atlanta\, GA\, 30314\, United States
ATTACH;FMTTYPE=image/jpeg:https://www.vkind.com/wp-content/uploads/2023/07/The-Veggie-Taste.jpg
GEO:33.7539184;-84.4065569
X-APPLE-STRUCTURED-LOCATION;VALUE=URI;X-ADDRESS=Morris Brown College 1 Walnut Street SW Atlanta GA 30314 United States;X-APPLE-RADIUS=500;X-TITLE=1 Walnut Street SW:geo:-84.4065569,33.7539184
END:VEVENT
END:VCALENDAR