BEGIN:VCALENDAR
VERSION:2.0
PRODID:-//Vkind - ECPv6.15.14//NONSGML v1.0//EN
CALSCALE:GREGORIAN
METHOD:PUBLISH
X-WR-CALNAME:Vkind
X-ORIGINAL-URL:https://www.vkind.com
X-WR-CALDESC:Events for Vkind
REFRESH-INTERVAL;VALUE=DURATION:PT1H
X-Robots-Tag:noindex
X-PUBLISHED-TTL:PT1H
BEGIN:VTIMEZONE
TZID:America/Detroit
BEGIN:DAYLIGHT
TZOFFSETFROM:-0500
TZOFFSETTO:-0400
TZNAME:EDT
DTSTART:20220313T070000
END:DAYLIGHT
BEGIN:STANDARD
TZOFFSETFROM:-0400
TZOFFSETTO:-0500
TZNAME:EST
DTSTART:20221106T060000
END:STANDARD
BEGIN:DAYLIGHT
TZOFFSETFROM:-0500
TZOFFSETTO:-0400
TZNAME:EDT
DTSTART:20230312T070000
END:DAYLIGHT
BEGIN:STANDARD
TZOFFSETFROM:-0400
TZOFFSETTO:-0500
TZNAME:EST
DTSTART:20231105T060000
END:STANDARD
BEGIN:DAYLIGHT
TZOFFSETFROM:-0500
TZOFFSETTO:-0400
TZNAME:EDT
DTSTART:20240310T070000
END:DAYLIGHT
BEGIN:STANDARD
TZOFFSETFROM:-0400
TZOFFSETTO:-0500
TZNAME:EST
DTSTART:20241103T060000
END:STANDARD
END:VTIMEZONE
BEGIN:VEVENT
DTSTART;TZID=America/Detroit:20230715T120000
DTEND;TZID=America/Detroit:20230715T180000
DTSTAMP:20260423T154222
CREATED:20230531T182237Z
LAST-MODIFIED:20230531T182237Z
UID:10000538-1689422400-1689444000@www.vkind.com
SUMMARY:Bluegrass VegFest
DESCRIPTION:Bluegrass VegFest returns to the historic Mellwood Art Center\, just minutes from downtown Louisville\, on Saturday\, July 15th\, 2023! Here’s your opportunity to check out an exciting array of 100% plant-based/vegan cuisine and products in the rapidly expanding world of plant-based eating and vegan living. \nThe festival attracts thousands of attendees who are passionate about food\, health\, the planet\, animals\, and socially/eco-conscious companies. Featuring restaurants serving up 100% plant-based food\, fabulous food trucks\, local craft beer\, renowned speakers\, cooking demos\, commercial & non-profit exhibitors\, educational exhibits\, kids’ zone and more!
URL:https://www.vkind.com/vegan-events/bluegrass-vegfest/
LOCATION:Mellwood Art Center\, 1860 Mellwood Avenue\, Lousiville\, KY\, 40206\, United States
ATTACH;FMTTYPE=image/jpeg:https://www.vkind.com/wp-content/uploads/2023/05/Bluegrass-Vegfest.jpg
GEO:38.2630328;-85.7132603
X-APPLE-STRUCTURED-LOCATION;VALUE=URI;X-ADDRESS=Mellwood Art Center 1860 Mellwood Avenue Lousiville KY 40206 United States;X-APPLE-RADIUS=500;X-TITLE=1860 Mellwood Avenue:geo:-85.7132603,38.2630328
END:VEVENT
END:VCALENDAR