BEGIN:VCALENDAR
VERSION:2.0
PRODID:-//Vkind - ECPv6.15.14//NONSGML v1.0//EN
CALSCALE:GREGORIAN
METHOD:PUBLISH
X-WR-CALNAME:Vkind
X-ORIGINAL-URL:https://www.vkind.com
X-WR-CALDESC:Events for Vkind
REFRESH-INTERVAL;VALUE=DURATION:PT1H
X-Robots-Tag:noindex
X-PUBLISHED-TTL:PT1H
BEGIN:VTIMEZONE
TZID:-05:00
END:VTIMEZONE
BEGIN:VEVENT
DTSTART;TZID=-05:00:20230202T180000
DTEND;TZID=-05:00:20230202T210000
DTSTAMP:20260424T100306
CREATED:20230113T020527Z
LAST-MODIFIED:20230202T053613Z
UID:10000421-1675360800-1675371600@www.vkind.com
SUMMARY:Vegan Dinner + Drinks @ LUZ Market + Restaurant + Bar (97 St. Mark's Place)
DESCRIPTION:***Arrive any time between 6:00pm and 9:00pm and stay as long as you want or leave when you need to. Arriving at 7:00pm or 8:00pm is perfectly great.*** \n**Groundhog Day 2023:** Do you feel like you’re experiencing the same day over and over again where **silly superstitious people exploit groundhogs\, keeping them captive and make them perform in front of raucous crowds of looky loos and paparazzi? UGH!** \n**Instead\, let us break that cycle** and **anticipate the coming of spring** by **getting together and partaking of a delicious meal\, good conversation and a chill vibe** at Luz Market + Restaurant + Bar on St. Mark’s Place! \nWe have personally have eaten at Luz and **the combination of relaxing ambiance and appetizing food made this place PERFECT for a meetup** and the owner was only too willing to accommodate us! \nBut don’t take my word for it! look over their **all-vegan\, plant based menu!**\n[https://www.luznewyork.com/eat](https://www.luznewyork.com/eat)\nThere is also a **vegan bar**!\n[https://www.luznewyork.com/drink](https://www.luznewyork.com/drink) \n**For our new members**: This is an incredibly friendly and welcoming group. A splendid time is guaranteed for all that love lively conversations and delectable food with delightful vegetarians and vegans. \nEveryone pays for themselves. And LUZ takes major credit cards. \n**Public Transit Directions:** \n**M8 Bus** to St Marks/Place 1st Ave Stop (3 Minutes)\n**M15 Bus** to St Marks/Place 1st Ave Stop\n**L Train** to 1st Avenue stop (then a 7 minute walk)\n**6 Train** Astor Place (7 Minute Walk)\n**R W Train** 8th Street (7 Minute Walk)\n**F Station** 2nd Avenue (8 Minute Walk) \n***Arrive any time between 6:00pm and 9:00pm and stay as long as you want or leave when you need to. Arriving at 7:00pm or 8:00pm is perfectly great.*** \nLooking forward to seeing you there!\nSincerely\,\nKristal & Phil
URL:https://www.vkind.com/vegan-events/vegan-dinner-drinks-luz-market-restaurant-bar-97-st-marks-place/
LOCATION:Luz\, 97 St Marks Pl\, New York\, NY\, 10009\, us
ATTACH;FMTTYPE=image/jpeg:https://www.vkind.com/wp-content/uploads/2023/01/1024x576-3HOEsu.tmp_.jpg
GEO:40.72747;-73.98459
X-APPLE-STRUCTURED-LOCATION;VALUE=URI;X-ADDRESS=Luz 97 St Marks Pl New York NY 10009 us;X-APPLE-RADIUS=500;X-TITLE=97 St Marks Pl:geo:-73.98459,40.72747
END:VEVENT
END:VCALENDAR