BEGIN:VCALENDAR
VERSION:2.0
PRODID:-//Vkind - ECPv6.15.14//NONSGML v1.0//EN
CALSCALE:GREGORIAN
METHOD:PUBLISH
X-ORIGINAL-URL:https://www.vkind.com
X-WR-CALDESC:Events for Vkind
REFRESH-INTERVAL;VALUE=DURATION:PT1H
X-Robots-Tag:noindex
X-PUBLISHED-TTL:PT1H
BEGIN:VTIMEZONE
TZID:-05:00
END:VTIMEZONE
BEGIN:VEVENT
DTSTART;TZID=-05:00:20230125T183000
DTEND;TZID=-05:00:20230125T203000
DTSTAMP:20260424T100928
CREATED:20230105T020510Z
LAST-MODIFIED:20230125T050528Z
UID:10000404-1674671400-1674678600@www.vkind.com
SUMMARY:Lekka Burger dinner:  Vegan Plant-Powered Burgers
DESCRIPTION:**Come any time between 6:30pm and 8:30pm to order your dinner. Arriving at 7:00pm or 8:00pm is perfectly ok. (Kitchen closes promptly at 8:30pm.) Stay as long as you want\, or leave when you need to.** \nJoin us for dinner at the Lekka Burger for Vegan Plant-Powered Burgers! \n“Social entrepreneur Andrea Kerzner and award-winning chef Amanda Cohen have teamed up to introduce Lekka Burger\, a plant-powered burger and shake concept in Lower Manhattan\,” Lekka Burger ( [http://www.lekkaburger.com/](http://www.lekkaburger.com/)). \nLekka Burger: “Lekka burgers are made with only whole\, natural ingredients including portobello mushrooms\, cannelloni beans\, onions\, fennel\, and garlic. The burgers contain no soy or gluten\, and require no added lab made flavors or vitamins to be wholesome and delicious.\nLekka (or Lekker) meaning ‘awesome’ and ‘delicious’ in South African slang\, is a celebration of Andrea’s South African roots and passion for sustainability and Amanda’s innovative cooking.” \nVegNews: “[Lekka Burger] Founded by Amanda Cohen (owner of vegetarian fine-dining restaurant Dirt Candy) and South African-born humanitarian Andrea Kerzner\, Lekka Burger opened in the Tribeca neighborhood of Manhattan in 2019. The colorful eatery specializes in made-from-scratch veggie burgers inspired by global flavors and is driven by a mission to offset the environmental damage done by the meat and dairy industries. ” \nFrom Pure Wow’s The 20 Best Healthy Restaurants in NYC: “… The vegan burgers are made fresh daily from whole ingredients to create their unique texture. We’re drooling over the Peri Peri Burger with peri peri sauce and vegan mayo\, Guacamole Burger\, and Masala Burger with coconut chutney cabbage slaw and tamarind ketchup. They also serve sides like broccolini Caesar and oat milk soft serves and milkshakes…” \nTime Out New York’s Best milkshakes in NYC: “Amanda Cohen has been cooking some of the city’s most experimental vegan food—long before it was trendy—at Dirt Candy. Her fast-casual\, plant-based burger spot Lekka Burger (TriBeCa) also dishes out incredible milkshakes. Choose from chocolate\, strawberry\, caramel\, matcha or the uniquely delicious halvah—it’s a flavor you don’t realize is missing from your life until you try it!” \nTribeca Citizens: “…The menu is limited\, but for the vegans out there it will be a treat. They’ve got three versions of their burger — created by acclaimed veggie chef Amanda Cohen — three kinds of fries\, a broccolini caesar salad\, vegan shakes\, draft beers and cocktails..” \nFor those of you who have never attended one of our Meetup events: this is an incredibly friendly & welcoming group. It will be easy to find our group: we are taking over the majority of the restaurant. Also\, everyone pays for their own meal. Easy! \nTrain Directions: The closest trains are the (A) (C) (J) (Z) (1) (2) (3) to Chambers St\, (E) to World Trade Center\, (N) (R) (W) to City Hall Station\, and (4) (5) (6) to Brooklyn Bridge / City Hall. \n**Come any time between 6:30pm and 8:30pm to order your dinner. Arriving at 7:00pm or 8:00pm is perfectly ok. (Kitchen closes promptly at 8:30pm.) Stay as long as you want\, or leave when you need to.** \nJoin us for a delicious Lekka Burger dinner in Battery Park City on Wednesday\, January 25th. \nEddie
URL:https://www.vkind.com/vegan-events/lekka-burger-dinner-vegan-plant-powered-burgers/
LOCATION:Lekka Burger\, 81 Warren St\, New York\, NY\, 10007\, us
ATTACH;FMTTYPE=image/jpeg:https://www.vkind.com/wp-content/uploads/2023/01/1024x576-R2vAiC.tmp_.jpg
GEO:40.71513;-74.01053
X-APPLE-STRUCTURED-LOCATION;VALUE=URI;X-ADDRESS=Lekka Burger 81 Warren St New York NY 10007 us;X-APPLE-RADIUS=500;X-TITLE=81 Warren St:geo:-74.01053,40.71513
END:VEVENT
END:VCALENDAR