BEGIN:VCALENDAR
VERSION:2.0
PRODID:-//Vkind - ECPv6.15.14//NONSGML v1.0//EN
CALSCALE:GREGORIAN
METHOD:PUBLISH
X-ORIGINAL-URL:https://www.vkind.com
X-WR-CALDESC:Events for Vkind
REFRESH-INTERVAL;VALUE=DURATION:PT1H
X-Robots-Tag:noindex
X-PUBLISHED-TTL:PT1H
BEGIN:VTIMEZONE
TZID:-04:00
END:VTIMEZONE
BEGIN:VEVENT
DTSTART;TZID=-04:00:20240509T190000
DTEND;TZID=-04:00:20240509T213000
DTSTAMP:20260424T013440
CREATED:20240414T094041Z
LAST-MODIFIED:20240509T170041Z
UID:10007687-1715281200-1715290200@www.vkind.com
SUMMARY:Indian Veg*n dinner @ Javitri
DESCRIPTION:**Please arrive 7PM Sharp** \nJoin us for modern Indian cuisine at Javitri\, a swanky new restaurant/bar located in the Upper East Side\, Manhattan! \nRahul will be our local guide to educate us on the ecclectic spices and flavors of India\, found in vegan dishes like pakoras\, samosa cigars\, passion fruit pani puri shots\, and makhana (aka crispy lotus root). Try a fresh new cocktail or mocktail at the bar with Sonu the bartender\, like the yummy mango Taj Tequilla Twist 😉 \nWith their elegant bar\, spacious interior\, incredibly friendly staff\, and wonderful vegan options\, it makes perfect sense to enjoy fresh\, colorful\, and delicious Indian vegan dishes at this new establishment. \n**VEGAN MUNCHIES AVAILABLE:**\nSamosa cigars\nPassion fruit pani puri shots\nAloo chaat\nClassic Punjabi samosa\nBanaras tomato chaat\nGreen peas croquets\nKurkuri gobi\nOnion pakora\nKhatte baigan\nMultigrain Roti \nDessert:\nTea\nVegan Gulab jamun (low quantity)\nGajar Halwa – carrot cake make with almond milk & cardamom \n**Please note that they do not have a separate Vegan Menu. However\, there are items listed as Vegetarian that can be easily modified. The GM\, Rahul is extremely knowledgeable and kind and will cater to your individual dietary needs. Ask him anything.** \nFor more info : Website – javitrinyc.com or Follow them on Instagram @javitri.nyc\n I want to share a recent Google review – Rating 4.9/5 \nHG – “The food is absolutely amazing here. So many vegan and vegetarian options! Rahul is the most wonderful server. Also enjoyed all the fantastic mocktails and cocktails made by Sonu\, the amazing bartender. The owner Jay is also extremely kind and friendly to talk to. Highly recommended this place\, it’s so relaxing\, ambient\, and beautifully decorated.” \n**Join us from 7:00pm-9:30pm** Javitri: 132 E 61st St\, New York\, NY 10065 \nWith all the wonderful vegetarians and vegans who attend each of our events\, people enjoy the fact they can mingle (speak with lots of different people in different languages)\, and they love the beautiful venues that we go to. Join us for a stellar evening of lively conversation and lovely surroundings with fellow vegetarians and vegans! \nFor our new members: this is an incredibly friendly and welcoming group. We’ll be hanging out at the beautiful bar area and in the back of the restaurant.\n TRAIN DIRECTIONS: Take the 4\, 5\, 6 to 59th Street or the N\, Q\, R\, F to 63rd St/Lexington Avenue. \nJoin us for a fun and relaxed festive evening socializing with fellow vegetarians and vegans.\n Mark your calendars 😉\n -Hannah
URL:https://www.vkind.com/vegan-events/indian-vegn-dinner-javitri/
LOCATION:Javitri\, 132 East 61st Street\,\, New York\, NY\, 10065\, United States
ATTACH;FMTTYPE=image/jpeg:https://www.vkind.com/wp-content/uploads/2024/04/1024x576-riWxbR.tmp_.jpg
GEO:40.76347;-73.96783
X-APPLE-STRUCTURED-LOCATION;VALUE=URI;X-ADDRESS=Javitri 132 East 61st Street New York NY 10065 United States;X-APPLE-RADIUS=500;X-TITLE=132 East 61st Street\,:geo:-73.96783,40.76347
END:VEVENT
END:VCALENDAR