BEGIN:VCALENDAR
VERSION:2.0
PRODID:-//Vkind - ECPv6.15.14//NONSGML v1.0//EN
CALSCALE:GREGORIAN
METHOD:PUBLISH
X-WR-CALNAME:Vkind
X-ORIGINAL-URL:https://www.vkind.com
X-WR-CALDESC:Events for Vkind
REFRESH-INTERVAL;VALUE=DURATION:PT1H
X-Robots-Tag:noindex
X-PUBLISHED-TTL:PT1H
BEGIN:VTIMEZONE
TZID:-04:00
END:VTIMEZONE
BEGIN:VEVENT
DTSTART;TZID=-04:00:20240713T083000
DTEND;TZID=-04:00:20240713T113000
DTSTAMP:20260422T073040
CREATED:20240623T233534Z
LAST-MODIFIED:20240712T111602Z
UID:10007742-1720859400-1720870200@www.vkind.com
SUMMARY:Veggie Biking in Columbia\, MD with post bike lunch at Great Sage.
DESCRIPTION:Please join us for VSDC’s third bike ride in Columbia\, MD with a pit stop at Brewing Good (the vegan coffee shop) and optional post bike lunch at Great Sage. We will start at Elkhorn Branch Trail towards Lake Elkhorn. From the lake\, we will take Patuxent Branch Trail to Savage Mill. We will have a pit stop at Brewing Good (at Savage Mill) for a cup of coffee/tea (and hopefully some vegan treats). We will then trace our way back to the starting point. \nWe’ll meet at 8:30am on Saturday\, July 13. \nThe [meeting point is Howard High School](https://goo.gl/maps/kDvTi65SvisCjoXv7): https://goo.gl/maps/kDvTi65SvisCjoXv7 \n[Route](https://goo.gl/maps/xuuZoo7KYUp8SUEv7): https://goo.gl/maps/xuuZoo7KYUp8SUEv7\nLength: 19 miles\nDifficulty level: moderate to strenous\nElevation change: 500 ft up and 500 ft down\nBike time: ~2 hours at moderate pace (~10 mph)\nTotal time: ~4 hours (including stops).\nBiking surface: paved\,\nRoute type: mostly paved trail\, some roads\nBreak at mid point: Brewing Good at Savage Mall\nAlternate Day in case of inclement weather: Sunday\, July 14 \nWeather: we will not be riding in rain\, windy (greater than 10mph) or cold (less that 50 F) conditions so stay tuned for Comments on this page. \nOptional post bike lunch: [Great Sage](https://greatsage.com/) at around 1:00 pm\nThe lunch spot will not be on the bike route and we will head there after finishing the bike ride. Please let us know in comments if you plan to join us so that we can have a number for reservation. \nFood/Water: Bring your own vegan snacks and (non-alcoholic) beverage to enjoy. Please carry plenty of water!\nWeather: we will not be riding in rain or windy conditions so stay tuned for Comments on this page.\n*For important updates\, regularly monitor the “**Comments**” section on this page (below).*\n***Don’t be a no show! If your plans change\, update your RSVP.***\n*When you sign up to join\, you automatically acknowledge\n[VSDC Activity Liability Waiver](https://vsdc.org/activity-waiver/).\n*Please also view and abide by the RULES listed below*\nRULES \n* Pets are not allowed\n* Use of intoxicants such as alcohol\, cigarettes and/or illegal substances is banned during this event.\n* Practice safe biking habits including:\n* Wearing a bike helmet\n* Keeping a safe distance between each other (bikes don’t have brake lights and tailgating can easily result in crashes)\n* Avoid side by side riding unless the road gives us ample opportunity \nBy coming to this event\, we expect you to follow the code of conduct found at [Policies – VSDC – Veg Society of DC](https://vsdc.org/policies/).\n**VSDC: More Than A Meetup**\nWe are so glad to have you as part of The Veg Society of DC Vegan Meetup group\, and we enjoy seeing you at our events. Did you know that [VSDC](https://vsdc.org/) is a nonprofit organization with membership benefits?\nWith VSDC membership\, you will save money at area restaurants and businesses\, attend VSDC member-only events\, and\, most importantly\, support us as a clear and consistent voice for improving the lives of all beings through community building and education centered on the benefits of a vegan diet and lifestyle.\nThe membership fee is minimal\, but the impact is significant! [Become a member of VSDC](https://vsdc.org/membership/).\n**VSDC. Creating communities. For your health\, the animals\, and the planet.**
URL:https://www.vkind.com/vegan-events/veggie-biking-in-columbia-md-with-post-bike-lunch-at-great-sage/
LOCATION:Howard High School\, 8700 Old Annapolis Rd\, Ellicott City\, MD\, 21043\, United States
ATTACH;FMTTYPE=image/jpeg:https://www.vkind.com/wp-content/uploads/2022/06/1024x576-3lejea.tmp_.jpg
GEO:39.226257;-76.81261
X-APPLE-STRUCTURED-LOCATION;VALUE=URI;X-ADDRESS=Howard High School 8700 Old Annapolis Rd Ellicott City MD 21043 United States;X-APPLE-RADIUS=500;X-TITLE=8700 Old Annapolis Rd:geo:-76.81261,39.226257
END:VEVENT
BEGIN:VEVENT
DTSTART;TZID=-04:00:20240512T100000
DTEND;TZID=-04:00:20240512T140000
DTSTAMP:20260422T073040
CREATED:20240423T151050Z
LAST-MODIFIED:20240511T013520Z
UID:10007694-1715508000-1715522400@www.vkind.com
SUMMARY:Veggie Biking - Columbia\, MD
DESCRIPTION:Please join us for VSDC’s bike ride in Columbia\, MD with a pit stop at Brewing Good (the vegan coffee shop) and optional post bike lunch at Great Sage. We will start at Elkhorn Branch Trail towards Lake Elkhorn. From the lake\, we will take Patuxent Branch Trail to Savage Mill. We will have a pit stop at Brewing Good (at Savage Mill) for a cup of coffee/tea (and hopefully some vegan treats). We will then trace our way back to the starting point. \nWe’ll meet at 10am on Sunday\, May 12. \nThe [meeting point is Howard High School](https://goo.gl/maps/kDvTi65SvisCjoXv7): https://goo.gl/maps/kDvTi65SvisCjoXv7 \n[Route](https://goo.gl/maps/xuuZoo7KYUp8SUEv7): https://goo.gl/maps/xuuZoo7KYUp8SUEv7\nLength: 19 miles\nDifficulty level: moderate to strenous\nElevation change: 500 ft up and 500 ft down\nBike time: ~2 hours at moderate pace (~10 mph)\nTotal time: ~4 hours (including stops).\nBiking surface: paved\,\nRoute type: mostly paved trail\, some roads\nBreak at mid point: Brewing Good at Savage Mall \nOptional post bike outdoor lunch: [Great Sage](https://greatsage.com/)\nThe lunch spot will not be on the bike route and we will head there after finishing the bike ride. Please let us know in comments if you plan to join us so that we can have a number for reservation. \nFood/Water: Bring your own vegan snacks and (non-alcoholic) beverage to enjoy. Please carry plenty of water! \nWeather: we will not be riding in rain or windy conditions so stay tuned for Comments on this page.\n*For important updates\, regularly monitor the “Comments” section on this page (below).*\n*Don’t be a no show! If your plans change\, update your RSVP.*\n*When you sign up to join\, you automatically acknowledge\n[VSDC Activity Liability Waiver](https://vsdc.org/activity-waiver/).\n*Please also view and abide by the RULES listed below*\nRULES \n* Pets are not allowed\n* Use of intoxicants such as alcohol\, cigarettes and/or illegal substances is banned during this event.\n* Practice safe biking habits including:\n* Wearing a bike helmet\n* Keeping a safe distance between each other (bikes don’t have brake lights and tailgating can easily result in crashes)\n* Avoid side by side riding unless the road gives us ample opportunity \nBy coming to this event\, we expect you to follow the code of conduct found at [Policies – VSDC – Veg Society of DC](https://vsdc.org/policies/).\n**VSDC: More Than A Meetup**\nWe are so glad to have you as part of The Veg Society of DC Vegan Meetup group\, and we enjoy seeing you at our events. Did you know that [VSDC](https://vsdc.org/) is a nonprofit organization with membership benefits?\nWith VSDC membership\, you will save money at area restaurants and businesses\, attend VSDC member-only events\, and\, most importantly\, support us as a clear and consistent voice for improving the lives of all beings through community building and education centered on the benefits of a vegan diet and lifestyle.\nThe membership fee is minimal\, but the impact is significant! [Become a member of VSDC](https://vsdc.org/membership/).\n**VSDC. Creating communities. For your health\, the animals\, and the planet.**
URL:https://www.vkind.com/vegan-events/veggie-biking-columbia-md/
LOCATION:Howard High School\, 8700 Old Annapolis Rd\, Ellicott City\, MD\, 21043\, United States
ATTACH;FMTTYPE=image/jpeg:https://www.vkind.com/wp-content/uploads/2022/06/1024x576-3lejea.tmp_.jpg
GEO:39.226257;-76.81261
X-APPLE-STRUCTURED-LOCATION;VALUE=URI;X-ADDRESS=Howard High School 8700 Old Annapolis Rd Ellicott City MD 21043 United States;X-APPLE-RADIUS=500;X-TITLE=8700 Old Annapolis Rd:geo:-76.81261,39.226257
END:VEVENT
BEGIN:VEVENT
DTSTART;TZID=-04:00:20230610T083000
DTEND;TZID=-04:00:20230610T123000
DTSTAMP:20260422T073040
CREATED:20230603T212007Z
LAST-MODIFIED:20230609T151542Z
UID:10000554-1686385800-1686400200@www.vkind.com
SUMMARY:Veggie Biking: Columbia\, MD with post bike lunch at Great Sage.
DESCRIPTION:Please join us for bike ride in Columbia\, MD with a pit stop at Brewing Good (the vegan coffee shop) and optional post bike lunch at Great Sage. We will start at Elkhorn Branch Trail towards Lake Elkhorn. From the lake\, we will take Patuxent Branch Trail to Savage Mill. We will stop at Brewing Good (at Savage Mill) for a cup of coffee/tea (and hopefully some vegan treats). We will then trace our way back to the starting point. \nWe’ll meet at 8:30am on Saturday\, Jun 10.\nAlternative day in case of rain: Sunday\, Jun 11. \nThe [meeting point is Howard High School](https://goo.gl/maps/kDvTi65SvisCjoXv7): https://goo.gl/maps/kDvTi65SvisCjoXv7 \n[Route](https://goo.gl/maps/xuuZoo7KYUp8SUEv7): https://goo.gl/maps/xuuZoo7KYUp8SUEv7\nLength: 19 miles\nDifficulty level: moderate – strenuous\nElevation change: 500 ft up and 500 ft down\nBike time: ~2 hours at moderate pace (~10 mph)\nTotal time: ~4 hours (including stops).\nBiking surface: paved\,\nRoute type: mostly paved trail\, some roads\nBreak at mid point: Brewing Good at Savage Mall\nWeather: we will not be riding in rain\, windy (greater than 10mph) or cold (less that 50 F) conditions so stay tuned for Comments on this page. \nOptional post bike outdoor lunch: [Great Sage](https://greatsage.com/) at around 1:30 pm\nThe lunch spot will not be on the bike route and we will head there after finishing the bike ride. Please let us know in comments if you plan to join us so that we can have a number for reservation. \nFood/Water: Bring your own vegan snacks and (non-alcoholic) beverage to enjoy. Please carry plenty of water! \nPease do not attend if you are sick or have been near someone who thinks they may have or have been exposed to COVID-19. VSDC greatly appreciates your cooperation. \n*For important updates\, regularly monitor the “Comments” section on this page (below).*\n*Don’t be a no show! If your plans change\, update your RSVP.*\nWhen you sign up to join\, you automatically acknowledge\n[VSDC Activity Waiver](https://vsdc.org/activity-waiver/).\n*Please also view and abide by the RULES listed below* \nRULES \n* Pets are not allowed\n* Use of intoxicants such as alcohol\, cigarettes and/or illegal substances is banned during this event.\n* Practice safe biking habits including:\n* Wearing a bike helmet\n* Keeping a safe distance between each other (bikes don’t have brake lights and tailgating can easily result in crashes)\n* Avoid side by side riding unless the road gives us ample opportunity\n* This event is for those who are fully vaccinated only. Also please do not attend if you are sick or have been near someone who thinks they may have or have been exposed to COVID-19. \nIf you comply with the above\, we look forward to seeing you IRL (in real life)! Thanks for your support. \n*** \nVSDC (http://www.vsdc.org) is a clear and consistent voice for improving the lives of all beings through education on the benefits of a vegan diet & lifestyle. Sharing food is the bond that brings families together; so it is with VSDC. From simply “breaking bread” to experiencing delicious and nutritious vegan foods from around the world\, we make your journey easier\, enjoyable & meaningful. \nVSDC. Creating communities. For your health\, the animals\, and the planet.
URL:https://www.vkind.com/vegan-events/veggie-biking-columbia-md-with-post-bike-lunch-at-great-sage/
LOCATION:Howard High School\, 8700 Old Annapolis Rd\, Ellicott City\, MD\, 21043\, United States
ATTACH;FMTTYPE=image/jpeg:https://www.vkind.com/wp-content/uploads/2022/06/1024x576-3lejea.tmp_.jpg
GEO:39.226257;-76.81261
X-APPLE-STRUCTURED-LOCATION;VALUE=URI;X-ADDRESS=Howard High School 8700 Old Annapolis Rd Ellicott City MD 21043 United States;X-APPLE-RADIUS=500;X-TITLE=8700 Old Annapolis Rd:geo:-76.81261,39.226257
END:VEVENT
END:VCALENDAR