BEGIN:VCALENDAR
VERSION:2.0
PRODID:-//Vkind - ECPv6.15.14//NONSGML v1.0//EN
CALSCALE:GREGORIAN
METHOD:PUBLISH
X-WR-CALNAME:Vkind
X-ORIGINAL-URL:https://www.vkind.com
X-WR-CALDESC:Events for Vkind
REFRESH-INTERVAL;VALUE=DURATION:PT1H
X-Robots-Tag:noindex
X-PUBLISHED-TTL:PT1H
BEGIN:VTIMEZONE
TZID:Europe/London
BEGIN:DAYLIGHT
TZOFFSETFROM:+0000
TZOFFSETTO:+0100
TZNAME:BST
DTSTART:20220327T010000
END:DAYLIGHT
BEGIN:STANDARD
TZOFFSETFROM:+0100
TZOFFSETTO:+0000
TZNAME:GMT
DTSTART:20221030T010000
END:STANDARD
BEGIN:DAYLIGHT
TZOFFSETFROM:+0000
TZOFFSETTO:+0100
TZNAME:BST
DTSTART:20230326T010000
END:DAYLIGHT
BEGIN:STANDARD
TZOFFSETFROM:+0100
TZOFFSETTO:+0000
TZNAME:GMT
DTSTART:20231029T010000
END:STANDARD
BEGIN:DAYLIGHT
TZOFFSETFROM:+0000
TZOFFSETTO:+0100
TZNAME:BST
DTSTART:20240331T010000
END:DAYLIGHT
BEGIN:STANDARD
TZOFFSETFROM:+0100
TZOFFSETTO:+0000
TZNAME:GMT
DTSTART:20241027T010000
END:STANDARD
END:VTIMEZONE
BEGIN:VEVENT
DTSTART;TZID=Europe/London:20230923T100000
DTEND;TZID=Europe/London:20230923T160000
DTSTAMP:20260424T005446
CREATED:20230727T160110Z
LAST-MODIFIED:20230727T160110Z
UID:10007401-1695463200-1695484800@www.vkind.com
SUMMARY:Egham Vegan Market
DESCRIPTION:*No tickets needed to attend this event* \nWe are back for 2023 with our third of four events in Egham High Street. \nThe event will bring together a variety of small businesses from vegan street food vendors\, artisan bakers and producers\, craft brewers\, ethical products and gifts\, zero-waste champions\, animal and environmental charities and lots more. \n10am – 4pm. \nFamily friendly\, dog friendly and fully accessible. #notjustforvegans \n*** Event Traders *** \nIf you would like to trade at this event\, please head to the link below for all of the details: \nhttps://www.ethicalveganevents.com/trader-info/ \n*** \nEgham Vegan Market is organised by Ethical Vegan Events. Take a look at our other events here: \nhttps://www.ethicalveganevents.com/
URL:https://www.vkind.com/vegan-events/egham-vegan-market/
LOCATION:High Street\, High Street\, Egham TW20 9EW\, United Kingdom
ATTACH;FMTTYPE=image/jpeg:https://www.vkind.com/wp-content/uploads/2023/07/Egham-Vegan-Market.jpg
GEO:51.4316881;-0.5482962
X-APPLE-STRUCTURED-LOCATION;VALUE=URI;X-ADDRESS=High Street High Street Egham TW20 9EW United Kingdom;X-APPLE-RADIUS=500;X-TITLE=High Street:geo:-0.5482962,51.4316881
END:VEVENT
END:VCALENDAR