BEGIN:VCALENDAR
VERSION:2.0
PRODID:-//Vkind - ECPv6.15.14//NONSGML v1.0//EN
CALSCALE:GREGORIAN
METHOD:PUBLISH
X-ORIGINAL-URL:https://www.vkind.com
X-WR-CALDESC:Events for Vkind
REFRESH-INTERVAL;VALUE=DURATION:PT1H
X-Robots-Tag:noindex
X-PUBLISHED-TTL:PT1H
BEGIN:VTIMEZONE
TZID:-04:00
END:VTIMEZONE
BEGIN:VEVENT
DTSTART;TZID=-04:00:20240829T183000
DTEND;TZID=-04:00:20240829T210000
DTSTAMP:20260424T153135
CREATED:20240805T005521Z
LAST-MODIFIED:20240828T113049Z
UID:10007763-1724956200-1724965200@www.vkind.com
SUMMARY:VSDC Veg Singles Trivia Night
DESCRIPTION:The VSDC Singles Group is making a comeback! Looking to meet other veg singles? Join us for trivia night! \nOn Thursday\, August 29th\, we will meet at Hi-Lawn 6:30 pm so that we can introduce ourselves\, chat a bit\, and split up into teams before trivia starts at 7. If you would like to join the event but won’t be able to arrive before 7 pm\, please email [singles@vsdc.org](mailto:singles@vsdc.org) and let us know. \nWhen trivia ends at 9\, Kathryn will lead anyone who wants ice cream to Van Leeuwen’s about a block away. You are also welcome to stay at Hi-Lawn and watch their screening of The Breakfast Club or head home (we know\, it’s a work night!). \nHi-Lawn is located on the rooftop at Union Market. To get there\, go to the southeast corner of the Union Market building\, and you will see a “Rooftop” sign pointing toward the roof. (See photos below.) Enter through those doors and go all the way to the top of the stairs (or take the elevator to the highest floor). Look for Kathryn in a green VSDC shirt. \nHi-Lawn hosts trivia every Thursday night from 7 – 9 pm. There is a tent covering part of the rooftop\, so trivia proceeds even if it rains. \nThis is not a food-focused event. Hi-Lawn has *very* limited vegan snack food items but lots of drink options (alcoholic and non-alcoholic) for sale. If you are coming from work and need dinner\, we recommend arriving early and grabbing something from Union Market below. (Food from Union Market cannot be brought up to Hi-Lawn\, but there are lots of tables down there as well.) If you do buy food or drinks at Hi-Lawn\, you will order on your own and pay Hi-Lawn directly. We ask that if you attend this event\, you order only vegan food and beverages (nothing containing animal products). \n**Update Your RSVP**\nThe host will reserve tables for our group\, so please update your RSVP if you can no longer make it. Registration will close Tuesday\, August 27. \n**Transportation**\nHi-Lawn is a short walk from the NoMa – Galludet U Metro stop on the Red Line. There is a parking lot at Union Market\, but it tends to be crowded\, so plan extra time if you will be looking for a parking spot. \n**Liability Waiver and Code of Conduct**\nWhen you sign up to attend\, you automatically acknowledge [VSDC’s Liability Waiver](https://vsdc.org/activity-waiver/) and commit to follow the code of conduct found at [Policies – VSDC – Veg Society of DC](https://vsdc.org/policies/). \n**VSDC: More Than A Meetup**\nWe are so glad to have you as part of The Veg Society of DC Vegan Meetup group\, and we enjoy seeing you at our events. Did you know that [VSDC](https://vsdc.org/) is a nonprofit organization with membership benefits? \nWith VSDC membership\, you will save money at area restaurants and businesses\, attend VSDC member-only events\, and\, most importantly\, support us as a clear and consistent voice for improving the lives of all beings through community building and education centered on the benefits of a vegan diet and lifestyle. \nThe VSDC membership fee is minimal\, but the impact is significant! [Become a member of VSDC](https://vsdc.org/membership/).
URL:https://www.vkind.com/vegan-events/vsdc-veg-singles-trivia-night/
LOCATION:Hi-Lawn (Union Market Rooftop)\, 1309 5th St NW\, Washington\, DC\, 20001\, United States
ATTACH;FMTTYPE=image/jpeg:https://www.vkind.com/wp-content/uploads/2024/08/1024x576-XOc35v.tmp_.jpg
GEO:38.908443;-76.997086
X-APPLE-STRUCTURED-LOCATION;VALUE=URI;X-ADDRESS=Hi-Lawn (Union Market Rooftop) 1309 5th St NW Washington DC 20001 United States;X-APPLE-RADIUS=500;X-TITLE=1309 5th St NW:geo:-76.997086,38.908443
END:VEVENT
END:VCALENDAR