BEGIN:VCALENDAR
VERSION:2.0
PRODID:-//Vkind - ECPv6.15.14//NONSGML v1.0//EN
CALSCALE:GREGORIAN
METHOD:PUBLISH
X-ORIGINAL-URL:https://www.vkind.com
X-WR-CALDESC:Events for Vkind
REFRESH-INTERVAL;VALUE=DURATION:PT1H
X-Robots-Tag:noindex
X-PUBLISHED-TTL:PT1H
BEGIN:VTIMEZONE
TZID:-05:00
END:VTIMEZONE
BEGIN:VTIMEZONE
TZID:-04:00
END:VTIMEZONE
BEGIN:VEVENT
DTSTART;TZID=-05:00:20231123T140000
DTEND;TZID=-05:00:20231123T160000
DTSTAMP:20260423T165321
CREATED:20231104T183036Z
LAST-MODIFIED:20231122T031537Z
UID:10007578-1700748000-1700755200@www.vkind.com
SUMMARY:Thanksgiving Day at GreenFare with VSDCers - WAIT LIST ONLY
DESCRIPTION:**This event is at capacity. If you would like to be added to the waitlist\, please contact Greenfare at 703-689-0506.** \n___________________________________ \nIf you would like to join a group of VSDCers for a delicious Thanksgiving Day meal at GreenFare\, space is limited and reservations are first come\, first served. \n**TO RESERVE YOUR SPACE AT GREENFARE: You must call Greenfare at 703-689-0506. A credit card is required to hold the space and no shows will be charged. When you call identify yourself as VSDC to be seated at our reserved tables. Please also RSVP on Meetup.** \n$75/person plus tip \nMenu:\nSoup:\nOrganic Creamy Roasted Pumpkin Soup\nSides:\nOrganic Orange Cranberry Relish\nOrganic Mushrooms Gravy\nOrganic Mixed Local Greens with Balsamic Roasted Butternut Squash\nOrganic Green Beans Casserole\nOrganic Traditional Stuffing\nOrganic Mac and No Cheese\nOrganic Rustic Mashed Potatoes\nOrganic Acorn Squash with Cranberries\, Wild Rice\, and Toasted Pecans\nEntrée:\nOrganic Wild Mushroom Walnut Loaf\nDessert:\nOrganic Pumpkin Pie\nOrganic Chocolate Pumpkin Pie\nOrganic Bread Pudding\nOrganic Sweet Potato Pie\nOrganic Minced Fruit Pie \n*When you register to join this event\, you automatically acknowledge [VSDC’s Liability Waiver](https://vsdc.org/activity-waiver/)* \n*By coming to this event\, we expect you to follow the code of conduct found at [Policies – VSDC – Veg Society of DC](https://vsdc.org/policies/)* \n[VSDC](https://vsdc.org/) is a clear and consistent voice for improving the lives of all beings through education on the benefits of a vegan diet & lifestyle. Sharing food is the bond that brings families together; so it is with VSDC. From simply “breaking bread” to experiencing delicious and nutritious vegan foods from around the world\, we make your journey easier\, enjoyable & meaningful. \n**VSDC. Creating communities. For your health\, the animals\, and the planet.**
URL:https://www.vkind.com/vegan-events/thanksgiving-day-at-greenfare-with-vsdcers/
LOCATION:GreenFare Organic Cafe\, 408 Elden St\, Herndon\, VA\, 20170\, United States
ATTACH;FMTTYPE=image/jpeg:https://www.vkind.com/wp-content/uploads/2023/11/1024x576-5XKGyJ.tmp_.jpg
GEO:38.97;-77.37417
X-APPLE-STRUCTURED-LOCATION;VALUE=URI;X-ADDRESS=GreenFare Organic Cafe 408 Elden St Herndon VA 20170 United States;X-APPLE-RADIUS=500;X-TITLE=408 Elden St:geo:-77.37417,38.97
END:VEVENT
BEGIN:VEVENT
DTSTART;TZID=-04:00:20231007T120000
DTEND;TZID=-04:00:20231007T140000
DTSTAMP:20260423T165321
CREATED:20230911T140033Z
LAST-MODIFIED:20231007T054521Z
UID:10007542-1696680000-1696687200@www.vkind.com
SUMMARY:VSDC Whole Food Plant Based (WFPB) Affinity Group - GreenFare\, Herndon\, VA
DESCRIPTION:Please join us in this launch of the VSDC Whole Food Plant Based (WFPB) Affinity Group for a wonderful meal at the all-vegan and WFPB Green Fare in Herndon\, VA. We’ve made a reservation for 12 attendees\, so don’t delay in RSVPing as this will fill up. \nYou can preview Green Fare’s menu by clicking [here](https://greenfare.com/blog/media_category/menu/page/2/). \nAmple parking is available in the shopping center lot. There is no Metro station that is close by. Rides may be available from attendees with cars so please communicate needs/availability in the comments below and chat on this event page.\nNote: please be careful and safe in providing any personal contact information in any public forum\, like meetup.com. \nPlease note that there is outdoor dining at this venue but those tables are small so we will be indoors. \nIn an effort to reduce no shows for space-limited events\, we are now tracking those who fail to show up and do not change their RSVP beforehand. After three strikes you’re out – meaning that you will not be able to attend future space-limited VSDC events. It is unfair to those on the waitlist and to the restaurant when there are no-shows. \nWhen you sign up to join\, you automatically acknowledge [VSDC’s Liability Waiver](https://vsdc.org/activity-waiver/) \nBy coming to this event\, we expect you to follow the code of conduct found at [Policies – VSDC – Veg Society of DC](https://vsdc.org/policies/) \n*** \nVSDC (http://www.vsdc.org) is a clear and consistent voice for improving the lives of all beings through education on the benefits of a vegan diet & lifestyle. Sharing food is the bond that brings families together; so it is with VSDC. From simply “breaking bread” to experiencing delicious and nutritious vegan foods from around the world\, we make your journey easier\, enjoyable & meaningful. \n**VSDC. Creating communities. For your health\, the animals\, and the planet.**
URL:https://www.vkind.com/vegan-events/vsdc-whole-food-plant-based-wfpb-affinity-group-greenfare-herndon-va/
LOCATION:GreenFare Organic Cafe\, 408 Elden St\, Herndon\, VA\, 20170\, United States
ATTACH;FMTTYPE=image/jpeg:https://www.vkind.com/wp-content/uploads/2023/09/1024x576-fEABKP.tmp_.jpg
GEO:38.97;-77.37417
X-APPLE-STRUCTURED-LOCATION;VALUE=URI;X-ADDRESS=GreenFare Organic Cafe 408 Elden St Herndon VA 20170 United States;X-APPLE-RADIUS=500;X-TITLE=408 Elden St:geo:-77.37417,38.97
END:VEVENT
END:VCALENDAR