BEGIN:VCALENDAR
VERSION:2.0
PRODID:-//Vkind - ECPv6.15.14//NONSGML v1.0//EN
CALSCALE:GREGORIAN
METHOD:PUBLISH
X-WR-CALNAME:Vkind
X-ORIGINAL-URL:https://www.vkind.com
X-WR-CALDESC:Events for Vkind
REFRESH-INTERVAL;VALUE=DURATION:PT1H
X-Robots-Tag:noindex
X-PUBLISHED-TTL:PT1H
BEGIN:VTIMEZONE
TZID:-05:00
END:VTIMEZONE
BEGIN:VTIMEZONE
TZID:-04:00
END:VTIMEZONE
BEGIN:VEVENT
DTSTART;TZID=-05:00:20250308T090000
DTEND;TZID=-05:00:20250308T133000
DTSTAMP:20260423T153909
CREATED:20250203T225034Z
LAST-MODIFIED:20250308T153038Z
UID:10007878-1741424400-1741440600@www.vkind.com
SUMMARY:VSDC Breakfast & Hike: Great Sage / Middle Patuxent Trails\, Moderate 4.9 Mi
DESCRIPTION:Please join us for a delicious breakfast at Great Sage followed by a 2 hour moderately difficult hike in the Middle Patuxent Environmental Area. We’ll follow the 4.9 mile Wildlife Loop and South Wind Trail Loop trails\, enjoying beautiful scenery and some wildlife sightings\, if we’re lucky. \nThis hike is rated as moderate based on natural terrain and gently rolling hills (no more than 400 ft of elevation gain). We’ll be sharing the trail with other hikers\, runners and bicyclists and ask that folks walk two abreast\, allowing others to pass so that we can “share the road”. \nTrail Map: https://www.howardcountymd.gov/sites/default/files/2021-03/Middle%20Patuxent%20Environmental%20Area%20Map.pdf \nWe’ll meet at 9 am at **[Great Sage](https://greatsage.com/)**\, 5809 Clarksville Square Dr\, Clarksville\, MD 21029\, (443) 535-9400. If you want to join us for just the hike\, we will be starting out at approximately 11 am from **[the parking lot off Trotter Road](https://maps.app.goo.gl/zB3tx8WjAWEBPgBv5)**. Carpooling is a great way to meet people and help the environment! \nDogs are welcome at the Middle Patuxent Environmental area. Please keep your dog leashed at all times. \nBathroom Facilities/Water: Restroom facilities are available at the Trotter Road entrance to the trails. Please carry plenty of water! \nWeather: Be prepared! We will hike rain or shine\, but if conditions pose a danger\, we’ll cancel the hike and post a notice in the “comments” section. We suggest that hikers wear comfortable footwear and suitable clothing made from quick-dry\, synthetic fabrics\, as cotton can lead to uncomfortable blisters and life-threatening hypothermia in case of inclement weather. \n*Please read The 10 Essentials of Hiking: https://americanhiking.org/resources/10essentials/ * \nPets: When hikes are organized in dog-friendly areas\, hikers are invited to bring their pet(s). However\, dogs are the sole responsibility of the owner(s) who brought them; should be up-to-date on their vaccinations & in possession of the relevant tags; and should be under the control of their owner(s) at all times. Dogs that demonstrate consistently aggressive or otherwise out-of-control behavior will be banned from future hikes. Owners should come prepared to dispose of their dogs’ waste in appropriate receptacles. \nAlcohol/Smoking/Intoxicants: Use of intoxicants such as alcohol\, cigarettes and/or illegal substances is banned during the hikes. \n*** \n**Update Your RSVP** \nOut of respect for others interested in attending this limited-space event\, please update your RSVP promptly as your schedule changes. \n**VSDC: More Than A Meetup** \nWe are so glad to have you as part of The Veg Society of DC Vegan Meetup group\, and we enjoy seeing you at our events. Did you know that VSDC is a nonprofit organization with membership benefits? \nWith VSDC membership\, you will save money at area restaurants and businesses\, attend VSDC member-only events\, and\, most importantly\, support us as a clear and consistent voice for improving the lives of all beings through community building and education centered on the benefits of a vegan diet and lifestyle. \nThe membership fee is minimal\, but the impact is significant! Become a member of VSDC. \n**Liability Waiver and Code of Conduct** \nWhen you sign up to join\, you automatically acknowledge VSDC’s [Liability Waiver](https://vsdc.org/activity-waiver/) and commit to follow the code of conduct found at [Policies – VSDC – Veg Society of DC](https://vsdc.org/policies/) \n**VSDC. Creating communities. For your health\, the animals\, and the planet.**
URL:https://www.vkind.com/vegan-events/breakfast-hike-great-sage-middle-patuxent-trails-moderate-4-9-mi/
LOCATION:Great Sage\, 5809 Clarksville Square Dr\, Clarksville\, MD\, 21029\, United States
ATTACH;FMTTYPE=image/jpeg:https://www.vkind.com/wp-content/uploads/2025/02/1024x576-snxk6q.tmp_.jpg
GEO:39.213142;-76.93907
X-APPLE-STRUCTURED-LOCATION;VALUE=URI;X-ADDRESS=Great Sage 5809 Clarksville Square Dr Clarksville MD 21029 United States;X-APPLE-RADIUS=500;X-TITLE=5809 Clarksville Square Dr:geo:-76.93907,39.213142
END:VEVENT
BEGIN:VEVENT
DTSTART;TZID=-04:00:20221009T100000
DTEND;TZID=-04:00:20221009T120000
DTSTAMP:20260423T153909
CREATED:20220929T122034Z
LAST-MODIFIED:20221009T131951Z
UID:10000302-1665309600-1665316800@www.vkind.com
SUMMARY:Veggie Biking in Clarksville and Brunch at Great Sage
DESCRIPTION:Please join us for Veggie Bike Ride on roads in the Clarksville area. \nWe’ll meet at 10am on Sunday Oct 9\, 2022 at [Great Sage parking lot](https://g.page/GreatSageRestaurant?share). \nWe will ride on roads in the Clarksville. Details below have couple of tentative ride routes that we will take. We will cool off at Great Sage after the ride. \nRoute Possibilities:\nhttps://goo.gl/maps/T8avXE4S3hoQEyfa8 OR https://goo.gl/maps/8c1y7AAh7p7KgmA67\nLength: ~20 miles\nDifficulty level: strenuous\nElevation change: about 1000 ft up and down\nBike time: ~2 hours at moderate pace (10 mph)\nTotal time: ~4 hours\nBiking surface: paved\nRoute type: roads\nPost ride Lunch: Great Sage\nWeather: we will not be riding in rain\, windy (greater than 10mph) or cold (less that 50 F) conditions so stay tuned for Comments on this page. \nFood/Water: Bring your own vegan snacks and (non-alcoholic) beverage to enjoy. Please carry plenty of water! \nDuring the ride: we will plan to slow often to let the group gather together. \n*For important updates\, regularly monitor the “Comments” section on this page (below).*\n*Don’t be a no show! If your plans change\, update your RSVP.*\nWhen you sign up to join\, you automatically acknowledge\nVSDC hikes (and bikes)[ Liability Waiver](https://vsdc.org/activity-waiver/)\n*Please also view and abide by the RULES listed below* \nRULES \n* Pets are not allowed\n* Use of intoxicants such as alcohol\, cigarettes and/or illegal substances is banned during this event.\n* Practice safe biking habits including:\n* Wearing a bike helmet\n* Keeping a safe distance between each other (bikes don’t have brake lights and tailgating can easily result in crashes)\n* Avoid side by side riding unless the road gives us ample opportunity\n* This event is for those who are fully vaccinated only. Also please do not attend if you are sick or have been near someone who thinks they may have or have been exposed to COVID-19. \nIf you comply with the above\, we look forward to seeing you IRL (in real life)! Thanks for your support. \n*** \nVSDC (http://www.vsdc.org) is a clear and consistent voice for improving the lives of all beings through education on the benefits of a vegan diet & lifestyle. Sharing food is the bond that brings families together; so it is with VSDC. From simply “breaking bread” to experiencing delicious and nutritious vegan foods from around the world\, we make your journey easier\, enjoyable & meaningful. \nVSDC. Creating communities. For your health\, the animals\, and the planet.
URL:https://www.vkind.com/vegan-events/veggie-biking-in-clarksville-and-brunch-at-great-sage-2/
LOCATION:Great Sage\, 5809 Clarksville Square Dr\, Clarksville\, MD\, 21029\, United States
ATTACH;FMTTYPE=image/jpeg:https://www.vkind.com/wp-content/uploads/2022/06/1024x576-3lejea.tmp_.jpg
GEO:39.213142;-76.93907
X-APPLE-STRUCTURED-LOCATION;VALUE=URI;X-ADDRESS=Great Sage 5809 Clarksville Square Dr Clarksville MD 21029 United States;X-APPLE-RADIUS=500;X-TITLE=5809 Clarksville Square Dr:geo:-76.93907,39.213142
END:VEVENT
BEGIN:VEVENT
DTSTART;TZID=-04:00:20220911T093000
DTEND;TZID=-04:00:20220911T140000
DTSTAMP:20260423T153909
CREATED:20220901T091959Z
LAST-MODIFIED:20220910T095013Z
UID:10000276-1662888600-1662904800@www.vkind.com
SUMMARY:Veggie Biking in Clarksville and Brunch at Great Sage
DESCRIPTION:Please join us for Veggie Bike Ride on roads in the Clarksville area. \nWe’ll meet at 9:30am on Sunday Sep 11\, 2022 at [Great Sage parking lot](https://g.page/GreatSageRestaurant?share). \nWe will ride on roads in the Clarksville. Details below have couple of tentative ride routes that we will take. We will cool off at Great Sage after the ride. \nThis event is for those who are fully vaccinated only. Also please do not attend if you are sick or have been near someone who thinks they may have or have been exposed to COVID-19. VSDC greatly appreciates your cooperation. \nRoute Possibilities:\nhttps://goo.gl/maps/T8avXE4S3hoQEyfa8 OR https://goo.gl/maps/8c1y7AAh7p7KgmA67\nLength: ~20 miles\nDifficulty level: strenuous\nElevation change: about 1000 ft up and down\nBike time: ~2 hours at moderate+ pace (10+ mph)\nTotal time: ~4 hours\nBiking surface: paved\nRoute type: all roads\nPost ride Lunch: Great Sage\nWeather: we will not be riding in rain\, windy (greater than 10mph) or cold (less that 50 F) conditions so stay tuned for Comments on this page. \nFood/Water: Bring your own vegan snacks and (non-alcoholic) beverage to enjoy. Please carry plenty of water! \nDuring the ride: we will plan to slow often to let the group gather together. \n*For important updates\, regularly monitor the “Comments” section on this page (below).*\n*Don’t be a no show! If your plans change\, update your RSVP.*\nWhen you sign up to join\, you automatically acknowledge\nVSDC hikes (and bikes)[ Liability Waiver](https://vsdc.org/activity-waiver/)\n*Please also view and abide by the RULES listed below* \nRULES \n* Pets are not allowed\n* Use of intoxicants such as alcohol\, cigarettes and/or illegal substances is banned during this event.\n* Practice safe biking habits including:\n* Wearing a bike helmet\n* Keeping a safe distance between each other (bikes don’t have brake lights and tailgating can easily result in crashes)\n* Avoid side by side riding unless the road gives us ample opportunity\n* This event is for those who are fully vaccinated only. Also please do not attend if you are sick or have been near someone who thinks they may have or have been exposed to COVID-19. \nIf you comply with the above\, we look forward to seeing you IRL (in real life)! Thanks for your support. \n*** \nVSDC (http://www.vsdc.org) is a clear and consistent voice for improving the lives of all beings through education on the benefits of a vegan diet & lifestyle. Sharing food is the bond that brings families together; so it is with VSDC. From simply “breaking bread” to experiencing delicious and nutritious vegan foods from around the world\, we make your journey easier\, enjoyable & meaningful. \nVSDC. Creating communities. For your health\, the animals\, and the planet.
URL:https://www.vkind.com/vegan-events/veggie-biking-in-clarksville-and-brunch-at-great-sage/
LOCATION:Great Sage\, 5809 Clarksville Square Dr\, Clarksville\, MD\, 21029\, United States
ATTACH;FMTTYPE=image/jpeg:https://www.vkind.com/wp-content/uploads/2022/06/1024x576-3lejea.tmp_.jpg
GEO:39.213142;-76.93907
X-APPLE-STRUCTURED-LOCATION;VALUE=URI;X-ADDRESS=Great Sage 5809 Clarksville Square Dr Clarksville MD 21029 United States;X-APPLE-RADIUS=500;X-TITLE=5809 Clarksville Square Dr:geo:-76.93907,39.213142
END:VEVENT
END:VCALENDAR