BEGIN:VCALENDAR
VERSION:2.0
PRODID:-//Vkind - ECPv6.15.14//NONSGML v1.0//EN
CALSCALE:GREGORIAN
METHOD:PUBLISH
X-ORIGINAL-URL:https://www.vkind.com
X-WR-CALDESC:Events for Vkind
REFRESH-INTERVAL;VALUE=DURATION:PT1H
X-Robots-Tag:noindex
X-PUBLISHED-TTL:PT1H
BEGIN:VTIMEZONE
TZID:-04:00
END:VTIMEZONE
BEGIN:VEVENT
DTSTART;TZID=-04:00:20240511T090000
DTEND;TZID=-04:00:20240511T130000
DTSTAMP:20260423T154222
CREATED:20240423T151036Z
LAST-MODIFIED:20240511T013027Z
UID:10007693-1715418000-1715432400@www.vkind.com
SUMMARY:VSDC Vegan Trekkers: Great Falls 9.1 mile loop hike
DESCRIPTION:Join us for a moderate\, but long\, [hike in Great Falls National Park](https://www.alltrails.com/trail/us/virginia/great-falls-park-to-riverbend-park-loop)! We’ll view the breathtaking falls from three different overlooks on the Virginia side of the river. \nExpect a relatively speedy pace\, rocky and uneven terrain with minimal elevation gain. You should be able to hike for long distances without break for at least an hour\, as well as comfortably scramble over rocks and negotiate uneven surfaces. Please wear sturdy shoes/boots and appropriate clothing. And pack a lunch which we will eat picnic-style halfway through the hike. \nMeeting Point: [Great Falls Visitor Center Entrance](https://maps.app.goo.gl/MizXpou7HqXKUto9A)\nParking fee: $20.00 ([buy in advance](https://www.nps.gov/grfa/planyourvisit/fees.htm))\, or free if you have an annual pass\nMeeting Time: 9:00 am\nDistance: 9.1 miles\nDifficulty: Moderate\nPace: Moderate (2.5 miles/hr)\nElevation gain: ~636 ft\nDuration: 4 hours\nType of trail: natural \n**Carpool Options**\n[Gaithersburg Park-n-Ride](https://goo.gl/maps/aEwRZHsFs77uYDfE7): Meet at 8:30am (it’s a big parking lot\, please see the comments section for coordination). \n**Dog friendly?**\nYes\, please keep your dog leashed. Dogs are the sole responsibility of the owner(s) who brought them; should be up-to-date on their vaccinations & in possession of the relevant tags; and should be under the control of their owner(s) at all times. Dogs that demonstrate consistently aggressive or otherwise out-of-control behavior will be banned from future hikes. Owners should come prepared to dispose of \n**Bathroom Facilities/Water?**\nThe Visitors Center has bathroom facilities.\nFood: Bring your own vegan snack and (non-alcoholic) beverage to enjoy mid-hike. There are no trash receptacles on the trail so pack out your own waste. \n**Update Your RSVP**\nOut of respect for others interested in attending this event\, please update your RSVP promptly as your schedule changes. \n## Alcohol/Smoking/Intoxicants: Use of intoxicants such as alcohol\, cigarettes and/or illegal substances is banned during the hikes. \n**Liability Waiver and Code of Conduct**\nWhen you sign up to attend\, you automatically acknowledge [VSDC’s Liability Waiver](https://vsdc.org/activity-waiver/) and commit to follow the code of conduct found at [Policies – VSDC – Veg Society of DC](https://vsdc.org/policies/).
URL:https://www.vkind.com/vegan-events/vsdc-vegan-trekkers-great-falls-9-1-mile-loop-hike/
LOCATION:Great Falls Visitor Center\, 9200 Old Dominion Dr\, McLean\, VA\, 22102\, United States
ATTACH;FMTTYPE=image/jpeg:https://www.vkind.com/wp-content/uploads/2024/04/1024x576-ORSosn.tmp_.jpg
GEO:38.99689;-77.25479
X-APPLE-STRUCTURED-LOCATION;VALUE=URI;X-ADDRESS=Great Falls Visitor Center 9200 Old Dominion Dr McLean VA 22102 United States;X-APPLE-RADIUS=500;X-TITLE=9200 Old Dominion Dr:geo:-77.25479,38.99689
END:VEVENT
END:VCALENDAR