BEGIN:VCALENDAR
VERSION:2.0
PRODID:-//Vkind - ECPv6.15.14//NONSGML v1.0//EN
CALSCALE:GREGORIAN
METHOD:PUBLISH
X-ORIGINAL-URL:https://www.vkind.com
X-WR-CALDESC:Events for Vkind
REFRESH-INTERVAL;VALUE=DURATION:PT1H
X-Robots-Tag:noindex
X-PUBLISHED-TTL:PT1H
BEGIN:VTIMEZONE
TZID:-04:00
END:VTIMEZONE
BEGIN:VEVENT
DTSTART;TZID=-04:00:20230409T093000
DTEND;TZID=-04:00:20230409T123000
DTSTAMP:20260423T193859
CREATED:20230403T172042Z
LAST-MODIFIED:20230408T175004Z
UID:10000486-1681032600-1681043400@www.vkind.com
SUMMARY:Vegan Trekkers Hike: Billy Goat Trail A
DESCRIPTION:If you are ready to come out of hibernation and jump head first into some serious hiking\, then join us on one of the most popular hiking trails in the DMV area – the Billy Goat Trail A! It offers stunning views of the thundering Great Falls as well as the calmer sections of the Potomac River. \nImportant information-\nMeeting Point: Great Falls Tavern Visitor Center\n11710 Macarthur Blvd · Potomac\, MD\nParking: Paid\nDistance: 4.5 miles\nPace: moderate (2.5-3 miles/hr)\nDifficulty: Challenging (involves about 2 miles of rock scrambling)\nDuration: 3 hours\nTrail Surface: Hard-packed dirt on towpath\, and mostly rocky on section A\nHiking Map: https://imgur.com/a/qhBxTbJ\nRecommended read: https://www.nps.gov/choh/planyourvisit/billy-goat-trail.htm\nBathroom Facilities: Near the visitor center \nPlease do not attend if you are sick or have been near someone who thinks they may have or have been exposed to COVID-19. \nDog friendly?: No\, because of the rocky terrain. \nFood/Water: Bring your own vegan snack and (non-alcoholic) beverage to enjoy. Please carry plenty of water! \nWeather: If conditions pose a danger\, we’ll cancel the hike and post a notice in the “comments” section. We suggest that hikers wear comfortable footwear and suitable clothing made from quick-dry\, synthetic fabrics\, as cotton can lead to uncomfortable blisters and life-threatening hypothermia in case of inclement weather. \n*For important updates regularly monitor the “comments” section below.*\n*Don’t be a no show! If your plans change\, update your RSVP.*\n*When you sign up to join a hike you automatically acknowledge\n[VSDC Vegan Trekkers Liability Waiver](https://vsdc.org/activity-waiver/).\n*Please also view the Rules listed at the end of this description*\n*Please read The 10 Essentials of Hiking: https://americanhiking.org/resources/10essentials/ * \nRULES \nPets: When hikes are organized in dog-friendly areas\, hikers are invited to bring their pet(s). However\, dogs are the sole responsibility of the owner(s) who brought them; should be up-to-date on their vaccinations & in possession of the relevant tags; and should be under the control of their owner(s) at all times. Dogs that demonstrate consistently aggressive or otherwise out-of-control behavior will be banned from future hikes. Owners should come prepared to dispose of their dogs’ waste in appropriate receptacles. \nAlcohol/Smoking/Intoxicants: Use of intoxicants such as alcohol\, cigarettes and/or illegal substances is banned during the hikes.\n— \nVSDC (http://www.vsdc.org) is a clear and consistent voice for improving the lives of all beings through education on the benefits of a vegan diet & lifestyle. Sharing food is the bond that brings families together; so it is with VSDC. From simply “breaking bread” to experiencing delicious and nutritious vegan foods from around the world\, we make your journey easier\, enjoyable & meaningful. \nVSDC. Creating communities. For your health\, the animals\, and the planet.
URL:https://www.vkind.com/vegan-events/vegan-trekkers-hike-billy-goat-trail-a/
LOCATION:Great Falls Tavern Visitor Center\, 11710 Macarthur Blvd\, Potomac\, MD\, 20854\, us
ATTACH;FMTTYPE=image/jpeg:https://www.vkind.com/wp-content/uploads/2023/04/1024x576-1kEE6d.tmp_.jpg
GEO:39.000217;-77.24816
X-APPLE-STRUCTURED-LOCATION;VALUE=URI;X-ADDRESS=Great Falls Tavern Visitor Center 11710 Macarthur Blvd Potomac MD 20854 us;X-APPLE-RADIUS=500;X-TITLE=11710 Macarthur Blvd:geo:-77.24816,39.000217
END:VEVENT
END:VCALENDAR