BEGIN:VCALENDAR
VERSION:2.0
PRODID:-//Vkind - ECPv6.15.14//NONSGML v1.0//EN
CALSCALE:GREGORIAN
METHOD:PUBLISH
X-ORIGINAL-URL:https://www.vkind.com
X-WR-CALDESC:Events for Vkind
REFRESH-INTERVAL;VALUE=DURATION:PT1H
X-Robots-Tag:noindex
X-PUBLISHED-TTL:PT1H
BEGIN:VTIMEZONE
TZID:-05:00
END:VTIMEZONE
BEGIN:VEVENT
DTSTART;TZID=-05:00:20230624T100000
DTEND;TZID=-05:00:20230625T170000
DTSTAMP:20260424T120400
CREATED:20230525T080605Z
LAST-MODIFIED:20230625T194512Z
UID:10000523-1687600800-1687712400@www.vkind.com
SUMMARY:ONENESS FEST 2023
DESCRIPTION:Please join us at Oneness Festival organized by AWAKE: Oneness Tribe! \nChicagoVeg is hosting a booth at the Expo area of the festival to advocate for a plant-based diet and vegan lifestyle. The festival will have numerous vendors\, speakers\, demos\, music performances and other activities. The Expo area access is $5 (paid at the gate). For more info visit [awakeonenesstribe.org/onenessfest2023](https://www.awakeonenesstribe.org/onenessfest2023). ChicagoVeg members can use the discount code “chicagoveg” for *all access* the festival passes. \nWe invite everyone to meet at the ChicagoVeg booth at 10AM. Feel free to come at any time as this is not a formal meetup. Whenever you arrive\, please stop by and say Hi! And make sure to be there by 10:30AM Saturday for ChicagoVeg’s Event Organizer Pauline Sharpe’s Vegan Cheese food demo at free demos area! Pauline will also do “Making Vegan Currywurst (German-style sausage)” demo at the Festival area at noon. \nAlso\, if you are willing to help us at the booth please reply on the following message board with your availability: [meetup.com/chicagoveg/messages/boards/thread/53887264](https://www.meetup.com/chicagoveg/messages/boards/thread/53887264/) Regardless if you can help just for an hour or for all day\, your help will be greatly appreciated! It can be at any time during the festival which is from 9 AM to 9 PM on June 24 (Sat.) and 9AM to 5PM on June 25 (Sun.). People also come on Friday night for camping\, drum circle\, dance\, campfire\, and other entertainments (check out the [AWAKE](https://www.awakeonenesstribe.org/onenessfest2023) website for details). ChicagoVeg will be at our booth only during Sat. and Sun. \nThe parking is free. Please use this message board for carpooling arrangements: [meetup.com/chicagoveg/messages/boards/thread/53887263](https://www.meetup.com/chicagoveg/messages/boards/thread/53887263) \nLooking forward to see you all at this great event!
URL:https://www.vkind.com/vegan-events/oneness-fest-2023/
LOCATION:Good Templar Park Association\, 528 East Side Dr\, Geneva\, IL\, 60134\, us
ATTACH;FMTTYPE=image/jpeg:https://www.vkind.com/wp-content/uploads/2023/05/1024x576-Z8ORpS.tmp_.jpg
GEO:41.8929476;-88.2913486
X-APPLE-STRUCTURED-LOCATION;VALUE=URI;X-ADDRESS=Good Templar Park Association 528 East Side Dr Geneva IL 60134 us;X-APPLE-RADIUS=500;X-TITLE=528 East Side Dr:geo:-88.2913486,41.8929476
END:VEVENT
END:VCALENDAR