BEGIN:VCALENDAR
VERSION:2.0
PRODID:-//Vkind - ECPv6.15.14//NONSGML v1.0//EN
CALSCALE:GREGORIAN
METHOD:PUBLISH
X-WR-CALNAME:Vkind
X-ORIGINAL-URL:https://www.vkind.com
X-WR-CALDESC:Events for Vkind
REFRESH-INTERVAL;VALUE=DURATION:PT1H
X-Robots-Tag:noindex
X-PUBLISHED-TTL:PT1H
BEGIN:VTIMEZONE
TZID:-05:00
END:VTIMEZONE
BEGIN:VEVENT
DTSTART;TZID=-05:00:20250208T190000
DTEND;TZID=-05:00:20250208T220000
DTSTAMP:20260424T135424
CREATED:20250201T214550Z
LAST-MODIFIED:20250209T022022Z
UID:10007877-1739041200-1739052000@www.vkind.com
SUMMARY:Join VSDC at Give at Hoot Comedy Show Benefitting Poplar Spring Animal Sanctuary
DESCRIPTION:Join VSDC at [Give a Hoot’s Comedy Club](https://www.giveahootcomedy.com/)’s show benefitting [Poplar Spring Animal Sanctuary](https://www.animalsanctuary.org/) with comedian Chris Monty. \nTo join the VSDC group\, you need to **[buy your ticket in advance](https://www.giveahootcomedy.com/?fbclid=IwY2xjawILSohleHRuA2FlbQIxMAABHdwbmSi18TISWTRL4eMX_4FY8PyMWNUBSEzi6aSou15PdIbaM48qCUpR-A_aem__ggxOgwkrmvzOgu1Yxdy-A)**[ ](https://www.giveahootcomedy.com/?fbclid=IwY2xjawILSohleHRuA2FlbQIxMAABHdwbmSi18TISWTRL4eMX_4FY8PyMWNUBSEzi6aSou15PdIbaM48qCUpR-A_aem__ggxOgwkrmvzOgu1Yxdy-A)from Give a Hoot Comedy Club for the Saturday\, Feb. 8\, show **and RSVP here on Meetup** **indicating the number of guests** **you are bringing** so we can save your seat (s) with the VSDC group. \nDoors open at 7pm and the show starts at 8pm. Come hungry because a **[vegan Mexican menu](https://photos.app.goo.gl/TdKrjTB3EMQQ1mvo9)** will be available to purchase dinner before the show. \nIf you can’t make it Saturday night\, the show is happening on Thursday and Friday nights too. \n**About Chris Monty**\nWith over 20 years of stand-up comedy and television under his belt\, Chris Monty continues to delight audiences worldwide. His latest high profile projects include his stand-up comedy special titled “What’s the Worst That Could Happen” (Amazon Prime)\, Vinyl (HBO)\, Red Oaks (Amazon Prime)\, Paul Bart: Mall Cop 2 (Sony Pictures)\, Kevin Can Wait ( CBS)\, and Orange is the New Black (Netflix). In his stand-up\, Chris Monty channels a refreshing and unique style of the 1960’s cool funnyman mixed with a modern chic. His unique take on current topics and storytelling are reminiscent of the comics that would keep The Rat Pack in stitches for weeks. He spans generations in that older crowds love his his cool\, retro style and younger crowds see a cadence that they haven’t seen on stage. It is truly something unique to experience. Chris’s experience as a stand-up lends itself to his wide ranging acting work also. He uses his quick improvisational skills and ability to use physical slapstick and timing to enhance his lead and supporting actor’s roles. . Whether on screen or stage\, Chris Monty has the chops to make your creative endeavor something to be remembered for months and years to come. \n**VSDC: More Than A Meetup**\nWe are so glad to have you as part of The Veg Society of DC Vegan Meetup group\, and we enjoy seeing you at our events. Did you know that [VSDC](https://vsdc.org/) is a nonprofit organization with membership benefits? \nWith VSDC membership\, you will save money at area restaurants and businesses\, attend VSDC member-only events\, and\, most importantly\, support us as a clear and consistent voice for improving the lives of all beings through community building and education centered on the benefits of a vegan diet and lifestyle. \nThe membership fee is minimal\, but the impact is significant! [Become a member of VSDC](https://vsdc.org/membership/). \n**Liability Waiver and Code of Conduct**\nWhen you sign up to join\, you automatically acknowledge [VSDC’s Liability Waiver](https://vsdc.org/activity-waiver/) and commit to follow the code of conduct found at [Policies – VSDC – Veg Society of DC](https://vsdc.org/policies/) \n**VSDC. Creating communities. For your health\, the animals\, and the planet.**
URL:https://www.vkind.com/vegan-events/join-vsdc-at-give-at-hoot-comedy-show-benefitting-poplar-spring-animal-sanctuary/
LOCATION:Give a hoot comedy Club\, 16143 Shady Grove Rd\, Gaithersburg\, MD\, 20877\, United States
ATTACH;FMTTYPE=image/jpeg:https://www.vkind.com/wp-content/uploads/2025/02/1024x576-1XKTq8.tmp_.jpg
GEO:39.120346;-77.178764
X-APPLE-STRUCTURED-LOCATION;VALUE=URI;X-ADDRESS=Give a hoot comedy Club 16143 Shady Grove Rd Gaithersburg MD 20877 United States;X-APPLE-RADIUS=500;X-TITLE=16143 Shady Grove Rd:geo:-77.178764,39.120346
END:VEVENT
END:VCALENDAR