BEGIN:VCALENDAR
VERSION:2.0
PRODID:-//Vkind - ECPv6.15.14//NONSGML v1.0//EN
CALSCALE:GREGORIAN
METHOD:PUBLISH
X-WR-CALNAME:Vkind
X-ORIGINAL-URL:https://www.vkind.com
X-WR-CALDESC:Events for Vkind
REFRESH-INTERVAL;VALUE=DURATION:PT1H
X-Robots-Tag:noindex
X-PUBLISHED-TTL:PT1H
BEGIN:VTIMEZONE
TZID:-05:00
END:VTIMEZONE
BEGIN:VEVENT
DTSTART;TZID=-05:00:20221126T100000
DTEND;TZID=-05:00:20221126T120000
DTSTAMP:20260424T031214
CREATED:20221109T173522Z
LAST-MODIFIED:20221126T000557Z
UID:10000341-1669456800-1669464000@www.vkind.com
SUMMARY:Rockville Vegans: Walk/Hike at Seneca Creek State Park
DESCRIPTION:Join the [Rockville Vegans](https://linktr.ee/rockvillevegans) on a walk/hike at Seneca Creek State Park. \nSeneca Creek State Park features a 3.7 mile loop around Clopper Lake. The loop is graded at a moderate difficulty level. Depending on your walking/hiking speed it could take up to 1.5 hours to complete the loop. \nSeneca Creek State Park has plenty of parking. We will meet at the Germantown Tire Playground and head to the trail from there. \nAfter hiking\, we will head to the Fallsgrove Village Center for lunch at St. Veg\, Bethesda Bagels\, or another spot with vegan options. I will make a separate event for people that want to join us for lunch and skip the walk/hike. \n*When you sign up to join\, you automatically acknowledge [VSDC’s Liability Waiver](https://vsdc.org/activity-waiver/)* \nVSDC (http://www.vsdc.org) is a clear and consistent voice for improving the lives of all beings through education on the benefits of a vegan diet & lifestyle. Sharing food is the bond that brings families together; so it is with VSDC. From simply “breaking bread” to experiencing delicious and nutritious vegan foods from around the world\, we make your journey easier\, enjoyable & meaningful. \nBy coming to this event\, we expect you will follow the code of conduct found at [Policies – VSDC – Veg Society of DC](https://vsdc.org/policies) \n**VSDC. Creating communities. For your health\, the animals\, and the planet.**
URL:https://www.vkind.com/vegan-events/rockville-vegans-walk-hike-at-seneca-creek-state-park/
LOCATION:Germantown Tire Playground\, Seneca Creek Rd\, Gaithersburg\, MD\, 20878\, us
ATTACH;FMTTYPE=image/jpeg:https://www.vkind.com/wp-content/uploads/2022/11/1024x576-4CWxJe.tmp_.jpg
GEO:39.14603;-77.25325
X-APPLE-STRUCTURED-LOCATION;VALUE=URI;X-ADDRESS=Germantown Tire Playground Seneca Creek Rd Gaithersburg MD 20878 us;X-APPLE-RADIUS=500;X-TITLE=Seneca Creek Rd:geo:-77.25325,39.14603
END:VEVENT
END:VCALENDAR