BEGIN:VCALENDAR
VERSION:2.0
PRODID:-//Vkind - ECPv6.15.14//NONSGML v1.0//EN
CALSCALE:GREGORIAN
METHOD:PUBLISH
X-WR-CALNAME:Vkind
X-ORIGINAL-URL:https://www.vkind.com
X-WR-CALDESC:Events for Vkind
REFRESH-INTERVAL;VALUE=DURATION:PT1H
X-Robots-Tag:noindex
X-PUBLISHED-TTL:PT1H
BEGIN:VTIMEZONE
TZID:America/New_York
BEGIN:DAYLIGHT
TZOFFSETFROM:-0500
TZOFFSETTO:-0400
TZNAME:EDT
DTSTART:20220313T070000
END:DAYLIGHT
BEGIN:STANDARD
TZOFFSETFROM:-0400
TZOFFSETTO:-0500
TZNAME:EST
DTSTART:20221106T060000
END:STANDARD
BEGIN:DAYLIGHT
TZOFFSETFROM:-0500
TZOFFSETTO:-0400
TZNAME:EDT
DTSTART:20230312T070000
END:DAYLIGHT
BEGIN:STANDARD
TZOFFSETFROM:-0400
TZOFFSETTO:-0500
TZNAME:EST
DTSTART:20231105T060000
END:STANDARD
BEGIN:DAYLIGHT
TZOFFSETFROM:-0500
TZOFFSETTO:-0400
TZNAME:EDT
DTSTART:20240310T070000
END:DAYLIGHT
BEGIN:STANDARD
TZOFFSETFROM:-0400
TZOFFSETTO:-0500
TZNAME:EST
DTSTART:20241103T060000
END:STANDARD
END:VTIMEZONE
BEGIN:VEVENT
DTSTART;TZID=America/New_York:20231118T143000
DTEND;TZID=America/New_York:20231118T173000
DTSTAMP:20260425T095836
CREATED:20230725T160637Z
LAST-MODIFIED:20230725T160835Z
UID:10000864-1700317800-1700328600@www.vkind.com
SUMMARY:Vegan Adventure in the East Village
DESCRIPTION:Discover the delicious vegan options the East Village and Lower East Side have to offer. \n$ 125 PER PERSON \nAll-inclusive: 6 food stops and taxes. \nThis vegan food tour meets in Gandhi Garden in Union Square\, and then you’ll set off on a vegan foodie adventure led by an experienced local guide. On this two-mile walking food tour\, you’ll stop at a least five different spots to try unique and delicious vegan fare. \nSome of the local culinary favorites you’ll enjoy include vegan Chinese food\, artisanal vegan cheese\, vegan soft serve and more. As you wander through quaint East Village and the Lower East Side\, your guide will also share interesting tidbits about the history and culture of the neighborhood.
URL:https://www.vkind.com/vegan-events/vegan-adventure-in-the-east-village/2023-11-18/
LOCATION:Gandhi Garden\, Union Square W\, New York\, NY\, 10003\, United States
ATTACH;FMTTYPE=image/jpeg:https://www.vkind.com/wp-content/uploads/2023/07/Vegan-Adventure-in-the-East-Village.jpg
GEO:40.7358984;-73.9912281
X-APPLE-STRUCTURED-LOCATION;VALUE=URI;X-ADDRESS=Gandhi Garden Union Square W New York NY 10003 United States;X-APPLE-RADIUS=500;X-TITLE=Union Square W:geo:-73.9912281,40.7358984
END:VEVENT
BEGIN:VEVENT
DTSTART;TZID=America/New_York:20231111T143000
DTEND;TZID=America/New_York:20231111T173000
DTSTAMP:20260425T095836
CREATED:20230725T160637Z
LAST-MODIFIED:20230725T160835Z
UID:10000863-1699713000-1699723800@www.vkind.com
SUMMARY:Vegan Adventure in the East Village
DESCRIPTION:Discover the delicious vegan options the East Village and Lower East Side have to offer. \n$ 125 PER PERSON \nAll-inclusive: 6 food stops and taxes. \nThis vegan food tour meets in Gandhi Garden in Union Square\, and then you’ll set off on a vegan foodie adventure led by an experienced local guide. On this two-mile walking food tour\, you’ll stop at a least five different spots to try unique and delicious vegan fare. \nSome of the local culinary favorites you’ll enjoy include vegan Chinese food\, artisanal vegan cheese\, vegan soft serve and more. As you wander through quaint East Village and the Lower East Side\, your guide will also share interesting tidbits about the history and culture of the neighborhood.
URL:https://www.vkind.com/vegan-events/vegan-adventure-in-the-east-village/2023-11-11/
LOCATION:Gandhi Garden\, Union Square W\, New York\, NY\, 10003\, United States
ATTACH;FMTTYPE=image/jpeg:https://www.vkind.com/wp-content/uploads/2023/07/Vegan-Adventure-in-the-East-Village.jpg
GEO:40.7358984;-73.9912281
X-APPLE-STRUCTURED-LOCATION;VALUE=URI;X-ADDRESS=Gandhi Garden Union Square W New York NY 10003 United States;X-APPLE-RADIUS=500;X-TITLE=Union Square W:geo:-73.9912281,40.7358984
END:VEVENT
BEGIN:VEVENT
DTSTART;TZID=America/New_York:20231104T143000
DTEND;TZID=America/New_York:20231104T173000
DTSTAMP:20260425T095836
CREATED:20230725T160637Z
LAST-MODIFIED:20230725T160835Z
UID:10000862-1699108200-1699119000@www.vkind.com
SUMMARY:Vegan Adventure in the East Village
DESCRIPTION:Discover the delicious vegan options the East Village and Lower East Side have to offer. \n$ 125 PER PERSON \nAll-inclusive: 6 food stops and taxes. \nThis vegan food tour meets in Gandhi Garden in Union Square\, and then you’ll set off on a vegan foodie adventure led by an experienced local guide. On this two-mile walking food tour\, you’ll stop at a least five different spots to try unique and delicious vegan fare. \nSome of the local culinary favorites you’ll enjoy include vegan Chinese food\, artisanal vegan cheese\, vegan soft serve and more. As you wander through quaint East Village and the Lower East Side\, your guide will also share interesting tidbits about the history and culture of the neighborhood.
URL:https://www.vkind.com/vegan-events/vegan-adventure-in-the-east-village/2023-11-04/
LOCATION:Gandhi Garden\, Union Square W\, New York\, NY\, 10003\, United States
ATTACH;FMTTYPE=image/jpeg:https://www.vkind.com/wp-content/uploads/2023/07/Vegan-Adventure-in-the-East-Village.jpg
GEO:40.7358984;-73.9912281
X-APPLE-STRUCTURED-LOCATION;VALUE=URI;X-ADDRESS=Gandhi Garden Union Square W New York NY 10003 United States;X-APPLE-RADIUS=500;X-TITLE=Union Square W:geo:-73.9912281,40.7358984
END:VEVENT
BEGIN:VEVENT
DTSTART;TZID=America/New_York:20231028T143000
DTEND;TZID=America/New_York:20231028T173000
DTSTAMP:20260425T095836
CREATED:20230725T160637Z
LAST-MODIFIED:20230725T160835Z
UID:10000861-1698503400-1698514200@www.vkind.com
SUMMARY:Vegan Adventure in the East Village
DESCRIPTION:Discover the delicious vegan options the East Village and Lower East Side have to offer. \n$ 125 PER PERSON \nAll-inclusive: 6 food stops and taxes. \nThis vegan food tour meets in Gandhi Garden in Union Square\, and then you’ll set off on a vegan foodie adventure led by an experienced local guide. On this two-mile walking food tour\, you’ll stop at a least five different spots to try unique and delicious vegan fare. \nSome of the local culinary favorites you’ll enjoy include vegan Chinese food\, artisanal vegan cheese\, vegan soft serve and more. As you wander through quaint East Village and the Lower East Side\, your guide will also share interesting tidbits about the history and culture of the neighborhood.
URL:https://www.vkind.com/vegan-events/vegan-adventure-in-the-east-village/2023-10-28/
LOCATION:Gandhi Garden\, Union Square W\, New York\, NY\, 10003\, United States
ATTACH;FMTTYPE=image/jpeg:https://www.vkind.com/wp-content/uploads/2023/07/Vegan-Adventure-in-the-East-Village.jpg
GEO:40.7358984;-73.9912281
X-APPLE-STRUCTURED-LOCATION;VALUE=URI;X-ADDRESS=Gandhi Garden Union Square W New York NY 10003 United States;X-APPLE-RADIUS=500;X-TITLE=Union Square W:geo:-73.9912281,40.7358984
END:VEVENT
BEGIN:VEVENT
DTSTART;TZID=America/New_York:20231021T143000
DTEND;TZID=America/New_York:20231021T173000
DTSTAMP:20260425T095836
CREATED:20230725T160637Z
LAST-MODIFIED:20230725T160835Z
UID:10000860-1697898600-1697909400@www.vkind.com
SUMMARY:Vegan Adventure in the East Village
DESCRIPTION:Discover the delicious vegan options the East Village and Lower East Side have to offer. \n$ 125 PER PERSON \nAll-inclusive: 6 food stops and taxes. \nThis vegan food tour meets in Gandhi Garden in Union Square\, and then you’ll set off on a vegan foodie adventure led by an experienced local guide. On this two-mile walking food tour\, you’ll stop at a least five different spots to try unique and delicious vegan fare. \nSome of the local culinary favorites you’ll enjoy include vegan Chinese food\, artisanal vegan cheese\, vegan soft serve and more. As you wander through quaint East Village and the Lower East Side\, your guide will also share interesting tidbits about the history and culture of the neighborhood.
URL:https://www.vkind.com/vegan-events/vegan-adventure-in-the-east-village/2023-10-21/
LOCATION:Gandhi Garden\, Union Square W\, New York\, NY\, 10003\, United States
ATTACH;FMTTYPE=image/jpeg:https://www.vkind.com/wp-content/uploads/2023/07/Vegan-Adventure-in-the-East-Village.jpg
GEO:40.7358984;-73.9912281
X-APPLE-STRUCTURED-LOCATION;VALUE=URI;X-ADDRESS=Gandhi Garden Union Square W New York NY 10003 United States;X-APPLE-RADIUS=500;X-TITLE=Union Square W:geo:-73.9912281,40.7358984
END:VEVENT
BEGIN:VEVENT
DTSTART;TZID=America/New_York:20231014T143000
DTEND;TZID=America/New_York:20231014T173000
DTSTAMP:20260425T095836
CREATED:20230725T160637Z
LAST-MODIFIED:20230725T160835Z
UID:10000859-1697293800-1697304600@www.vkind.com
SUMMARY:Vegan Adventure in the East Village
DESCRIPTION:Discover the delicious vegan options the East Village and Lower East Side have to offer. \n$ 125 PER PERSON \nAll-inclusive: 6 food stops and taxes. \nThis vegan food tour meets in Gandhi Garden in Union Square\, and then you’ll set off on a vegan foodie adventure led by an experienced local guide. On this two-mile walking food tour\, you’ll stop at a least five different spots to try unique and delicious vegan fare. \nSome of the local culinary favorites you’ll enjoy include vegan Chinese food\, artisanal vegan cheese\, vegan soft serve and more. As you wander through quaint East Village and the Lower East Side\, your guide will also share interesting tidbits about the history and culture of the neighborhood.
URL:https://www.vkind.com/vegan-events/vegan-adventure-in-the-east-village/2023-10-14/
LOCATION:Gandhi Garden\, Union Square W\, New York\, NY\, 10003\, United States
ATTACH;FMTTYPE=image/jpeg:https://www.vkind.com/wp-content/uploads/2023/07/Vegan-Adventure-in-the-East-Village.jpg
GEO:40.7358984;-73.9912281
X-APPLE-STRUCTURED-LOCATION;VALUE=URI;X-ADDRESS=Gandhi Garden Union Square W New York NY 10003 United States;X-APPLE-RADIUS=500;X-TITLE=Union Square W:geo:-73.9912281,40.7358984
END:VEVENT
BEGIN:VEVENT
DTSTART;TZID=America/New_York:20231007T143000
DTEND;TZID=America/New_York:20231007T173000
DTSTAMP:20260425T095836
CREATED:20230725T160637Z
LAST-MODIFIED:20230725T160835Z
UID:10000858-1696689000-1696699800@www.vkind.com
SUMMARY:Vegan Adventure in the East Village
DESCRIPTION:Discover the delicious vegan options the East Village and Lower East Side have to offer. \n$ 125 PER PERSON \nAll-inclusive: 6 food stops and taxes. \nThis vegan food tour meets in Gandhi Garden in Union Square\, and then you’ll set off on a vegan foodie adventure led by an experienced local guide. On this two-mile walking food tour\, you’ll stop at a least five different spots to try unique and delicious vegan fare. \nSome of the local culinary favorites you’ll enjoy include vegan Chinese food\, artisanal vegan cheese\, vegan soft serve and more. As you wander through quaint East Village and the Lower East Side\, your guide will also share interesting tidbits about the history and culture of the neighborhood.
URL:https://www.vkind.com/vegan-events/vegan-adventure-in-the-east-village/2023-10-07/
LOCATION:Gandhi Garden\, Union Square W\, New York\, NY\, 10003\, United States
ATTACH;FMTTYPE=image/jpeg:https://www.vkind.com/wp-content/uploads/2023/07/Vegan-Adventure-in-the-East-Village.jpg
GEO:40.7358984;-73.9912281
X-APPLE-STRUCTURED-LOCATION;VALUE=URI;X-ADDRESS=Gandhi Garden Union Square W New York NY 10003 United States;X-APPLE-RADIUS=500;X-TITLE=Union Square W:geo:-73.9912281,40.7358984
END:VEVENT
BEGIN:VEVENT
DTSTART;TZID=America/New_York:20230930T143000
DTEND;TZID=America/New_York:20230930T173000
DTSTAMP:20260425T095836
CREATED:20230725T160637Z
LAST-MODIFIED:20230725T160835Z
UID:10000857-1696084200-1696095000@www.vkind.com
SUMMARY:Vegan Adventure in the East Village
DESCRIPTION:Discover the delicious vegan options the East Village and Lower East Side have to offer. \n$ 125 PER PERSON \nAll-inclusive: 6 food stops and taxes. \nThis vegan food tour meets in Gandhi Garden in Union Square\, and then you’ll set off on a vegan foodie adventure led by an experienced local guide. On this two-mile walking food tour\, you’ll stop at a least five different spots to try unique and delicious vegan fare. \nSome of the local culinary favorites you’ll enjoy include vegan Chinese food\, artisanal vegan cheese\, vegan soft serve and more. As you wander through quaint East Village and the Lower East Side\, your guide will also share interesting tidbits about the history and culture of the neighborhood.
URL:https://www.vkind.com/vegan-events/vegan-adventure-in-the-east-village/2023-09-30/
LOCATION:Gandhi Garden\, Union Square W\, New York\, NY\, 10003\, United States
ATTACH;FMTTYPE=image/jpeg:https://www.vkind.com/wp-content/uploads/2023/07/Vegan-Adventure-in-the-East-Village.jpg
GEO:40.7358984;-73.9912281
X-APPLE-STRUCTURED-LOCATION;VALUE=URI;X-ADDRESS=Gandhi Garden Union Square W New York NY 10003 United States;X-APPLE-RADIUS=500;X-TITLE=Union Square W:geo:-73.9912281,40.7358984
END:VEVENT
BEGIN:VEVENT
DTSTART;TZID=America/New_York:20230923T143000
DTEND;TZID=America/New_York:20230923T173000
DTSTAMP:20260425T095836
CREATED:20230725T160637Z
LAST-MODIFIED:20230725T160835Z
UID:10000856-1695479400-1695490200@www.vkind.com
SUMMARY:Vegan Adventure in the East Village
DESCRIPTION:Discover the delicious vegan options the East Village and Lower East Side have to offer. \n$ 125 PER PERSON \nAll-inclusive: 6 food stops and taxes. \nThis vegan food tour meets in Gandhi Garden in Union Square\, and then you’ll set off on a vegan foodie adventure led by an experienced local guide. On this two-mile walking food tour\, you’ll stop at a least five different spots to try unique and delicious vegan fare. \nSome of the local culinary favorites you’ll enjoy include vegan Chinese food\, artisanal vegan cheese\, vegan soft serve and more. As you wander through quaint East Village and the Lower East Side\, your guide will also share interesting tidbits about the history and culture of the neighborhood.
URL:https://www.vkind.com/vegan-events/vegan-adventure-in-the-east-village/2023-09-23/
LOCATION:Gandhi Garden\, Union Square W\, New York\, NY\, 10003\, United States
ATTACH;FMTTYPE=image/jpeg:https://www.vkind.com/wp-content/uploads/2023/07/Vegan-Adventure-in-the-East-Village.jpg
GEO:40.7358984;-73.9912281
X-APPLE-STRUCTURED-LOCATION;VALUE=URI;X-ADDRESS=Gandhi Garden Union Square W New York NY 10003 United States;X-APPLE-RADIUS=500;X-TITLE=Union Square W:geo:-73.9912281,40.7358984
END:VEVENT
BEGIN:VEVENT
DTSTART;TZID=America/New_York:20230916T143000
DTEND;TZID=America/New_York:20230916T173000
DTSTAMP:20260425T095836
CREATED:20230725T160637Z
LAST-MODIFIED:20230725T160835Z
UID:10000855-1694874600-1694885400@www.vkind.com
SUMMARY:Vegan Adventure in the East Village
DESCRIPTION:Discover the delicious vegan options the East Village and Lower East Side have to offer. \n$ 125 PER PERSON \nAll-inclusive: 6 food stops and taxes. \nThis vegan food tour meets in Gandhi Garden in Union Square\, and then you’ll set off on a vegan foodie adventure led by an experienced local guide. On this two-mile walking food tour\, you’ll stop at a least five different spots to try unique and delicious vegan fare. \nSome of the local culinary favorites you’ll enjoy include vegan Chinese food\, artisanal vegan cheese\, vegan soft serve and more. As you wander through quaint East Village and the Lower East Side\, your guide will also share interesting tidbits about the history and culture of the neighborhood.
URL:https://www.vkind.com/vegan-events/vegan-adventure-in-the-east-village/2023-09-16/
LOCATION:Gandhi Garden\, Union Square W\, New York\, NY\, 10003\, United States
ATTACH;FMTTYPE=image/jpeg:https://www.vkind.com/wp-content/uploads/2023/07/Vegan-Adventure-in-the-East-Village.jpg
GEO:40.7358984;-73.9912281
X-APPLE-STRUCTURED-LOCATION;VALUE=URI;X-ADDRESS=Gandhi Garden Union Square W New York NY 10003 United States;X-APPLE-RADIUS=500;X-TITLE=Union Square W:geo:-73.9912281,40.7358984
END:VEVENT
BEGIN:VEVENT
DTSTART;TZID=America/New_York:20230909T143000
DTEND;TZID=America/New_York:20230909T173000
DTSTAMP:20260425T095836
CREATED:20230725T160637Z
LAST-MODIFIED:20230725T160835Z
UID:10000854-1694269800-1694280600@www.vkind.com
SUMMARY:Vegan Adventure in the East Village
DESCRIPTION:Discover the delicious vegan options the East Village and Lower East Side have to offer. \n$ 125 PER PERSON \nAll-inclusive: 6 food stops and taxes. \nThis vegan food tour meets in Gandhi Garden in Union Square\, and then you’ll set off on a vegan foodie adventure led by an experienced local guide. On this two-mile walking food tour\, you’ll stop at a least five different spots to try unique and delicious vegan fare. \nSome of the local culinary favorites you’ll enjoy include vegan Chinese food\, artisanal vegan cheese\, vegan soft serve and more. As you wander through quaint East Village and the Lower East Side\, your guide will also share interesting tidbits about the history and culture of the neighborhood.
URL:https://www.vkind.com/vegan-events/vegan-adventure-in-the-east-village/2023-09-09/
LOCATION:Gandhi Garden\, Union Square W\, New York\, NY\, 10003\, United States
ATTACH;FMTTYPE=image/jpeg:https://www.vkind.com/wp-content/uploads/2023/07/Vegan-Adventure-in-the-East-Village.jpg
GEO:40.7358984;-73.9912281
X-APPLE-STRUCTURED-LOCATION;VALUE=URI;X-ADDRESS=Gandhi Garden Union Square W New York NY 10003 United States;X-APPLE-RADIUS=500;X-TITLE=Union Square W:geo:-73.9912281,40.7358984
END:VEVENT
BEGIN:VEVENT
DTSTART;TZID=America/New_York:20230902T143000
DTEND;TZID=America/New_York:20230902T173000
DTSTAMP:20260425T095836
CREATED:20230725T160637Z
LAST-MODIFIED:20230725T160835Z
UID:10000853-1693665000-1693675800@www.vkind.com
SUMMARY:Vegan Adventure in the East Village
DESCRIPTION:Discover the delicious vegan options the East Village and Lower East Side have to offer. \n$ 125 PER PERSON \nAll-inclusive: 6 food stops and taxes. \nThis vegan food tour meets in Gandhi Garden in Union Square\, and then you’ll set off on a vegan foodie adventure led by an experienced local guide. On this two-mile walking food tour\, you’ll stop at a least five different spots to try unique and delicious vegan fare. \nSome of the local culinary favorites you’ll enjoy include vegan Chinese food\, artisanal vegan cheese\, vegan soft serve and more. As you wander through quaint East Village and the Lower East Side\, your guide will also share interesting tidbits about the history and culture of the neighborhood.
URL:https://www.vkind.com/vegan-events/vegan-adventure-in-the-east-village/2023-09-02/
LOCATION:Gandhi Garden\, Union Square W\, New York\, NY\, 10003\, United States
ATTACH;FMTTYPE=image/jpeg:https://www.vkind.com/wp-content/uploads/2023/07/Vegan-Adventure-in-the-East-Village.jpg
GEO:40.7358984;-73.9912281
X-APPLE-STRUCTURED-LOCATION;VALUE=URI;X-ADDRESS=Gandhi Garden Union Square W New York NY 10003 United States;X-APPLE-RADIUS=500;X-TITLE=Union Square W:geo:-73.9912281,40.7358984
END:VEVENT
BEGIN:VEVENT
DTSTART;TZID=America/New_York:20230826T143000
DTEND;TZID=America/New_York:20230826T173000
DTSTAMP:20260425T095836
CREATED:20230725T160637Z
LAST-MODIFIED:20230725T160835Z
UID:10000852-1693060200-1693071000@www.vkind.com
SUMMARY:Vegan Adventure in the East Village
DESCRIPTION:Discover the delicious vegan options the East Village and Lower East Side have to offer. \n$ 125 PER PERSON \nAll-inclusive: 6 food stops and taxes. \nThis vegan food tour meets in Gandhi Garden in Union Square\, and then you’ll set off on a vegan foodie adventure led by an experienced local guide. On this two-mile walking food tour\, you’ll stop at a least five different spots to try unique and delicious vegan fare. \nSome of the local culinary favorites you’ll enjoy include vegan Chinese food\, artisanal vegan cheese\, vegan soft serve and more. As you wander through quaint East Village and the Lower East Side\, your guide will also share interesting tidbits about the history and culture of the neighborhood.
URL:https://www.vkind.com/vegan-events/vegan-adventure-in-the-east-village/2023-08-26/
LOCATION:Gandhi Garden\, Union Square W\, New York\, NY\, 10003\, United States
ATTACH;FMTTYPE=image/jpeg:https://www.vkind.com/wp-content/uploads/2023/07/Vegan-Adventure-in-the-East-Village.jpg
GEO:40.7358984;-73.9912281
X-APPLE-STRUCTURED-LOCATION;VALUE=URI;X-ADDRESS=Gandhi Garden Union Square W New York NY 10003 United States;X-APPLE-RADIUS=500;X-TITLE=Union Square W:geo:-73.9912281,40.7358984
END:VEVENT
BEGIN:VEVENT
DTSTART;TZID=America/New_York:20230819T143000
DTEND;TZID=America/New_York:20230819T173000
DTSTAMP:20260425T095836
CREATED:20230725T160637Z
LAST-MODIFIED:20230725T160835Z
UID:10000851-1692455400-1692466200@www.vkind.com
SUMMARY:Vegan Adventure in the East Village
DESCRIPTION:Discover the delicious vegan options the East Village and Lower East Side have to offer. \n$ 125 PER PERSON \nAll-inclusive: 6 food stops and taxes. \nThis vegan food tour meets in Gandhi Garden in Union Square\, and then you’ll set off on a vegan foodie adventure led by an experienced local guide. On this two-mile walking food tour\, you’ll stop at a least five different spots to try unique and delicious vegan fare. \nSome of the local culinary favorites you’ll enjoy include vegan Chinese food\, artisanal vegan cheese\, vegan soft serve and more. As you wander through quaint East Village and the Lower East Side\, your guide will also share interesting tidbits about the history and culture of the neighborhood.
URL:https://www.vkind.com/vegan-events/vegan-adventure-in-the-east-village/2023-08-19/
LOCATION:Gandhi Garden\, Union Square W\, New York\, NY\, 10003\, United States
ATTACH;FMTTYPE=image/jpeg:https://www.vkind.com/wp-content/uploads/2023/07/Vegan-Adventure-in-the-East-Village.jpg
GEO:40.7358984;-73.9912281
X-APPLE-STRUCTURED-LOCATION;VALUE=URI;X-ADDRESS=Gandhi Garden Union Square W New York NY 10003 United States;X-APPLE-RADIUS=500;X-TITLE=Union Square W:geo:-73.9912281,40.7358984
END:VEVENT
BEGIN:VEVENT
DTSTART;TZID=America/New_York:20230812T143000
DTEND;TZID=America/New_York:20230812T173000
DTSTAMP:20260425T095836
CREATED:20230725T160637Z
LAST-MODIFIED:20230725T160835Z
UID:10000850-1691850600-1691861400@www.vkind.com
SUMMARY:Vegan Adventure in the East Village
DESCRIPTION:Discover the delicious vegan options the East Village and Lower East Side have to offer. \n$ 125 PER PERSON \nAll-inclusive: 6 food stops and taxes. \nThis vegan food tour meets in Gandhi Garden in Union Square\, and then you’ll set off on a vegan foodie adventure led by an experienced local guide. On this two-mile walking food tour\, you’ll stop at a least five different spots to try unique and delicious vegan fare. \nSome of the local culinary favorites you’ll enjoy include vegan Chinese food\, artisanal vegan cheese\, vegan soft serve and more. As you wander through quaint East Village and the Lower East Side\, your guide will also share interesting tidbits about the history and culture of the neighborhood.
URL:https://www.vkind.com/vegan-events/vegan-adventure-in-the-east-village/2023-08-12/
LOCATION:Gandhi Garden\, Union Square W\, New York\, NY\, 10003\, United States
ATTACH;FMTTYPE=image/jpeg:https://www.vkind.com/wp-content/uploads/2023/07/Vegan-Adventure-in-the-East-Village.jpg
GEO:40.7358984;-73.9912281
X-APPLE-STRUCTURED-LOCATION;VALUE=URI;X-ADDRESS=Gandhi Garden Union Square W New York NY 10003 United States;X-APPLE-RADIUS=500;X-TITLE=Union Square W:geo:-73.9912281,40.7358984
END:VEVENT
BEGIN:VEVENT
DTSTART;TZID=America/New_York:20230805T143000
DTEND;TZID=America/New_York:20230805T173000
DTSTAMP:20260425T095836
CREATED:20230725T160637Z
LAST-MODIFIED:20230725T160835Z
UID:10000849-1691245800-1691256600@www.vkind.com
SUMMARY:Vegan Adventure in the East Village
DESCRIPTION:Discover the delicious vegan options the East Village and Lower East Side have to offer. \n$ 125 PER PERSON \nAll-inclusive: 6 food stops and taxes. \nThis vegan food tour meets in Gandhi Garden in Union Square\, and then you’ll set off on a vegan foodie adventure led by an experienced local guide. On this two-mile walking food tour\, you’ll stop at a least five different spots to try unique and delicious vegan fare. \nSome of the local culinary favorites you’ll enjoy include vegan Chinese food\, artisanal vegan cheese\, vegan soft serve and more. As you wander through quaint East Village and the Lower East Side\, your guide will also share interesting tidbits about the history and culture of the neighborhood.
URL:https://www.vkind.com/vegan-events/vegan-adventure-in-the-east-village/2023-08-05/
LOCATION:Gandhi Garden\, Union Square W\, New York\, NY\, 10003\, United States
ATTACH;FMTTYPE=image/jpeg:https://www.vkind.com/wp-content/uploads/2023/07/Vegan-Adventure-in-the-East-Village.jpg
GEO:40.7358984;-73.9912281
X-APPLE-STRUCTURED-LOCATION;VALUE=URI;X-ADDRESS=Gandhi Garden Union Square W New York NY 10003 United States;X-APPLE-RADIUS=500;X-TITLE=Union Square W:geo:-73.9912281,40.7358984
END:VEVENT
BEGIN:VEVENT
DTSTART;TZID=America/New_York:20230729T143000
DTEND;TZID=America/New_York:20230729T173000
DTSTAMP:20260425T095836
CREATED:20230725T160637Z
LAST-MODIFIED:20230725T160835Z
UID:10000848-1690641000-1690651800@www.vkind.com
SUMMARY:Vegan Adventure in the East Village
DESCRIPTION:Discover the delicious vegan options the East Village and Lower East Side have to offer. \n$ 125 PER PERSON \nAll-inclusive: 6 food stops and taxes. \nThis vegan food tour meets in Gandhi Garden in Union Square\, and then you’ll set off on a vegan foodie adventure led by an experienced local guide. On this two-mile walking food tour\, you’ll stop at a least five different spots to try unique and delicious vegan fare. \nSome of the local culinary favorites you’ll enjoy include vegan Chinese food\, artisanal vegan cheese\, vegan soft serve and more. As you wander through quaint East Village and the Lower East Side\, your guide will also share interesting tidbits about the history and culture of the neighborhood.
URL:https://www.vkind.com/vegan-events/vegan-adventure-in-the-east-village/2023-07-29/
LOCATION:Gandhi Garden\, Union Square W\, New York\, NY\, 10003\, United States
ATTACH;FMTTYPE=image/jpeg:https://www.vkind.com/wp-content/uploads/2023/07/Vegan-Adventure-in-the-East-Village.jpg
GEO:40.7358984;-73.9912281
X-APPLE-STRUCTURED-LOCATION;VALUE=URI;X-ADDRESS=Gandhi Garden Union Square W New York NY 10003 United States;X-APPLE-RADIUS=500;X-TITLE=Union Square W:geo:-73.9912281,40.7358984
END:VEVENT
END:VCALENDAR