BEGIN:VCALENDAR
VERSION:2.0
PRODID:-//Vkind - ECPv6.15.14//NONSGML v1.0//EN
CALSCALE:GREGORIAN
METHOD:PUBLISH
X-ORIGINAL-URL:https://www.vkind.com
X-WR-CALDESC:Events for Vkind
REFRESH-INTERVAL;VALUE=DURATION:PT1H
X-Robots-Tag:noindex
X-PUBLISHED-TTL:PT1H
BEGIN:VTIMEZONE
TZID:-05:00
END:VTIMEZONE
BEGIN:VEVENT
DTSTART;TZID=-05:00:20221202T110000
DTEND;TZID=-05:00:20221202T130000
DTSTAMP:20260424T114914
CREATED:20221129T005127Z
LAST-MODIFIED:20221202T012022Z
UID:10000372-1669978800-1669986000@www.vkind.com
SUMMARY:VSDC @ Jane Fonda's Climate Change Emergency Rally
DESCRIPTION:Jane Fonda will be leading her first in-person Fire Drill Friday Climate Change rally in about three years on Friday\, December 2nd at Freedom Plaza. \nBring your homemade vegan signs or sign up with the Physicians Committee for Responsible Medicine (PCRM) to use one of theirs at: [https://tinyurl.com/2vzhtzkr](https://tinyurl.com/2vzhtzkr) – and join fellow VSDC members who will be there along with PCRM to spread the important message that plant-based diets can help save the planet. (Let’s join PCRM in meeting at the Freedom Plaza fountain on the west end of the plaza at 11am). \n*When you sign up to join\, you automatically acknowledge [VSDC’s Liability Waiver](https://vsdc.org/activity-waiver/)* \nVSDC (http://www.vsdc.org) is a clear and consistent voice for improving the lives of all beings through education on the benefits of a vegan diet & lifestyle. Sharing food is the bond that brings families together; so it is with VSDC. From simply “breaking bread” to experiencing delicious and nutritious vegan foods from around the world\, we make your journey easier\, enjoyable & meaningful. \nBy coming to this event\, we expect you will follow the code of conduct found at [Policies – VSDC – Veg Society of DC](https://vsdc.org/policies) \n**VSDC. Creating communities. For your health\, the animals\, and the planet.**
URL:https://www.vkind.com/vegan-events/vsdc-jane-fondas-climate-change-emergency-rally/
LOCATION:Freedom Plaza\, Washington\, DC\, 20004\, us
ATTACH;FMTTYPE=image/jpeg:https://www.vkind.com/wp-content/uploads/2022/11/1024x576-psewzh.tmp_.jpg
GEO:38.895844;-77.03072
END:VEVENT
END:VCALENDAR