BEGIN:VCALENDAR
VERSION:2.0
PRODID:-//Vkind - ECPv6.15.14//NONSGML v1.0//EN
CALSCALE:GREGORIAN
METHOD:PUBLISH
X-WR-CALNAME:Vkind
X-ORIGINAL-URL:https://www.vkind.com
X-WR-CALDESC:Events for Vkind
REFRESH-INTERVAL;VALUE=DURATION:PT1H
X-Robots-Tag:noindex
X-PUBLISHED-TTL:PT1H
BEGIN:VTIMEZONE
TZID:America/New_York
BEGIN:DAYLIGHT
TZOFFSETFROM:-0500
TZOFFSETTO:-0400
TZNAME:EDT
DTSTART:20220313T070000
END:DAYLIGHT
BEGIN:STANDARD
TZOFFSETFROM:-0400
TZOFFSETTO:-0500
TZNAME:EST
DTSTART:20221106T060000
END:STANDARD
BEGIN:DAYLIGHT
TZOFFSETFROM:-0500
TZOFFSETTO:-0400
TZNAME:EDT
DTSTART:20230312T070000
END:DAYLIGHT
BEGIN:STANDARD
TZOFFSETFROM:-0400
TZOFFSETTO:-0500
TZNAME:EST
DTSTART:20231105T060000
END:STANDARD
BEGIN:DAYLIGHT
TZOFFSETFROM:-0500
TZOFFSETTO:-0400
TZNAME:EDT
DTSTART:20240310T070000
END:DAYLIGHT
BEGIN:STANDARD
TZOFFSETFROM:-0400
TZOFFSETTO:-0500
TZNAME:EST
DTSTART:20241103T060000
END:STANDARD
END:VTIMEZONE
BEGIN:VEVENT
DTSTART;TZID=America/New_York:20230902T120000
DTEND;TZID=America/New_York:20230902T163000
DTSTAMP:20260423T193431
CREATED:20230725T153319Z
LAST-MODIFIED:20230725T153319Z
UID:10000847-1693656000-1693672200@www.vkind.com
SUMMARY:NYC Animal Liberation March ’23
DESCRIPTION:The Animal Liberation March is designed to unite the vegan community\, spread the vegan message\, inspire us all to speak up\, celebrate victories\, get active for oppressed animals and ACCELERATE ANIMAL LIBERATION. Join us for a powerful and social day to advance ANIMAL RIGHTS.
URL:https://www.vkind.com/vegan-events/nyc-animal-liberation-march-23/
LOCATION:Flatiron Building\, 175 5th Ave\, New York\, NY\, 10010\, us
ATTACH;FMTTYPE=image/jpeg:https://www.vkind.com/wp-content/uploads/2023/07/NYC-Animal-Liberation-March-23.jpg
GEO:40.741062;-73.9897
X-APPLE-STRUCTURED-LOCATION;VALUE=URI;X-ADDRESS=Flatiron Building 175 5th Ave New York NY 10010 us;X-APPLE-RADIUS=500;X-TITLE=175 5th Ave:geo:-73.9897,40.741062
END:VEVENT
END:VCALENDAR