BEGIN:VCALENDAR
VERSION:2.0
PRODID:-//Vkind - ECPv6.15.14//NONSGML v1.0//EN
CALSCALE:GREGORIAN
METHOD:PUBLISH
X-ORIGINAL-URL:https://www.vkind.com
X-WR-CALDESC:Events for Vkind
REFRESH-INTERVAL;VALUE=DURATION:PT1H
X-Robots-Tag:noindex
X-PUBLISHED-TTL:PT1H
BEGIN:VTIMEZONE
TZID:America/Chicago
BEGIN:DAYLIGHT
TZOFFSETFROM:-0600
TZOFFSETTO:-0500
TZNAME:CDT
DTSTART:20220313T080000
END:DAYLIGHT
BEGIN:STANDARD
TZOFFSETFROM:-0500
TZOFFSETTO:-0600
TZNAME:CST
DTSTART:20221106T070000
END:STANDARD
BEGIN:DAYLIGHT
TZOFFSETFROM:-0600
TZOFFSETTO:-0500
TZNAME:CDT
DTSTART:20230312T080000
END:DAYLIGHT
BEGIN:STANDARD
TZOFFSETFROM:-0500
TZOFFSETTO:-0600
TZNAME:CST
DTSTART:20231105T070000
END:STANDARD
BEGIN:DAYLIGHT
TZOFFSETFROM:-0600
TZOFFSETTO:-0500
TZNAME:CDT
DTSTART:20240310T080000
END:DAYLIGHT
BEGIN:STANDARD
TZOFFSETFROM:-0500
TZOFFSETTO:-0600
TZNAME:CST
DTSTART:20241103T070000
END:STANDARD
END:VTIMEZONE
BEGIN:VEVENT
DTSTART;TZID=America/Chicago:20231007T110000
DTEND;TZID=America/Chicago:20231007T190000
DTSTAMP:20260423T083253
CREATED:20230726T170516Z
LAST-MODIFIED:20230726T170516Z
UID:10003204-1696676400-1696705200@www.vkind.com
SUMMARY:Vegan Street Fair Austin 2023
DESCRIPTION:Vegan Street Fair – The World’s Largest Vegan Festival – is in its 9th year of operation and we are FINALLY EXPANDING! Hosted by John Lewis aka BadAssVegan. And check out all of the other cities we’re hosting in 2023! \nFREE ENTRY & ALL AGES! \nExcited? We are! \nEven though this event is free entry\, we will still have our signature Premium Fast Passes up for grabs so check out the options below & be sure to get yours early as they WILL sell out! \n\nFree Entry\nAll ages\n20+ vegan & vegan friendly vendors from around the world\nFast Passes available to expedite lines\nHosted by John Lewis AKA Bad Ass Vegan\nSo much more!\n\nNO REFUNDS. \nFood & beverage sold separately. \nALL PASSES WILL SELL OUT! \n  \nSponsors so far: \n\nLevel Water – Water Sponsor\n\nVendors so far: \n\nDom’s Vegan\nFinally Vegan Macarons\nFunky Mello\nLoam\nNaturade\nVegans Rock Apparel\nMore to Come\n\nLocation: Fast Friends Beer Company | 7313 N Interstate 35 Frontage Rd NB\, Austin\, TX 78744 \nSaturday October 7th\, 2023 \n11am-7pm \nAll food vendors have at least one $4 or less item. \n  \nPREMIUM PASSES & PERKS: \nEven though Vegan Street Fair is Free Entry\, attendees can purchase these premium passes & upgrades for a fuller experience: \n\n$50 – FAST PASSES are front of the line passes for each food & beverage vendor. Food sold separately.\n\n​All upgrades will cost more at the event while supplies last! \nRemember\, PASSES WILL SELL OUT\, so don’t sleep! You won’t want to miss this. \n  \nEvent Details: \n\nThis annual event is a great excuse to get your friends together and kick it with amazing eats\, beats\, dancing\, photo ops\, influencers you love\, and drinks with old friends and new friends alike.\nCash and credit happily welcome. ATMs on site.\nRemember: this is a can’t-miss-event so purchase your Fast Passes and upgrades & come Eat All The Vegan Things with us!  Fast Passes will sell out fast.\nThere will be very loud music.\nThe event is fully accessible.\nFood and drink purchased separately\n#veganstreetfair\, baby!\nCan’t wait to party with you all!\n\n  \nBE SURE TO CHOOSE THE RIGHT PASS TYPE AS CHANGES MAY NOT BE MADE ONCE PURCHASED! \nFor all up-to-date vendor reveals and info\, follow our:\nFacebook event page – HERE and\nInstagram Page – HERE\n\nPick up your wristbands\, Swag Bags\, Shirts\, etc at the Fast Pass Tent which can be found on the event map. \nFAQs- www.veganstreetfair.com/faqs \nAttendees can receive refunds up to 30 days before the event start date. NO REFUNDS AFTER THAT. \nAs much as we love dogs\, we simply cannot have animals at Vegan Street Fair per city rules due to the proximity to food. Emotional support animals and Therapy Animals are also NOT ALLOWED. Only ADA approved service dogs are welcome. \nAnyone with disabilities is welcome to a complimentary Fast Pass available at the Fast Pass tent. Identification will be required at time of request. \n  \nWhere can I contact the organizer with any questions? \ninfo@veganstreetfair.com
URL:https://www.vkind.com/vegan-events/vegan-street-fair-austin-2023/
LOCATION:Fast Friends Beer Company\, 7313 N Interstate 35 Frontage Rd NB\, Austin\, TX\, 78744\, United States
ATTACH;FMTTYPE=image/jpeg:https://www.vkind.com/wp-content/uploads/2023/07/Vegan-Street-Fair-Austin-2023.jpg
GEO:30.1850631;-97.7738096
X-APPLE-STRUCTURED-LOCATION;VALUE=URI;X-ADDRESS=Fast Friends Beer Company 7313 N Interstate 35 Frontage Rd NB Austin TX 78744 United States;X-APPLE-RADIUS=500;X-TITLE=7313 N Interstate 35 Frontage Rd NB:geo:-97.7738096,30.1850631
END:VEVENT
END:VCALENDAR