BEGIN:VCALENDAR
VERSION:2.0
PRODID:-//Vkind - ECPv6.15.14//NONSGML v1.0//EN
CALSCALE:GREGORIAN
METHOD:PUBLISH
X-ORIGINAL-URL:https://www.vkind.com
X-WR-CALDESC:Events for Vkind
REFRESH-INTERVAL;VALUE=DURATION:PT1H
X-Robots-Tag:noindex
X-PUBLISHED-TTL:PT1H
BEGIN:VTIMEZONE
TZID:-05:00
END:VTIMEZONE
BEGIN:VEVENT
DTSTART;TZID=-05:00:20231217T160000
DTEND;TZID=-05:00:20231217T190000
DTSTAMP:20260424T202028
CREATED:20231114T225602Z
LAST-MODIFIED:20231217T161543Z
UID:10007586-1702828800-1702839600@www.vkind.com
SUMMARY:VSDC African American Networking Group's 2023 Kwanzaa Celebration
DESCRIPTION:The Veg Society of DC’s (VSDC) African American Networking Group (AANG) will conduct a potluck celebration of the seven Kwanzaa principles: Umoja (Unity)\, Kujichagulia (Self-Determination)\, Ujima (Collective Work and Responsibility)\, Ujamaa (Cooperative Economics)\, Nia (Purpose)\, Kuumba (Creativity)\, and Imani (Faith). \nThis is an in-person event held at a member’s home. The event has plenty of free available street parking and is 5 miles from the New Carrollton Metro station. \nAn all-vegan menu will be provided\, however\, guests are welcome to bring their own all-vegan food or a dish to share if they would like to do so. No alcoholic beverages will be served nor permitted at the event. \nDirections have been sent by Meetup to those on the confirmed list. \nThe African American Networking Group (AANG) is a networking and social group for African American members of the Veg Society of Washington\, D.C. (VSDC)\, their friends\, and allies. VSDC’s AANG is open to everyone. Anyone is encouraged to attend events.
URL:https://www.vkind.com/vegan-events/vsdc-african-american-networking-groups-2023-kwanzaa-celebration/
LOCATION:Enterprise Road & Traditions Boulevard\, Mitchellville\, MD\, 20720\, us
ATTACH;FMTTYPE=image/jpeg:https://www.vkind.com/wp-content/uploads/2023/11/1024x576-6N74kV.tmp_.jpg
GEO:38.945293;-76.798454
END:VEVENT
END:VCALENDAR