BEGIN:VCALENDAR
VERSION:2.0
PRODID:-//Vkind - ECPv6.15.14//NONSGML v1.0//EN
CALSCALE:GREGORIAN
METHOD:PUBLISH
X-WR-CALNAME:Vkind
X-ORIGINAL-URL:https://www.vkind.com
X-WR-CALDESC:Events for Vkind
REFRESH-INTERVAL;VALUE=DURATION:PT1H
X-Robots-Tag:noindex
X-PUBLISHED-TTL:PT1H
BEGIN:VTIMEZONE
TZID:-05:00
END:VTIMEZONE
BEGIN:VTIMEZONE
TZID:-06:00
END:VTIMEZONE
BEGIN:VEVENT
DTSTART;TZID=-05:00:20250323T110000
DTEND;TZID=-05:00:20250323T130000
DTSTAMP:20260423T102820
CREATED:20250305T100022Z
LAST-MODIFIED:20250323T143043Z
UID:10007895-1742727600-1742734800@www.vkind.com
SUMMARY:From Petal to Plate - Vegan Cooking with Edible Flowers
DESCRIPTION:**Discover the beauty\, flavor\, and health benefits of edible flowers!**\nJoin the **Elmhurst Community Lifestyle Center** for a **FREE** vegan cooking class and **complimentary lunch** at Elmhurst SDA Church! Learn how to incorporate edible flowers into plant-based dishes that are as **nutritious as they are delicious**. \n**What to Expect:**\n🍽️ **Live Cooking Demonstrations** – Watch as the ECLC team presents **three unique recipes** using edible flowers. Learn essential cooking techniques and flavor pairings.\n🌿 **Health Benefits of Edible Flowers** – Explore the **nutritional properties** of these beautiful ingredients\, including their potential to support **digestion\, reduce inflammation\, and provide antioxidants & vitamins**.\n🥗 **Tasting & Complimentary Vegan Lunch** – Enjoy a **free tasting** of the demonstrated dishes\, followed by a delicious **vegan meal**!\n🤝 **Connect & Learn** – Meet fellow food enthusiasts\, ask questions\, and gain **practical plant-based cooking skills** in a welcoming environment. \n**💡 Important Notes:** \n* ✅ **Free Event – RSVP Required**: Space is limited! Please register in advance to secure your spot.\n* 📢 **If your plans change\, please update your RSVP** so others can attend.\n* 🌸 **Come hungry\, leave inspired!** We can’t wait to share this flavorful and nourishing experience with you! \nPlease use the “Comments” area on the bottom of the event page to offer/ask for rides and to post any questions or comments.
URL:https://www.vkind.com/vegan-events/from-petal-to-plate-vegan-cooking-with-edible-flowers/
LOCATION:Elmhurst SDA Church\, 246 W. Butterfield Rd\, Elmhurst\, il\, 60126\, United States
ATTACH;FMTTYPE=image/jpeg:https://www.vkind.com/wp-content/uploads/2025/03/1024x576-qRIJY5.tmp_.jpg
GEO:41.866234;-87.94551
X-APPLE-STRUCTURED-LOCATION;VALUE=URI;X-ADDRESS=Elmhurst SDA Church 246 W. Butterfield Rd Elmhurst il 60126 United States;X-APPLE-RADIUS=500;X-TITLE=246 W. Butterfield Rd:geo:-87.94551,41.866234
END:VEVENT
BEGIN:VEVENT
DTSTART;TZID=-06:00:20241124T163000
DTEND;TZID=-06:00:20241124T183000
DTSTAMP:20260423T102820
CREATED:20241103T071034Z
LAST-MODIFIED:20241122T121533Z
UID:10007832-1732465800-1732473000@www.vkind.com
SUMMARY:Vegetarian & Vegan Thanksgiving Dinner
DESCRIPTION:While ChicagoVeg will have our own annual Thanksgiving event a week later\, we are happy to partner with Elmhurst Community Lifestyle Center to support and celebrate this Thanksgiving at Elmhurst SDA Church too! \nJoin us for this **FREE Vegetarian & Vegan Thanksgiving Dinner** on Sunday\, November 24\, 2024! Gather with us for an evening of friendship and delightful homemade plant-based cuisine. This event is ideal for vegetarians\, vegans\, and anyone interested in exploring nourishing\, home-cooked\, plant-based dishes. \nThe event attendance is limited and **RSVP on the event page is REQUIRED to attend**. Also\, if something changes\, please change your RSVP to No so other people could take your spot. **The attendance will be taken at the event** and your Meetup profile will be marked accordingly if you RSVP but did not show. \nPlease use the “Comments” area on the bottom of the event page to offer/ask for rides and to post any questions or comments.
URL:https://www.vkind.com/vegan-events/vegetarian-vegan-thanksgiving-dinner/
LOCATION:Elmhurst SDA Church\, 246 W. Butterfield Rd\, Elmhurst\, il\, 60126\, United States
ATTACH;FMTTYPE=image/jpeg:https://www.vkind.com/wp-content/uploads/2024/11/1024x576-GBBCyq.tmp_.jpg
GEO:41.866234;-87.94551
X-APPLE-STRUCTURED-LOCATION;VALUE=URI;X-ADDRESS=Elmhurst SDA Church 246 W. Butterfield Rd Elmhurst il 60126 United States;X-APPLE-RADIUS=500;X-TITLE=246 W. Butterfield Rd:geo:-87.94551,41.866234
END:VEVENT
BEGIN:VEVENT
DTSTART;TZID=-06:00:20241123T140000
DTEND;TZID=-06:00:20241123T160000
DTSTAMP:20260423T102820
CREATED:20241103T070533Z
LAST-MODIFIED:20241122T121530Z
UID:10007831-1732370400-1732377600@www.vkind.com
SUMMARY:Game Changers in Cardiology: Holistic Heart Health Solutions
DESCRIPTION:Join us for an eye-opening health seminar\, **”Game Changers in Cardiology\,”** led by Dr. Rajko Bisevac\, ND\, ABAAHP\, FAARFM. With cardiovascular disease reigning as the #1 cause of death in the developed world\, Dr. Bisevac\, a **Naturopathic Doctor (ND)** and board-certified expert in anti-aging and functional medicine\, will share powerful insights to reverse this trend through holistic\, natural approaches.\n**What You’ll Learn:** \n* **Uncover the true causes behind cardiovascular diseases** and how to address them holistically.\n* **Discover the critical role of Nitric Oxide\, often called the “miracle molecule of life.”**\n* **Learn simple yet effective techniques to naturally boost Nitric Oxide production** in your body\, promoting heart health and vitality. \n**Bonus**:\nAll attendees will receive a **FREE copy of “The Ministry of Healing”** by Ellen G. White.\nDon’t miss this opportunity to gain holistic insights into heart health from a respected naturopathic doctor. Invite friends and family for a seminar that could change their lives! \nThe event attendance is limited and **RSVP on the event page is REQUIRED to attend**. Also\, if something changes\, please change your RSVP to No so other people could take your spot. **The attendance will be taken at the event** and your Meetup profile will be marked accordingly if you RSVP but did not show. \nPlease use the “Comments” area on the bottom of the event page to offer/ask for rides and to post any questions or comments.
URL:https://www.vkind.com/vegan-events/game-changers-in-cardiology-holistic-heart-health-solutions/
LOCATION:Elmhurst SDA Church\, 246 W. Butterfield Rd\, Elmhurst\, il\, 60126\, United States
ATTACH;FMTTYPE=image/jpeg:https://www.vkind.com/wp-content/uploads/2024/11/1024x576-V0MWmT.tmp_.jpg
GEO:41.866234;-87.94551
X-APPLE-STRUCTURED-LOCATION;VALUE=URI;X-ADDRESS=Elmhurst SDA Church 246 W. Butterfield Rd Elmhurst il 60126 United States;X-APPLE-RADIUS=500;X-TITLE=246 W. Butterfield Rd:geo:-87.94551,41.866234
END:VEVENT
BEGIN:VEVENT
DTSTART;TZID=-05:00:20240926T180000
DTEND;TZID=-05:00:20240926T210000
DTSTAMP:20260423T102820
CREATED:20240828T142013Z
LAST-MODIFIED:20240926T221519Z
UID:10007780-1727373600-1727384400@www.vkind.com
SUMMARY:Barbara O'Neill: Heart Health & High Blood Pressure
DESCRIPTION:Join Barbara O’Neill\, a leading expert in health education\, as she explores the vital topics of heart health and blood pressure management in this insightful seminar. Barbara provides a thorough guide to maintaining a strong cardiovascular system and managing hypertension through natural methods. She covers the powerful roles of diet\, exercise\, and stress management in promoting heart health\, offering actionable strategies for prevention and improvement. Whether you’re aiming to boost your heart health or address high blood pressure\, Barbara’s practical advice will empower you to take charge of your well-being naturally. \n6:00 PM – 7:00 PM – Doors Open\, Meet Barbara\, Book Sales & Signing\n7:00 PM – 8:30 PM – Main Lecture: “Heart Health & High Blood Pressure”\n8:30 PM – 9:00 PM – Questions & Answers Session \nBarbara O’Neill is a distinguished health ​educator\, author\, naturopath\, nutritionist ​and is also an international speaker on ​natural healing with over three decades of ​experience in the wellness industry.\nHer book “Self Heal By Design” and her ​international retreats have empowered ​countless individuals to take control of their ​health and well-being. \nThis is a paid event hosted by Elmhurst SDA Community Lifestyle Center (CLC). CLC donated a limited number of balcony seats to ChicagoVeg to enjoy the event free of charge. Your RSVP on this page is required to attend. If we run out of the free spots or if you would like to sit closer to the speaker\, you can buy the tickets at [elmhurst-clc.org](https://elmhurst-clc.org/) \nPlease use the “Comments” area on the bottom of the event page to offer/ask for rides and to post any questions or comments.
URL:https://www.vkind.com/vegan-events/barbara-oneill-heart-health-high-blood-pressure/
LOCATION:Elmhurst SDA Church\, 246 W. Butterfield Rd\, Elmhurst\, il\, 60126\, United States
ATTACH;FMTTYPE=image/jpeg:https://www.vkind.com/wp-content/uploads/2024/08/1024x576-Et2REh.tmp_.jpg
GEO:41.866234;-87.94551
X-APPLE-STRUCTURED-LOCATION;VALUE=URI;X-ADDRESS=Elmhurst SDA Church 246 W. Butterfield Rd Elmhurst il 60126 United States;X-APPLE-RADIUS=500;X-TITLE=246 W. Butterfield Rd:geo:-87.94551,41.866234
END:VEVENT
BEGIN:VEVENT
DTSTART;TZID=-05:00:20240925T180000
DTEND;TZID=-05:00:20240925T210000
DTSTAMP:20260423T102820
CREATED:20240828T141543Z
LAST-MODIFIED:20240925T214512Z
UID:10007779-1727287200-1727298000@www.vkind.com
SUMMARY:Barbara O'Neill: Natural Treatments for the Home
DESCRIPTION:Join renowned health expert Barbara O’Neill for an in-depth seminar on how to bring natural treatments into your daily life. In this session\, Barbara offers practical advice on using herbal remedies\, essential oils\, and DIY solutions to create a healthier home environment. Learn how everyday items can support your well-being and transform your living space into a haven of natural wellness. Start your journey toward a more holistic lifestyle with Barbara’s expert guidance. \n6:00 PM – 7:00 PM – Doors Open\, Meet Barbara\, Book Sales & Signing\n7:00 PM – 8:30 PM – Main Lecture: “Natural Treatments for the Home”\n8:30 PM – 9:00 PM – Questions & Answers Session \nBarbara O’Neill is a distinguished health ​educator\, author\, naturopath\, nutritionist ​and is also an international speaker on ​natural healing with over three decades of ​experience in the wellness industry.\nHer book “Self Heal By Design” and her ​international retreats have empowered ​countless individuals to take control of their ​health and well-being. \nThis is a paid event hosted by Elmhurst SDA Community Lifestyle Center (CLC). CLC donated a limited of balcony seats to ChicagoVeg to enjoy the event free of charge. Your RSVP on this page is required to attend. If we run out of the free spots or if you would like to sit closer to the speaker\, you can buy the tickets at [elmhurst-clc.org](https://elmhurst-clc.org/) \nPlease use the “Comments” area on the bottom of the event page to offer/ask for rides and to post any questions or comments.
URL:https://www.vkind.com/vegan-events/barbara-oneill-natural-treatments-for-the-home/
LOCATION:Elmhurst SDA Church\, 246 W. Butterfield Rd\, Elmhurst\, il\, 60126\, United States
ATTACH;FMTTYPE=image/jpeg:https://www.vkind.com/wp-content/uploads/2024/08/1024x576-Et2REh.tmp_.jpg
GEO:41.866234;-87.94551
X-APPLE-STRUCTURED-LOCATION;VALUE=URI;X-ADDRESS=Elmhurst SDA Church 246 W. Butterfield Rd Elmhurst il 60126 United States;X-APPLE-RADIUS=500;X-TITLE=246 W. Butterfield Rd:geo:-87.94551,41.866234
END:VEVENT
BEGIN:VEVENT
DTSTART;TZID=-05:00:20240924T180000
DTEND;TZID=-05:00:20240924T210000
DTSTAMP:20260423T102820
CREATED:20240828T141539Z
LAST-MODIFIED:20240924T213105Z
UID:10007778-1727200800-1727211600@www.vkind.com
SUMMARY:Barbara O'Neill: Improving Health Through Digestion
DESCRIPTION:Join Barbara O’Neill for an eye-opening session on mastering digestion and unlocking your body’s full potential. Learn how simple changes in diet\, lifestyle\, and stress management can dramatically enhance your nutrient absorption and overall health. This concise yet powerful talk promises to equip you with practical tips to elevate your well-being. Don’t miss this opportunity to transform your health from the inside out! \n6:00 PM – 7:00 PM – Doors Open\, Meet Barbara\, Book Sales & Signing\n7:00 PM – 8:30 PM – Main Lecture: “Improving Health through Digestion”\n8:30 PM – 9:00 PM – Questions & Answers Session \nBarbara O’Neill is a distinguished health ​educator\, author\, naturopath\, nutritionist ​and is also an international speaker on ​natural healing with over three decades of ​experience in the wellness industry.\nHer book “Self Heal By Design” and her ​international retreats have empowered ​countless individuals to take control of their ​health and well-being. \nThis is a paid event hosted by Elmhurst SDA Community Lifestyle Center (CLC). CLC donated a limited number of balcony seats to ChicagoVeg to enjoy the event free of charge. Your RSVP on this page is required to attend. If we run out of the free spots or if you would like to sit closer to the speaker\, you can buy the tickets at [elmhurst-clc.org](https://elmhurst-clc.org/) \nPlease use the “Comments” area on the bottom of the event page to offer/ask for rides and to post any questions or comments.
URL:https://www.vkind.com/vegan-events/barbara-oneill-improving-health-through-digestion/
LOCATION:Elmhurst SDA Church\, 246 W. Butterfield Rd\, Elmhurst\, il\, 60126\, United States
ATTACH;FMTTYPE=image/jpeg:https://www.vkind.com/wp-content/uploads/2024/08/1024x576-Et2REh.tmp_.jpg
GEO:41.866234;-87.94551
X-APPLE-STRUCTURED-LOCATION;VALUE=URI;X-ADDRESS=Elmhurst SDA Church 246 W. Butterfield Rd Elmhurst il 60126 United States;X-APPLE-RADIUS=500;X-TITLE=246 W. Butterfield Rd:geo:-87.94551,41.866234
END:VEVENT
BEGIN:VEVENT
DTSTART;TZID=-05:00:20240602T153000
DTEND;TZID=-05:00:20240602T193000
DTSTAMP:20260423T102820
CREATED:20240504T141020Z
LAST-MODIFIED:20240602T213045Z
UID:10007702-1717342200-1717356600@www.vkind.com
SUMMARY:13th Annual International Vegetarian Food Fest
DESCRIPTION:Join us for the 13th Annual International Vegetarian Food Festival hosted by Elmhurst SDA Community Lifestyle Center (CLC)! \nMark your calendars for an appetizing afternoon and evening filled with the zest of vegetarian and vegan delicacies from across the globe. \nCash should be exchanged for food tickets at the door: $1.00 per ticket. Credit Cards will be accepted for a small service fee. \nThe food booths will be located inside the CLC\, whereas the seating area will be outside the building to avoid indoor overcrowding. \nWe will not have a formal meetup at the event so you can come at any time during the festival. Feel free to say Hi to Vadim to get a name tag so it would be easier finding and socializing with other ChicagoVeg members at the event. \nPlease RSVP so the CLC team can adequately prepare for all attending guests. \nLet’s come to support this great initiative\, taste some new food\, and make new friends! Don’t forget invite your friends and family too! \nPlease use the “Comments” area on the bottom of the event page to offer/ask for rides and to post any questions or comments.
URL:https://www.vkind.com/vegan-events/13th-annual-international-vegetarian-food-fest/
LOCATION:Elmhurst SDA Church\, 246 W. Butterfield Rd\, Elmhurst\, il\, 60126\, United States
ATTACH;FMTTYPE=image/jpeg:https://www.vkind.com/wp-content/uploads/2024/05/1024x576-7gH9PX.tmp_.jpg
GEO:41.866234;-87.94551
X-APPLE-STRUCTURED-LOCATION;VALUE=URI;X-ADDRESS=Elmhurst SDA Church 246 W. Butterfield Rd Elmhurst il 60126 United States;X-APPLE-RADIUS=500;X-TITLE=246 W. Butterfield Rd:geo:-87.94551,41.866234
END:VEVENT
BEGIN:VEVENT
DTSTART;TZID=-05:00:20240511T140000
DTEND;TZID=-05:00:20240511T160000
DTSTAMP:20260423T102820
CREATED:20240428T124520Z
LAST-MODIFIED:20240511T154529Z
UID:10007697-1715436000-1715443200@www.vkind.com
SUMMARY:Cancer: Genes vs Lifestyle
DESCRIPTION:Let’s join the Elmhurst Community Lifestyle Center again for another free event they’re hosting! \nAre you ready to delve into one of the most pressing health topics of our time? Join us for an enlightening seminar that could reshape your understanding of cancer and its connections to our genes and lifestyle choices. \nDr. Andi Hunsaker\, is a revered Associate Professor at Harvard Medical School and a devoted physician practicing in Boston\, MA. This seminar promises to offer invaluable insights into the complex relationship between our genetic makeup and the choices we make every day. \n**FREE VEGETARIAN LUNCH:** The seminar is open to all\, and to make it even better\, we’re kicking things off with a FREE vegetarian lunch at **12:45 PM**. This is a great time to enjoy delicious home cooked recipes in addition to community fellowship. \nThe event attendance is limited and **RSVP on the event page is REQUIRED to attend**. Also\, if something changes\, please change your RSVP to No so other people could take your spot. **The attendance will be taken at the event** and your Meetup profile will be marked accordingly if you RSVP but did not show. \nPlease use the “Comments” area on the bottom of the event page to offer/ask for rides and to post any questions or comments.
URL:https://www.vkind.com/vegan-events/cancer-genes-vs-lifestyle/
LOCATION:Elmhurst SDA Church\, 246 W. Butterfield Rd\, Elmhurst\, il\, 60126\, United States
ATTACH;FMTTYPE=image/jpeg:https://www.vkind.com/wp-content/uploads/2024/04/1024x576-bDl970.tmp_.jpg
GEO:41.866234;-87.94551
X-APPLE-STRUCTURED-LOCATION;VALUE=URI;X-ADDRESS=Elmhurst SDA Church 246 W. Butterfield Rd Elmhurst il 60126 United States;X-APPLE-RADIUS=500;X-TITLE=246 W. Butterfield Rd:geo:-87.94551,41.866234
END:VEVENT
BEGIN:VEVENT
DTSTART;TZID=-05:00:20240317T110000
DTEND;TZID=-05:00:20240317T130000
DTSTAMP:20260423T102820
CREATED:20240301T151515Z
LAST-MODIFIED:20240317T191521Z
UID:10007658-1710673200-1710680400@www.vkind.com
SUMMARY:Green Gourmet: Mastering Cruciferous Cuisine
DESCRIPTION:Let’s join again Elmhurst Community Lifestyle Center for their FREE vegan cooking class and lunch at Elmhurst SDA Church! \nDive into the world of cruciferous vegetables and discover how to turn vegetables like kale\, broccoli\, and their relatives into delicious vegan dishes!\nHighlights: \n* Interactive Cooking: Learn from ECLC team members as they share their favorite cruciferous vegetable recipes. Get tips and tricks for vegan cooking.\n* Tasting & Lunch: Enjoy a free lunch featuring the dishes demonstrated.\n* Connect: Meet fellow veggie enthusiasts in a friendly and inviting atmosphere. \nThe event attendance is limited and **RSVP on the event page is REQUIRED to attend**. Also\, if something changes\, please change your RSVP to No so other people could take your spot. **The attendance will be taken at the event** and your Meetup profile will be marked accordingly if you RSVP but did not show. \nPlease use the “Comments” area on the bottom of the event page to offer/ask for rides and to post any questions or comments.
URL:https://www.vkind.com/vegan-events/green-gourmet-mastering-cruciferous-cuisine/
LOCATION:Elmhurst SDA Church\, 246 W. Butterfield Rd\, Elmhurst\, il\, 60126\, United States
ATTACH;FMTTYPE=image/jpeg:https://www.vkind.com/wp-content/uploads/2024/03/1024x576-R5aoce.tmp_.jpg
GEO:41.866234;-87.94551
X-APPLE-STRUCTURED-LOCATION;VALUE=URI;X-ADDRESS=Elmhurst SDA Church 246 W. Butterfield Rd Elmhurst il 60126 United States;X-APPLE-RADIUS=500;X-TITLE=246 W. Butterfield Rd:geo:-87.94551,41.866234
END:VEVENT
BEGIN:VEVENT
DTSTART;TZID=-06:00:20231119T163000
DTEND;TZID=-06:00:20231119T183000
DTSTAMP:20260423T102820
CREATED:20231019T105530Z
LAST-MODIFIED:20231119T184529Z
UID:10007568-1700411400-1700418600@www.vkind.com
SUMMARY:FREE Vegetarian & Vegan Thanksgiving Dinner
DESCRIPTION:While ChicagoVeg is not doing our annual Thanksgiving potluck this year (we plan to continue it next year)\, we are happy to partner with Elmhurst Community Lifestyle Center to celebrate this year Thanksgiving at Elmhurst SDA Church! \nJoin us for this **FREE Vegetarian & Vegan Thanksgiving Dinner** on Sunday\, November 19\, 2023! Gather with us for an evening of friendship and delightful homemade plant-based cuisine. This event is ideal for vegetarians\, vegans\, and anyone interested in exploring nourishing\, home-cooked\, plant-based dishes. \nThe event attendance is limited and **RSVP on the event page is REQUIRED to attend**. Also\, if something changes\, please change your RSVP to No so other people could take your spot. **The attendance will be taken at the event** and your Meetup profile will be marked accordingly if you RSVP but did not show. \nPlease use the “Comments” area on the bottom of the event page to offer/ask for rides and to post any questions or comments.
URL:https://www.vkind.com/vegan-events/free-vegetarian-vegan-thanksgiving-dinner/
LOCATION:Elmhurst SDA Church\, 246 W. Butterfield Rd\, Elmhurst\, il\, 60126\, United States
ATTACH;FMTTYPE=image/jpeg:https://www.vkind.com/wp-content/uploads/2023/10/1024x576-0Z6knO.tmp_.jpg
GEO:41.866234;-87.94551
X-APPLE-STRUCTURED-LOCATION;VALUE=URI;X-ADDRESS=Elmhurst SDA Church 246 W. Butterfield Rd Elmhurst il 60126 United States;X-APPLE-RADIUS=500;X-TITLE=246 W. Butterfield Rd:geo:-87.94551,41.866234
END:VEVENT
BEGIN:VEVENT
DTSTART;TZID=-05:00:20231001T110000
DTEND;TZID=-05:00:20231001T130000
DTSTAMP:20260423T102820
CREATED:20230916T051553Z
LAST-MODIFIED:20230930T084542Z
UID:10007547-1696158000-1696165200@www.vkind.com
SUMMARY:Plant-Based Creations: DIY Meat & Cheese Substitute Demo
DESCRIPTION:Join us on Sunday\, October 1 @ 11 AM at Elmhurst Community Lifestyle Center for an enlightening **demonstration on crafting your own plant-based meat and cheese substitutes right at home**! Dive deep into the world of wholesome\, healthy\, and affordable alternatives to store-bought substitutes. \n**What to Expect:** \n* **DIY Plant-Based Meat Substitute Recipe:** Learn the art of creating a delectable meat substitute that is not only nutritious but also easy on the pocket.\n* **DIY Plant-Based Cheese Substitute Recipe:** Discover the secrets behind crafting a creamy\, rich\, and flavorful cheese substitute that will leave you craving for more.\n* **Tasting Session:** After the demo\, indulge in a tasting session where you can savor the flavors of the freshly made meat and cheese substitutes.\n* **Light Refreshments:** Mingle with fellow attendees while enjoying some light refreshments post-demo. \nThe event attendance is limited and **RSVP on the event page is REQUIRED to attend**. Also\, if something changes\, please change your RSVP to No so other people could take your spot. **The attendance will be taken at the event** and your Meetup profile will be marked accordingly if you RSVP but did not show. \nLet’s learn new veg recipes\, taste some food\, and make new like-minded friends! \nPlease use the “Comments” area on the bottom of the event page to offer/ask for rides and to post any questions or comments.
URL:https://www.vkind.com/vegan-events/plant-based-creations-diy-meat-cheese-substitute-demo/
LOCATION:Elmhurst SDA Church\, 246 W. Butterfield Rd\, Elmhurst\, il\, 60126\, United States
ATTACH;FMTTYPE=image/jpeg:https://www.vkind.com/wp-content/uploads/2023/09/1024x576-fJi3Ha.tmp_.jpg
GEO:41.866234;-87.94551
X-APPLE-STRUCTURED-LOCATION;VALUE=URI;X-ADDRESS=Elmhurst SDA Church 246 W. Butterfield Rd Elmhurst il 60126 United States;X-APPLE-RADIUS=500;X-TITLE=246 W. Butterfield Rd:geo:-87.94551,41.866234
END:VEVENT
BEGIN:VEVENT
DTSTART;TZID=-05:00:20230903T113000
DTEND;TZID=-05:00:20230903T140000
DTSTAMP:20260423T102820
CREATED:20230811T082053Z
LAST-MODIFIED:20230902T032024Z
UID:10007497-1693740600-1693749600@www.vkind.com
SUMMARY:Vegetarian Outdoor Grilling Class with Chef Robert Foster & Complimentary Lunch!
DESCRIPTION:Join us on Sunday\, September 3\, 2023\, at 11:30 AM amidst the serene backdrop of the Elmhurst Community Lifestyle Center to elevate your culinary skills while nourishing your body at a one-of-a-kind Vegetarian Outdoor Grilling Class led by Chef Robert E. Foster! \nChef Foster’s culinary philosophy revolves around fresh vegetables\, seasonal produce\, and natural herbs. He believes that true wellness begins with the food we put on our plates. In this enlightening session\, Chef Foster will reveal how grilling can not only enhance flavors but also retain the nutritional value of ingredients\, making your dishes not just delicious but healthful as well. \nIndulge in the results of Chef Foster’s expertise with a COMPLIMENTARY LUNCH featuring the very dishes demonstrated during the class! While the name of the event is Vegetarian\, both the demo and lunch will be actually 100% plant-based (vegan). \nTo maintain an interactive and engaging atmosphere\, as well as to plan the lunch\, we’ve limited attendance to just 60 individuals. The RSVP on the event page is REQUIRED to attend. Also\, if something changes\, please change your RSVP to No so other people could take your spot. The attendance will be taken at the event and your Meetup profile will be marked accordingly if you RSVP but did not show. \nLet’s learn new veg recipes\, taste some food\, and make new like-minded friends! \nPlease use the “Comments” area on the bottom of the event page to offer/ask for rides and to post any questions or comments.
URL:https://www.vkind.com/vegan-events/vegetarian-outdoor-grilling-class-with-chef-robert-foster-complimentary-lunch/
LOCATION:Elmhurst SDA Church\, 246 W. Butterfield Rd\, Elmhurst\, il\, 60126\, United States
ATTACH;FMTTYPE=image/jpeg:https://www.vkind.com/wp-content/uploads/2023/08/1024x576-ageWKZ.tmp_.jpg
GEO:41.866234;-87.94551
X-APPLE-STRUCTURED-LOCATION;VALUE=URI;X-ADDRESS=Elmhurst SDA Church 246 W. Butterfield Rd Elmhurst il 60126 United States;X-APPLE-RADIUS=500;X-TITLE=246 W. Butterfield Rd:geo:-87.94551,41.866234
END:VEVENT
BEGIN:VEVENT
DTSTART;TZID=-05:00:20230604T153000
DTEND;TZID=-05:00:20230604T190000
DTSTAMP:20260423T102820
CREATED:20230518T075102Z
LAST-MODIFIED:20230604T081956Z
UID:10000516-1685892600-1685905200@www.vkind.com
SUMMARY:International Vegetarian Food Festival 2023
DESCRIPTION:Join us for the 12th Annual International Vegetarian Food Festival hosted by Elmhurst SDA Community Lifestyle Center! \nExperience the taste of Mexico\, Romania\, Italy\, Kenya\, and more! \nCash should be exchanged for food tickets at the door: $1.00 per ticket. Credit Cards will be accepted for a small service fee. \nThe food booths will be located inside the Community Lifestyle Center\, whereas the tables and chairs will be conveniently located outside the building by the parking lot area to avoid indoor overcrowding. \nParking: In addition to the church parking you may park on the premises or at Timothy Christian School South Parking Lot (188 W Butterfield Rd\, Elmhurst\, IL 60126). \nWe will not have a formal meetup at the event so you can come at any time during the festival. Feel free to say Hi to Vadim to get a name tag so it would be easier finding and socializing with other ChicagoVeg members at the event. \nLet’s come to support this great initiative\, learn new recipes\, taste some food\, and make new like-minded friends! \nPlease use the “Comments” area on the bottom of the event page to offer/ask for rides and to post any questions or comments.
URL:https://www.vkind.com/vegan-events/international-vegetarian-food-festival-2023/
LOCATION:Elmhurst SDA Church\, 246 W. Butterfield Rd\, Elmhurst\, il\, 60126\, United States
ATTACH;FMTTYPE=image/jpeg:https://www.vkind.com/wp-content/uploads/2023/05/1024x576-yi2mLG.tmp_.jpg
GEO:41.866234;-87.94551
X-APPLE-STRUCTURED-LOCATION;VALUE=URI;X-ADDRESS=Elmhurst SDA Church 246 W. Butterfield Rd Elmhurst il 60126 United States;X-APPLE-RADIUS=500;X-TITLE=246 W. Butterfield Rd:geo:-87.94551,41.866234
END:VEVENT
END:VCALENDAR