BEGIN:VCALENDAR
VERSION:2.0
PRODID:-//Vkind - ECPv6.15.14//NONSGML v1.0//EN
CALSCALE:GREGORIAN
METHOD:PUBLISH
X-ORIGINAL-URL:https://www.vkind.com
X-WR-CALDESC:Events for Vkind
REFRESH-INTERVAL;VALUE=DURATION:PT1H
X-Robots-Tag:noindex
X-PUBLISHED-TTL:PT1H
BEGIN:VTIMEZONE
TZID:-04:00
END:VTIMEZONE
BEGIN:VTIMEZONE
TZID:America/Detroit
BEGIN:DAYLIGHT
TZOFFSETFROM:-0500
TZOFFSETTO:-0400
TZNAME:EDT
DTSTART:20220313T070000
END:DAYLIGHT
BEGIN:STANDARD
TZOFFSETFROM:-0400
TZOFFSETTO:-0500
TZNAME:EST
DTSTART:20221106T060000
END:STANDARD
BEGIN:DAYLIGHT
TZOFFSETFROM:-0500
TZOFFSETTO:-0400
TZNAME:EDT
DTSTART:20230312T070000
END:DAYLIGHT
BEGIN:STANDARD
TZOFFSETFROM:-0400
TZOFFSETTO:-0500
TZNAME:EST
DTSTART:20231105T060000
END:STANDARD
BEGIN:DAYLIGHT
TZOFFSETFROM:-0500
TZOFFSETTO:-0400
TZNAME:EDT
DTSTART:20240310T070000
END:DAYLIGHT
BEGIN:STANDARD
TZOFFSETFROM:-0400
TZOFFSETTO:-0500
TZNAME:EST
DTSTART:20241103T060000
END:STANDARD
END:VTIMEZONE
BEGIN:VEVENT
DTSTART;TZID=-04:00:20250525T110000
DTEND;TZID=-04:00:20250525T180000
DTSTAMP:20260423T154309
CREATED:20250314T183042Z
LAST-MODIFIED:20250411T102554Z
UID:10007901-1748170800-1748196000@www.vkind.com
SUMMARY:VSDC at Planet Maryland! Volunteer and/or Attend
DESCRIPTION:Join VSDC at [Planet Maryland](https://planetseriesevents.org/maryland/)\, a **free\, outdoor\, all-vegan event** at Elm Street Park in Bethesda\, Maryland\, for fantastic food\, speakers\, and so much more. \nThe [Veg Society of DC](www.vsdc.org) is proud to be an official sponsor of Planet Maryland! \nSpeakers/main stage in 2025: \n* Naijha Wright-Brown\, Black Veg Society\n* Eric C Lindstrom\, Farm Animal Rights Movement (FARM)\n* Reba Goodall\, AKA Rocket Reba\n* Addison Chantz\, Farm Animal Rights Movement (FARM)\n* Saurabh Dalal\, Veg Society of DC\n* And\, More! \nThere are THREE great ways to participate. **Please use the links below to sign up as a volunteer!** \n* **[Volunteer at the VSDC Booth](https://forms.gle/mt5kiV5xLF6uC9fp7)**: Join fellow VSDC volunteers and share the benefits of a vegan lifestyle and involvement with VSDC. We are planning two-hour shifts.\n* **[Volunteer with Planet Maryland](https://planetseriesevents.org/volunteer-2/)**: The Planet Series team organizing this event needs volunteers\, too. This includes setting up before the event\, breaking down\, and loading out afterward.\n* **Attend**: The event is fun and free\, so invite a few friends and join us. \n**VSDC: More Than A Meetup**\nWe are so glad to have you as part of The Veg Society of DC Vegan Meetup group\, and we enjoy seeing you at our events. Did you know that [VSDC](https://vsdc.org/) is a nonprofit organization with membership benefits? \nWith VSDC membership\, you will save money at area restaurants and businesses\, attend VSDC member-only events\, and\, most importantly\, support us as a clear and consistent voice for improving the lives of all beings through community building and education centered on the benefits of a vegan diet and lifestyle. \nThe VSDC membership fee is minimal\, but the impact is significant! [Become a member of VSDC](https://vsdc.org/membership/). \n**Liability Waiver and Code of Conduct**\nWhen you sign up to attend\, you automatically acknowledge [VSDC’s Liability Waiver](https://vsdc.org/activity-waiver/) and commit to follow the code of conduct found at [Policies – VSDC – Veg Society of DC](https://vsdc.org/policies/). \n**VSDC. Creating communities. For your health\, the animals\, and the planet.**
URL:https://www.vkind.com/vegan-events/vsdc-at-planet-maryland-volunteer-and-or-attend-2/
LOCATION:Elm Street Urban Park\, 4600 Elm St\, Chevy Chase\, MD\, 20815\, United States
ATTACH;FMTTYPE=image/jpeg:https://www.vkind.com/wp-content/uploads/2024/04/1024x576-rfgsja.tmp_.jpg
GEO:38.98228;-77.09154
X-APPLE-STRUCTURED-LOCATION;VALUE=URI;X-ADDRESS=Elm Street Urban Park 4600 Elm St Chevy Chase MD 20815 United States;X-APPLE-RADIUS=500;X-TITLE=4600 Elm St:geo:-77.09154,38.98228
END:VEVENT
BEGIN:VEVENT
DTSTART;TZID=-04:00:20240602T110000
DTEND;TZID=-04:00:20240602T180000
DTSTAMP:20260423T154309
CREATED:20240412T080531Z
LAST-MODIFIED:20240602T114527Z
UID:10007684-1717326000-1717351200@www.vkind.com
SUMMARY:VSDC at Planet Maryland! Volunteer and/or Attend
DESCRIPTION:Join VSDC at [Planet Maryland](https://planetseriesevents.org/maryland/)\, a **free\, outdoor\, all-vegan event** at Elm Street Park in Bethesda\, Maryland\, for fantastic food\, speakers\, kids’ korner\, a beer garden\, DJ Soul\, giveaways\, and so much more. \nThe [Veg Society of DC](www.vsdc.org) is proud to be an official sponsor of Planet Maryland! \nSpeakers/main stage in 2024: \n* **Dr. Sailesh Rao**\, Climate Healers\n* **Roxanne Becker**\, MD\, PCRM\n* **Jonah Goldman**\, PLNT Burger\n* **Lisa Decrescente**\, Planet Series Events\n* **Eric C Lindstrom**\, FARM\n* **Sisters Serving U** cooking demo \n**There are three great ways to participate. Please complete the relevant registration form(s) using the links below:** \n* **[Volunteer at the VSDC table](https://forms.gle/v8Wp2sspgHaUi54EA)**: Join fellow VSDC volunteers and tell others about VSDC. We are planning two-hour shifts.\n* **[Volunteer with Planet Maryland](https://planetseriesevents.org/volunteer-2/)**: The Planet Series team organizing this event needs volunteers\, too. This includes setting up before the event and breaking down and loading out after it.\n* **[Attend](https://www.eventbrite.com/e/planet-maryland-tickets-858372765047)**: Sign up to attend the event – registration is free – so the organizers know to expect you. \n**VSDC: More Than A Meetup**\nWe are so glad to have you as part of The Veg Society of DC Vegan Meetup group\, and we enjoy seeing you at our events. Did you know that [VSDC](https://vsdc.org/) is a nonprofit organization with membership benefits? \nWith VSDC membership\, you will save money at area restaurants and businesses\, attend VSDC member-only events\, and\, most importantly\, support us as a clear and consistent voice for improving the lives of all beings through community building and education centered on the benefits of a vegan diet and lifestyle. \nThe VSDC membership fee is minimal\, but the impact is significant! [Become a member of VSDC](https://vsdc.org/membership/). \n**Liability Waiver and Code of Conduct**\nWhen you sign up to attend\, you automatically acknowledge [VSDC’s Liability Waiver](https://vsdc.org/activity-waiver/) and commit to follow the code of conduct found at [Policies – VSDC – Veg Society of DC](https://vsdc.org/policies/). \n**VSDC. Creating communities. For your health\, the animals\, and the planet.**
URL:https://www.vkind.com/vegan-events/vsdc-at-planet-maryland-volunteer-and-or-attend/
LOCATION:Elm Street Urban Park\, 4600 Elm St\, Chevy Chase\, MD\, 20815\, United States
ATTACH;FMTTYPE=image/jpeg:https://www.vkind.com/wp-content/uploads/2024/04/1024x576-rfgsja.tmp_.jpg
GEO:38.98228;-77.09154
X-APPLE-STRUCTURED-LOCATION;VALUE=URI;X-ADDRESS=Elm Street Urban Park 4600 Elm St Chevy Chase MD 20815 United States;X-APPLE-RADIUS=500;X-TITLE=4600 Elm St:geo:-77.09154,38.98228
END:VEVENT
BEGIN:VEVENT
DTSTART;TZID=America/Detroit:20230604T120000
DTEND;TZID=America/Detroit:20230604T180000
DTSTAMP:20260423T154309
CREATED:20230301T184812Z
LAST-MODIFIED:20230301T184812Z
UID:10000456-1685880000-1685901600@www.vkind.com
SUMMARY:Planet Bethesda
DESCRIPTION:Once again in 2023\, Bethesda’s Food\, Music & Fun Festival will bring together the best of the DMV area. Serving up dishes of their most cutting-edge\, creative\, and delicious plant-based foods. The 2nd Annual Planet Bethesda food festival will be held in conjunction with World Environment Day and a National Alternative Dairy Challenge celebration\, plant-based pie eating contest\, live entertainment by DJ Soul\, an interactive Kid’s Korner\, Curated Bier Garten\, Canine Courtyard\, Animal Ambassadors from Rosie’s Farm Sanctuary … and more! \nPlanet Bethesda will be held rain or shine. This food\, music and fun festival will take place in beautiful Elm Street Park (4600 Elm Street\, Bethesda) on Sunday\, June 4th\, just a two-minute walk from the Bethesda Metro Station\, or park your car for FREE in lots 10 and 24. We’ll see you there
URL:https://www.vkind.com/vegan-events/planet-bethesda/
LOCATION:Elm Street Urban Park\, 4600 Elm St\, Chevy Chase\, MD\, 20815\, United States
ATTACH;FMTTYPE=image/jpeg:https://www.vkind.com/wp-content/uploads/2023/03/Planet-Bethesda-Event.jpg
GEO:38.98228;-77.09154
X-APPLE-STRUCTURED-LOCATION;VALUE=URI;X-ADDRESS=Elm Street Urban Park 4600 Elm St Chevy Chase MD 20815 United States;X-APPLE-RADIUS=500;X-TITLE=4600 Elm St:geo:-77.09154,38.98228
END:VEVENT
END:VCALENDAR