BEGIN:VCALENDAR
VERSION:2.0
PRODID:-//Vkind - ECPv6.15.14//NONSGML v1.0//EN
CALSCALE:GREGORIAN
METHOD:PUBLISH
X-ORIGINAL-URL:https://www.vkind.com
X-WR-CALDESC:Events for Vkind
REFRESH-INTERVAL;VALUE=DURATION:PT1H
X-Robots-Tag:noindex
X-PUBLISHED-TTL:PT1H
BEGIN:VTIMEZONE
TZID:-04:00
END:VTIMEZONE
BEGIN:VEVENT
DTSTART;TZID=-04:00:20220910T100000
DTEND;TZID=-04:00:20220910T140000
DTSTAMP:20260423T114652
CREATED:20220817T072053Z
LAST-MODIFIED:20220910T095010Z
UID:10000270-1662804000-1662818400@www.vkind.com
SUMMARY:Indoor Rock Climbing and/or Lunch
DESCRIPTION:Come enjoy a morning of indoor climbing followed by lunch at Tacombi! \nThis event is free to attend. However\, a day pass at the rock gym costs $28. Shoe rental typically costs $6\, but Movement (formerly Earth Treks) has offered to waive the shoe rental cost for our group! \nEvery visitor\, including spectators\, must have a completed waiver and bouldering orientation on file before they can participate in any activities in the gym. It’s strongly encouraged to sign the waiver and watch the orientation video before arriving. \nYou can access the waiver [here]([https://app.rockgympro.com/booking/f/9704a616e9be424386c772074485031e](https://app.rockgympro.com/booking/f/9704a616e9be424386c772074485031e)). \nYou can access the bouldering orientation [here](https://movementgyms.com/waiver/). \nWe will meet at Movement climbing gym in Crystal City (Arlington)\, VA. This gym has both bouldering and sport climbing available. If it’s your first time climbing\, there are plenty of beginner routes to climb in the bouldering section. If you are experienced\, feel free to climb at your level and/or pair up with another belay trained person at the event. \nAfter climbing we will head to Tacombi for lunch at 12:00 pm. You can check Tacombi’s [website](https://www.tacombi.com/?utm_source=gmb&utm_medium=yext) for their menu and prices. \nTacombi is an authentic Mexican taqueria that offers both vegan and non-vegan options. We kindly ask that all food purchased and enjoyed at this event be vegan. Anyone who purchases a non-vegan meal will be asked to finish their meal elsewhere and join back with us when they have finished eating. \nIf you do not want to climb\, please feel free to join us for a meal. Indoor seating will be reserved for our group and outdoor seating is available first come\, first served. \n**When you sign up to join this event you automatically acknowledge the VSDC Physical Activity Liability Waiver: https://vsdc.org/activity-waiver/** \nVSDC (http://www.vsdc.org) is a clear and consistent voice for improving the lives of all beings through education on the benefits of a vegan diet & lifestyle. Sharing food is the bond that brings families together; so it is with VSDC. From simply “breaking bread” to experiencing delicious and nutritious vegan foods from around the world\, we make your journey easier\, enjoyable & meaningful. \n**VSDC. Creating communities. For your health\, the animals\, and the planet.**
URL:https://www.vkind.com/vegan-events/indoor-rock-climbing-and-or-lunch/
LOCATION:Earth Treks Climbing Centers\, 1235 S. Clark Street\, Crystal City\, VA\, us
ATTACH;FMTTYPE=image/jpeg:https://www.vkind.com/wp-content/uploads/2022/08/1024x576-mvFa2q.tmp_.jpg
GEO:38.86159;-77.05074
X-APPLE-STRUCTURED-LOCATION;VALUE=URI;X-ADDRESS=Earth Treks Climbing Centers 1235 S. Clark Street Crystal City VA us;X-APPLE-RADIUS=500;X-TITLE=1235 S. Clark Street:geo:-77.05074,38.86159
END:VEVENT
END:VCALENDAR