BEGIN:VCALENDAR
VERSION:2.0
PRODID:-//Vkind - ECPv6.15.14//NONSGML v1.0//EN
CALSCALE:GREGORIAN
METHOD:PUBLISH
X-WR-CALNAME:Vkind
X-ORIGINAL-URL:https://www.vkind.com
X-WR-CALDESC:Events for Vkind
REFRESH-INTERVAL;VALUE=DURATION:PT1H
X-Robots-Tag:noindex
X-PUBLISHED-TTL:PT1H
BEGIN:VTIMEZONE
TZID:America/Detroit
BEGIN:DAYLIGHT
TZOFFSETFROM:-0500
TZOFFSETTO:-0400
TZNAME:EDT
DTSTART:20220313T070000
END:DAYLIGHT
BEGIN:STANDARD
TZOFFSETFROM:-0400
TZOFFSETTO:-0500
TZNAME:EST
DTSTART:20221106T060000
END:STANDARD
BEGIN:DAYLIGHT
TZOFFSETFROM:-0500
TZOFFSETTO:-0400
TZNAME:EDT
DTSTART:20230312T070000
END:DAYLIGHT
BEGIN:STANDARD
TZOFFSETFROM:-0400
TZOFFSETTO:-0500
TZNAME:EST
DTSTART:20231105T060000
END:STANDARD
BEGIN:DAYLIGHT
TZOFFSETFROM:-0500
TZOFFSETTO:-0400
TZNAME:EDT
DTSTART:20240310T070000
END:DAYLIGHT
BEGIN:STANDARD
TZOFFSETFROM:-0400
TZOFFSETTO:-0500
TZNAME:EST
DTSTART:20241103T060000
END:STANDARD
END:VTIMEZONE
BEGIN:VTIMEZONE
TZID:America/Phoenix
BEGIN:STANDARD
TZOFFSETFROM:-0700
TZOFFSETTO:-0700
TZNAME:MST
DTSTART:20220101T000000
END:STANDARD
END:VTIMEZONE
BEGIN:VEVENT
DTSTART;TZID=America/Detroit:20230625T110000
DTEND;TZID=America/Detroit:20230625T170000
DTSTAMP:20260423T122106
CREATED:20230531T190154Z
LAST-MODIFIED:20230531T190154Z
UID:10000542-1687690800-1687712400@www.vkind.com
SUMMARY:Triangle VegFest
DESCRIPTION:Helene Greenberg is the Founder and Executive Director of Triangle Vegfest. She organized the inaugural Vegfest in October 2014. Prior to organizing the Vegfest\, Helene lived a vegan lifestyle for 2 years and a vegetarian lifestyle for over 20. She created Triangle Vegfest to help educate the Triangle community about easy ways to reap the health benefits of a plant-based diet\, provide a marketplace for vegan-friendly businesses to promote their offerings\, and encourage local restaurants to offer vegan menu options. \nTVF has expanded their events to five states\, NC\, SC\, GA\, FL and TN. We host 10 festivals a year and are always looking for new ways to expand our reach. Check out vegfestexpos.com for a full schedule. \nHelene has a Masters of Education from American Public University with a specialization in school counseling\, as well as extensive experience in sales\, project management and real estate. \nHelene has a passion for helping animals and people. She has also gone into classrooms to teach high school students about the environment\, health\, and animal welfare. She is an avid hockey fan and enjoys spending time with Lady\, Marshal\, Frannie (pups)\, and Rocky\, her cat.
URL:https://www.vkind.com/vegan-events/triangle-vegfest-2/
LOCATION:Durham Central Park\, 501 Foster Street\, Durham\, North Carolina\, 27701\, United States
ATTACH;FMTTYPE=image/jpeg:https://www.vkind.com/wp-content/uploads/2023/05/Triangle-VegFest.jpg
GEO:36.0004044;-78.9018344
X-APPLE-STRUCTURED-LOCATION;VALUE=URI;X-ADDRESS=Durham Central Park 501 Foster Street Durham North Carolina 27701 United States;X-APPLE-RADIUS=500;X-TITLE=501 Foster Street:geo:-78.9018344,36.0004044
END:VEVENT
BEGIN:VEVENT
DTSTART;TZID=America/Phoenix:20230625T110000
DTEND;TZID=America/Phoenix:20230625T170000
DTSTAMP:20260423T122106
CREATED:20230109T135432Z
LAST-MODIFIED:20230109T135432Z
UID:10000415-1687690800-1687712400@www.vkind.com
SUMMARY:Triangle VegFest
DESCRIPTION:We are excited to announce that Triangle VegFest is happening on Sunday\, June 25th\, 2023 at Durham Central Park!
URL:https://www.vkind.com/vegan-events/triangle-vegfest/
LOCATION:Durham Central Park\, 501 Foster Street\, Durham\, North Carolina\, 27701\, United States
ATTACH;FMTTYPE=image/jpeg:https://www.vkind.com/wp-content/uploads/2023/01/Triangle-VegFest-Logo.jpg
GEO:36.0004044;-78.9018344
X-APPLE-STRUCTURED-LOCATION;VALUE=URI;X-ADDRESS=Durham Central Park 501 Foster Street Durham North Carolina 27701 United States;X-APPLE-RADIUS=500;X-TITLE=501 Foster Street:geo:-78.9018344,36.0004044
END:VEVENT
END:VCALENDAR