BEGIN:VCALENDAR
VERSION:2.0
PRODID:-//Vkind - ECPv6.15.14//NONSGML v1.0//EN
CALSCALE:GREGORIAN
METHOD:PUBLISH
X-ORIGINAL-URL:https://www.vkind.com
X-WR-CALDESC:Events for Vkind
REFRESH-INTERVAL;VALUE=DURATION:PT1H
X-Robots-Tag:noindex
X-PUBLISHED-TTL:PT1H
BEGIN:VTIMEZONE
TZID:-05:00
END:VTIMEZONE
BEGIN:VEVENT
DTSTART;TZID=-05:00:20231113T183000
DTEND;TZID=-05:00:20231113T210000
DTSTAMP:20260424T000752
CREATED:20231019T192027Z
LAST-MODIFIED:20231114T033051Z
UID:10007569-1699900200-1699909200@www.vkind.com
SUMMARY:Vegan Pizza w/ Wine @ Double Zero Pizza #VeganPizzaNYC
DESCRIPTION:**Arrive any time between 6:30pm and 9:00pm and stay as long as you want or leave when you need to. Arriving at 7:00pm or 8:00pm is perfectly great.** \nIndulge in a plant-based culinary experience like no other at Double Zero\, where the art of gourmet vegan pizza meets the world of exquisite organic and sustainable wines. Double Zero NYC has redefined the notion of a pizza night by curating a foodie pizza menu that’s entirely devoid of animal products. From their luscious\, oven-fired vegan pizzas adorned with the freshest\, locally-sourced ingredients to an impeccable selection of wines carefully chosen to complement the flavors\, this restaurant is a haven for both pizza aficionados and oenophiles who appreciate the beauty of plant-based dining. For more information\, check out their webpage here – [https://www.matthewkenneycuisine.com/double-zero](https://www.matthewkenneycuisine.com/double-zero) or Follow them on Instagram @Doublezeronyc \nGOOGLE REVIEWS – 4.5/5 stars \nRamya Shenoy- “One of the best places for vegan food. We had their artichoke pizza and sunflower Caesar salad. We took an outdoor table and the ambience was good in my opinion. Would recommend this place. I want to go back and try all their dishes. We also had their chocolate cake but I wasn’t a fan of it\, it was a bit dry but that’s all cakes and probably just my taste. I went here again and I had the spicy arrabbiata pizza and Cacio e Pepe pasta! The pasta was sooooo good. The food is great here! Vegetarian options: Good good vegans and vegetarian. The menu has allergy information detailed out with gluten\, soy and nut information.” \nMichelle Watkinson – “What an amazing Italian restaurant that’s 100% vegan. The chopped salad had a lot of unique flavors with homemade cheese. The fungi dish was full of warmth and deliciousness. The truffle cashew cream pizza was even more flavorful and that crust is absolutely worth the calories. Service was great too” \n**FOR OUR NEW MEMBERS:** this is an incredibly friendly and welcoming group. We are a FUN group. Join us for a stellar evening of lively conversations and great food and drinks with fellow vegetarians and vegans. \nEveryone pays for themselves. And Double Zero takes major credit cards. Easy! \n**TRAIN DIRECTIONS:** Take the F Train to 2nd Avenue\, and walk up 2nd Avenue just 0.15 mile (3 and a half short blocks) to Double Zero. Double Zero is on 2nd Avenue – btw E 3rd and 4th St. Or take the N\,R\,W Trains to 8th Street but the walk is longer\, about 0.5 mile/ 9 min walk. \nWe would love to have you join us – Mark the day! \n**Arrive any time between 6:30pm and 9:00pm and stay as long as you want or leave when you need to. Arriving at 7:00pm or 8:00pm is perfectly great.** \nKarthik :))
URL:https://www.vkind.com/vegan-events/vegan-pizza-w-wine-double-zero-pizza-veganpizzanyc/
LOCATION:Double Zero\, 65 2nd Avenue\, New York\, NY\, 10003\, US
ATTACH;FMTTYPE=image/jpeg:https://www.vkind.com/wp-content/uploads/2023/10/1024x576-HBZciv.tmp_.jpg
GEO:40.72609;-73.98981
X-APPLE-STRUCTURED-LOCATION;VALUE=URI;X-ADDRESS=Double Zero 65 2nd Avenue New York NY 10003 US;X-APPLE-RADIUS=500;X-TITLE=65 2nd Avenue:geo:-73.98981,40.72609
END:VEVENT
END:VCALENDAR