BEGIN:VCALENDAR
VERSION:2.0
PRODID:-//Vkind - ECPv6.15.14//NONSGML v1.0//EN
CALSCALE:GREGORIAN
METHOD:PUBLISH
X-ORIGINAL-URL:https://www.vkind.com
X-WR-CALDESC:Events for Vkind
REFRESH-INTERVAL;VALUE=DURATION:PT1H
X-Robots-Tag:noindex
X-PUBLISHED-TTL:PT1H
BEGIN:VTIMEZONE
TZID:-04:00
END:VTIMEZONE
BEGIN:VEVENT
DTSTART;TZID=-04:00:20221023T100000
DTEND;TZID=-04:00:20221023T120000
DTSTAMP:20260423T071726
CREATED:20221006T132044Z
LAST-MODIFIED:20221022T134956Z
UID:10000315-1666519200-1666526400@www.vkind.com
SUMMARY:VSDC Children’s Meet Up: Apple Picking
DESCRIPTION:This is the rescheduled meet up after Hurricane Ian rained out our original date. \nThe next meeting of VSDC’s Children’s meetup will be at Doc Waters Cidery for apple picking! The Orchard at Doc Waters Cidery\, located outside of Germantown Maryland\, is a pick-your-own orchard affiliated with a cidery. There are no farm animals\, petting zoos\, etc at this farm. The parents can enjoy a fresh cider\, if desired. The cidery does have live entertainment and a food truck – the food offerings may not be vegan friendly\, but the cidery does allow guests to bring their own food. \nMore information and the per person/weight pricing (approximately $10/person) is available here: https://www.docwaterscidery.com/pick-your-own/ \nThis is an event for vegan\, vegetarian or vegan/vegetarian curious families with children. \nIf you can no longer attend\, please let us know by changing your RSVP so another family can attend. \nIf you aren’t a VSDC member\, please consider joining here: [http://www.vsdc.org/membership/](http://www.vsdc.org/membership/) \nAlso\, be sure to like VSDC on Facebook: [https://www.facebook.com/vegsocietydc/](https://www.facebook.com/vegsocietydc/) \n***\nVSDC (http://www.vsdc.org) is a clear and consistent voice for improving the lives of all beings through education on the benefits of a vegan diet & lifestyle. Sharing food is the bond that brings families together; so it is with VSDC. From simply “breaking bread” to experiencing delicious and nutritious vegan foods from around the world\, we make your journey easier\, enjoyable & meaningful. \nVSDC. Creating communities. For your health\, the animals\, and the planet.
URL:https://www.vkind.com/vegan-events/vsdc-childrens-meet-up-apple-picking-2/
LOCATION:Doc Waters Cidery\, 22529 Wildcat Rd\, Germantown\, MD\, 20876\, us
ATTACH;FMTTYPE=image/jpeg:https://www.vkind.com/wp-content/uploads/2022/09/1024x576-ndrtcr.tmp_.jpg
GEO:39.224483;-77.20139
X-APPLE-STRUCTURED-LOCATION;VALUE=URI;X-ADDRESS=Doc Waters Cidery 22529 Wildcat Rd Germantown MD 20876 us;X-APPLE-RADIUS=500;X-TITLE=22529 Wildcat Rd:geo:-77.20139,39.224483
END:VEVENT
BEGIN:VEVENT
DTSTART;TZID=-04:00:20221002T100000
DTEND;TZID=-04:00:20221002T120000
DTSTAMP:20260423T071726
CREATED:20220914T102103Z
LAST-MODIFIED:20220929T122102Z
UID:10000291-1664704800-1664712000@www.vkind.com
SUMMARY:VSDC Children’s Meet Up: Apple Picking
DESCRIPTION:The next meeting of VSDC’s Children’s meetup will be at Doc Waters Cidery for apple picking! The Orchard at Doc Waters Cidery\, located outside of Germantown Maryland\, is a pick-your-own orchard affiliated with a cidery. There are no farm animals\, petting zoos\, etc at this farm. The parents can enjoy a fresh cider\, if desired. The cidery does have live entertainment and a food truck – the food offerings may not be vegan friendly\, but the cidery does allow guests to bring their own food. \nMore information and the per person/weight pricing (approximately $10/person) is available here: https://www.docwaterscidery.com/pick-your-own/ \nThis is an event for vegan\, vegetarian or vegan/vegetarian curious families with children. Please make sure to include the total number of attendees including children in your RSVP. RSVPs with only 1 attendee listed will be removed. \nIf you can no longer attend\, please let us know by changing your RSVP so another family can attend. \nIf you aren’t a VSDC member\, please consider joining here: [http://www.vsdc.org/membership/](http://www.vsdc.org/membership/) \nAlso\, be sure to like VSDC on Facebook: [https://www.facebook.com/vegsocietydc/](https://www.facebook.com/vegsocietydc/) \n***\nVSDC (http://www.vsdc.org) is a clear and consistent voice for improving the lives of all beings through education on the benefits of a vegan diet & lifestyle. Sharing food is the bond that brings families together; so it is with VSDC. From simply “breaking bread” to experiencing delicious and nutritious vegan foods from around the world\, we make your journey easier\, enjoyable & meaningful. \nVSDC. Creating communities. For your health\, the animals\, and the planet.
URL:https://www.vkind.com/vegan-events/vsdc-childrens-meet-up-apple-picking/
LOCATION:Doc Waters Cidery\, 22529 Wildcat Rd\, Germantown\, MD\, 20876\, us
ATTACH;FMTTYPE=image/jpeg:https://www.vkind.com/wp-content/uploads/2022/09/1024x576-ndrtcr.tmp_.jpg
GEO:39.224483;-77.20139
X-APPLE-STRUCTURED-LOCATION;VALUE=URI;X-ADDRESS=Doc Waters Cidery 22529 Wildcat Rd Germantown MD 20876 us;X-APPLE-RADIUS=500;X-TITLE=22529 Wildcat Rd:geo:-77.20139,39.224483
END:VEVENT
END:VCALENDAR