BEGIN:VCALENDAR
VERSION:2.0
PRODID:-//Vkind - ECPv6.15.14//NONSGML v1.0//EN
CALSCALE:GREGORIAN
METHOD:PUBLISH
X-ORIGINAL-URL:https://www.vkind.com
X-WR-CALDESC:Events for Vkind
REFRESH-INTERVAL;VALUE=DURATION:PT1H
X-Robots-Tag:noindex
X-PUBLISHED-TTL:PT1H
BEGIN:VTIMEZONE
TZID:America/Los_Angeles
BEGIN:DAYLIGHT
TZOFFSETFROM:-0800
TZOFFSETTO:-0700
TZNAME:PDT
DTSTART:20210314T100000
END:DAYLIGHT
BEGIN:STANDARD
TZOFFSETFROM:-0700
TZOFFSETTO:-0800
TZNAME:PST
DTSTART:20211107T090000
END:STANDARD
BEGIN:DAYLIGHT
TZOFFSETFROM:-0800
TZOFFSETTO:-0700
TZNAME:PDT
DTSTART:20220313T100000
END:DAYLIGHT
BEGIN:STANDARD
TZOFFSETFROM:-0700
TZOFFSETTO:-0800
TZNAME:PST
DTSTART:20221106T090000
END:STANDARD
BEGIN:DAYLIGHT
TZOFFSETFROM:-0800
TZOFFSETTO:-0700
TZNAME:PDT
DTSTART:20230312T100000
END:DAYLIGHT
BEGIN:STANDARD
TZOFFSETFROM:-0700
TZOFFSETTO:-0800
TZNAME:PST
DTSTART:20231105T090000
END:STANDARD
END:VTIMEZONE
BEGIN:VEVENT
DTSTART;TZID=America/Los_Angeles:20220924T160000
DTEND;TZID=America/Los_Angeles:20220924T200000
DTSTAMP:20260424T120316
CREATED:20220819T152052Z
LAST-MODIFIED:20220819T153049Z
UID:10000271-1664035200-1664049600@www.vkind.com
SUMMARY:Red Carpet Premiere of Peeled™
DESCRIPTION:Do You Want To Party With Vegan Celebrities & Be A Part Of Vegan History?\n\nIT’S TIME TO MAKE VEGAN HISTORY\, A-LIST STYLE!\n\nHollywood Is Calling! Wanna Walk The Red Carpet With Vegan Celebs & Party Like A Rockstar?\n\nWORLDWIDE PEELED PREMIERE\, SEPT. 24TH\, DIRECTOR’S GUILD OF AMERICA\, HOLLYWOOD\, CA\n\n+Must be 21 yrs and up\n+Exclusive VIP Swag Bags\n+Reserved VIP-Only Seating\n+VIP-Only Lounge\n+Chef-Created Vegan Hors d’oeuvres\n+Red Carpet Meet & Greet\n+Signed Peeled Holiday Cookbook by our Chef Contestants\n+Vegan Celebrities\, Activists & Changemakers\n+Seating is Limited. Get your tickets now\n\nImmerse yourself in a sensory experience: see\, smell\, taste\, and feel the energy behind Peeled—America’s only 100% vegan cooking competition show.\n\nGuests will enjoy vegan beer\, wine\, spirits and hors d’oeuvres crafted by the chef contestants themselves. Meet and greet with brilliant culinarians who are driving the future of the VegEconomy.\n\nCompetitors begin their chef-curated delectable bites at 4:30 p.m to launch Peeled.\n\nDOORS OPEN: 4 p.m.\nGUESTS SEATED BY: 6 p.m.\nDRESS CODE: Cocktail attire\nAGES: 21 and up\n\nThis is an intimate\, red carpet event with guests from vegan celebrities to activists and changemakers in attendance.\n\nReserve your seat to be among the minds who are making veganism the new normal. Get your tickets now!\n\nPEELEDWEBSITE: https://www.peeledshow.com/
URL:https://www.vkind.com/vegan-events/red-carpet-premiere-of-peeled-event/
LOCATION:Directors Guild of America\, 7920 Sunset Blvd\, Los Angeles\, CA\, 90046\, United States
ATTACH;FMTTYPE=image/png:https://www.vkind.com/wp-content/uploads/2022/08/premiere-tickets2.png
GEO:34.0973542;-118.3624025
X-APPLE-STRUCTURED-LOCATION;VALUE=URI;X-ADDRESS=Directors Guild of America 7920 Sunset Blvd Los Angeles CA 90046 United States;X-APPLE-RADIUS=500;X-TITLE=7920 Sunset Blvd:geo:-118.3624025,34.0973542
END:VEVENT
END:VCALENDAR