BEGIN:VCALENDAR
VERSION:2.0
PRODID:-//Vkind - ECPv6.15.14//NONSGML v1.0//EN
CALSCALE:GREGORIAN
METHOD:PUBLISH
X-ORIGINAL-URL:https://www.vkind.com
X-WR-CALDESC:Events for Vkind
REFRESH-INTERVAL;VALUE=DURATION:PT1H
X-Robots-Tag:noindex
X-PUBLISHED-TTL:PT1H
BEGIN:VTIMEZONE
TZID:-05:00
END:VTIMEZONE
BEGIN:VEVENT
DTSTART;TZID=-05:00:20221030T180000
DTEND;TZID=-05:00:20221030T200000
DTSTAMP:20260423T171907
CREATED:20220925T071954Z
LAST-MODIFIED:20221028T091928Z
UID:10000299-1667152800-1667160000@www.vkind.com
SUMMARY:Vegan Eritrean Food Dinning at Denden Restaurant
DESCRIPTION:**!!! PLEASE READ THE ENTIRE EVENT DESCRIPTION AND AGREE WITH THE EVENT ‘RSVP TERMS’ BEFORE RSVPING !!!** \nJoin us for a vegan dining at Denden\, a family-owned restaurant located on the North side of Chicago. Eritrean food is similar to Ethiopian food – If you like Ethiopian food\, you will enjoy Eritrean food as much! \nMENU (buffet style): \n* Regular Salad\n* Tsebh’i Brsen (ground lentils in spicy homemade sauce)\n* Bamia (okra and spinach)\n* Shiro (chick pea flour)\n* Tsebh’i Ah’mlti (String beans\, potato\, carrots)\n* Alicha Dinish (potato cubes mixed with carrots and cabbage)\n* Injera Bread (a limited amount of Gluten-Free Injera may also be available for $3.00 extra per piece – Must be ordered in advance – Please put it in with your reservation)\n* Beverage (Coffee) \nThe entire menu is 100% vegan.\nPRICE: Only $15 (includes tax and tip!) Cash only. Exact change preferred. \nRSVP TERMS: BY RSVPING FOR THE EVENT YOU COMMIT TO PAY FOR YOUR RSVP WHETHER YOU SHOW OR NOT UNLESS YOU CANCEL 48 HOURS BEFORE THE EVENT. THIS INCLUDES ANY GUESTS ON YOUR RSVP. IF YOU RSVP BUT DON’T COME (UNLESS CANCELED ON TIME)\, YOU PAY $15 ON-LINE (PLUS FOR YOUR GUESTS\, IF ANY). ORGANIZERS WILL CONTACT YOU. \nPlease invite your non-vegan friends to enjoy this evening with us! \nSPACE IS LIMITED – PLEASE RSVP IN ADVANCE. \nThis is a kid/family friendly event. Please respect our [No Intoxicants Policy](https://www.meetup.com/chicagoveg/pages/17842782/No_Intoxicants_Policy/). \nPlease use the Comments area at the bottom of the event page to offer/ask for rides and to post any questions or comments.
URL:https://www.vkind.com/vegan-events/vegan-eritrean-food-dinning-at-denden-restaurant/
LOCATION:Denden Restaurant\, 6635 N Clark St\, Chicago\, IL\, 60626\, us
ATTACH;FMTTYPE=image/jpeg:https://www.vkind.com/wp-content/uploads/2022/09/1024x576-jYWFaO.tmp_.jpg
GEO:42.00273;-87.672066
X-APPLE-STRUCTURED-LOCATION;VALUE=URI;X-ADDRESS=Denden Restaurant 6635 N Clark St Chicago IL 60626 us;X-APPLE-RADIUS=500;X-TITLE=6635 N Clark St:geo:-87.672066,42.00273
END:VEVENT
END:VCALENDAR