BEGIN:VCALENDAR
VERSION:2.0
PRODID:-//Vkind - ECPv6.15.14//NONSGML v1.0//EN
CALSCALE:GREGORIAN
METHOD:PUBLISH
X-ORIGINAL-URL:https://www.vkind.com
X-WR-CALDESC:Events for Vkind
REFRESH-INTERVAL;VALUE=DURATION:PT1H
X-Robots-Tag:noindex
X-PUBLISHED-TTL:PT1H
BEGIN:VTIMEZONE
TZID:-04:00
END:VTIMEZONE
BEGIN:VEVENT
DTSTART;TZID=-04:00:20240719T170000
DTEND;TZID=-04:00:20240721T170000
DTSTAMP:20260422T132839
CREATED:20240421T142058Z
LAST-MODIFIED:20240721T180523Z
UID:10007691-1721408400-1721581200@www.vkind.com
SUMMARY:VSDC Volunteers Needed for Exhibit Table at Taking Action for Animals Conference
DESCRIPTION:VSDC will have an informational table at the upcoming HSUS [Taking Action for Animals Conference](https://www.humanesociety.org/takingactionforanimals) in Arlington\, Virginia\, Friday evening\, July 19 – Sunday evening\, July 21. We are seeking two volunteers interested in attending the conference and staffing the VSDC table on Friday\, 5:00 – 7:00 pm\, Saturday\, 1:00 – 2:30 and 4:00 – 5:30 pm\, and Sunday\, 12:30 – 2:30 pm. \nWhile at the table\, you will be sharing materials about VSDC and encouraging people to consider attending events and becoming members. At other times\, you will be [available to attend the educational sessions](https://www.humanesociety.org/resources/tafa-schedule-events). ***As a volunteer\, you will qualify for a complimentary conference registration in return for your service.*** \nIf you are available on those dates and can firmly commit to the exhibit hours\, please write to [wendy@vsdc.org](mailto:wendy@vsdc.org) indicating how you have been involved with VSDC\, why you want to attend the conference\, and affirming that you are available for the hours indicated. We will review the submissions and follow up with everyone who responds by April 1. \n**VSDC: More Than A Meetup**\nWe are so glad to have you as part of The Veg Society of DC Vegan Meetup group\, and we enjoy seeing you at our events. Did you know that [VSDC](https://vsdc.org/) is a nonprofit organization with membership benefits? \nWith VSDC membership\, you will save money at area restaurants and businesses\, attend VSDC member-only events\, and\, most importantly\, support us as a clear and consistent voice for improving the lives of all beings through community building and education centered on the benefits of a vegan diet and lifestyle. \nThe VSDC membership fee is minimal\, but the impact is significant! [Become a member of VSDC](https://vsdc.org/membership/). \n**Liability Waiver and Code of Conduct**\nWhen you sign up to attend\, you automatically acknowledge [VSDC’s Liability Waiver](https://vsdc.org/activity-waiver/) and commit to follow the code of conduct found at [Policies – VSDC – Veg Society of DC](https://vsdc.org/policies/). \n**VSDC. Creating communities. For your health\, the animals\, and the planet.**
URL:https://www.vkind.com/vegan-events/vsdc-volunteers-needed-for-exhibit-table-at-taking-action-for-animals-conference/
LOCATION:Crystal Gateway Marriott\, 1700 Richmond Hwy\, Arlington\, VA\, 22202\, United States
ATTACH;FMTTYPE=image/jpeg:https://www.vkind.com/wp-content/uploads/2024/04/1024x576-7cEI6F.tmp_.jpg
GEO:38.8586;-77.052666
X-APPLE-STRUCTURED-LOCATION;VALUE=URI;X-ADDRESS=Crystal Gateway Marriott 1700 Richmond Hwy Arlington VA 22202 United States;X-APPLE-RADIUS=500;X-TITLE=1700 Richmond Hwy:geo:-77.052666,38.8586
END:VEVENT
END:VCALENDAR