BEGIN:VCALENDAR
VERSION:2.0
PRODID:-//Vkind - ECPv6.15.14//NONSGML v1.0//EN
CALSCALE:GREGORIAN
METHOD:PUBLISH
X-ORIGINAL-URL:https://www.vkind.com
X-WR-CALDESC:Events for Vkind
REFRESH-INTERVAL;VALUE=DURATION:PT1H
X-Robots-Tag:noindex
X-PUBLISHED-TTL:PT1H
BEGIN:VTIMEZONE
TZID:-04:00
END:VTIMEZONE
BEGIN:VEVENT
DTSTART;TZID=-04:00:20250709T100000
DTEND;TZID=-04:00:20250713T120000
DTSTAMP:20260423T015354
CREATED:20250411T103043Z
LAST-MODIFIED:20250411T103046Z
UID:10007924-1752055200-1752408000@www.vkind.com
SUMMARY:Join VSDC at the Vegan Summerfest!
DESCRIPTION:Do you want to meet people who share your commitment to health\, animal rights\, and the environment? Are you interested in learning more about preventing and treating major chronic diseases through plant-based eating? Vegan Summerfest is a premier educational and social event for vegans and those just learning about this way of life. \nTo learn more about this event\, please visit the [conference website](https://summerfest.navs-online.org/). \nA number of VSDC members attend\, and this year\, we will be using What’s App to stay in touch onsite and gather for meals or other events. \nPlease take these three actions:\n1. Please sign up for this Meetup event to indicate your are interested\, \n2. If you want to connect with others from the area who are attending please [complete this form](https://forms.gle/WmEY79LjbpgayL3S6). **We will use What’s App\, so be sure you provide your mobile phone when completing the form.** \n**3. To attend\, [you must register](https://summerfest.navs-online.org/) and pay a fee. The conference will sell out so don’t delay!!!** \n**Transportation and Roommates**\nIf you need a ride\, you can post to the page below. Of course\, please use good sense when riding with people you don’t know and understand that VSDC cannot take responsibility for the behavior of volunteer drivers. You can also post if you want a roommate\, but again\, VSDC cannot be responsible for the actions of any individual. \n**VSDC: More Than A Meetup**\nWe are so glad to have you as part of The Veg Society of DC Vegan Meetup group\, and we enjoy seeing you at our events. Did you know that [VSDC](https://vsdc.org/) is a nonprofit organization with membership benefits? \nWith VSDC membership\, you will save money at area restaurants and businesses\, attend VSDC member-only events\, and\, most importantly\, support us as a clear and consistent voice for improving the lives of all beings through community building and education centered on the benefits of a vegan diet and lifestyle. \nThe membership fee is minimal\, but the impact is significant! [Become a member of VSDC](https://vsdc.org/membership/). \n**Liability Waiver and Code of Conduct**\nWhen you sign up to attend\, you automatically acknowledge [VSDC’s Liability Waiver](https://vsdc.org/activity-waiver/) and commit to follow the code of conduct found at [Policies – VSDC – Veg Society of DC](https://vsdc.org/policies/).
URL:https://www.vkind.com/vegan-events/join-vsdc-at-the-vegan-summerfest-2/
LOCATION:Conference Center at Pitt-Johnstown\, University of Pittsburgh\, 450 Schoolhouse Road\, Johnstown\, pa\, 15904\, United States
ATTACH;FMTTYPE=image/jpeg:https://www.vkind.com/wp-content/uploads/2024/04/1024x576-jvqaIV.tmp_.jpg
GEO:40.273987;-78.81612
X-APPLE-STRUCTURED-LOCATION;VALUE=URI;X-ADDRESS=Conference Center at Pitt-Johnstown University of Pittsburgh 450 Schoolhouse Road Johnstown pa 15904 United States;X-APPLE-RADIUS=500;X-TITLE=450 Schoolhouse Road:geo:-78.81612,40.273987
END:VEVENT
BEGIN:VEVENT
DTSTART;TZID=-04:00:20240710T100000
DTEND;TZID=-04:00:20240714T140000
DTSTAMP:20260423T015354
CREATED:20240412T080541Z
LAST-MODIFIED:20240714T130022Z
UID:10007685-1720605600-1720965600@www.vkind.com
SUMMARY:Join VSDC at the Vegan Summerfest!
DESCRIPTION:Do you want to meet people who share your commitment to health\, animal rights\, and the environment? Are you interested in learning more about the prevention and treatment of some of the major chronic diseases through plant-based eating? Vegan Summerfest is one of the premier educational and social events for vegans and those just learning about this way of life. \nTo learn more about this event\, please visit the [conference website](https://summerfest.navs-online.org/). \nA number of VSDC members attend\, and this year\, we will plan a gathering at a meal or during another event. Please register here if you want to hear more about those plans as they develop. **We will use the message feature to send updates\, so be sure you are signed up to receive organizer messages.** \n**To attend\, [you must register](https://summerfest.navs-online.org/) and pay a fee. The conference will sell out so don’t delay!!!** \n**Transportation and Roommates**\nIf you need a ride\, feel free to post to the page below. Of course\, please use good sense in riding with people you don’t know and understand that VSDC cannot take responsibility for the behavior of volunteer drivers. You can also post if you want a roommate\, but again\, VSDC cannot be responsible for the actions of any individual. \n**VSDC: More Than A Meetup**\nWe are so glad to have you as part of The Veg Society of DC Vegan Meetup group\, and we enjoy seeing you at our events. Did you know that [VSDC](https://vsdc.org/) is a nonprofit organization with membership benefits? \nWith VSDC membership\, you will save money at area restaurants and businesses\, attend VSDC member-only events\, and\, most importantly\, support us as a clear and consistent voice for improving the lives of all beings through community building and education centered on the benefits of a vegan diet and lifestyle. \nThe membership fee is minimal\, but the impact is significant! [Become a member of VSDC](https://vsdc.org/membership/). \n**Liability Waiver and Code of Conduct**\nWhen you sign up to attend\, you automatically acknowledge [VSDC’s Liability Waiver](https://vsdc.org/activity-waiver/) and commit to follow the code of conduct found at [Policies – VSDC – Veg Society of DC](https://vsdc.org/policies/).
URL:https://www.vkind.com/vegan-events/join-vsdc-at-the-vegan-summerfest/
LOCATION:Conference Center at Pitt-Johnstown\, University of Pittsburgh\, 450 Schoolhouse Road\, Johnstown\, pa\, 15904\, United States
ATTACH;FMTTYPE=image/jpeg:https://www.vkind.com/wp-content/uploads/2024/04/1024x576-jvqaIV.tmp_.jpg
GEO:40.273987;-78.81612
X-APPLE-STRUCTURED-LOCATION;VALUE=URI;X-ADDRESS=Conference Center at Pitt-Johnstown University of Pittsburgh 450 Schoolhouse Road Johnstown pa 15904 United States;X-APPLE-RADIUS=500;X-TITLE=450 Schoolhouse Road:geo:-78.81612,40.273987
END:VEVENT
END:VCALENDAR