BEGIN:VCALENDAR
VERSION:2.0
PRODID:-//Vkind - ECPv6.15.14//NONSGML v1.0//EN
CALSCALE:GREGORIAN
METHOD:PUBLISH
X-ORIGINAL-URL:https://www.vkind.com
X-WR-CALDESC:Events for Vkind
REFRESH-INTERVAL;VALUE=DURATION:PT1H
X-Robots-Tag:noindex
X-PUBLISHED-TTL:PT1H
BEGIN:VTIMEZONE
TZID:-05:00
END:VTIMEZONE
BEGIN:VEVENT
DTSTART;TZID=-05:00:20230426T170000
DTEND;TZID=-05:00:20230426T180000
DTSTAMP:20260424T005951
CREATED:20230418T040522Z
LAST-MODIFIED:20230426T043513Z
UID:10000498-1682528400-1682532000@www.vkind.com
SUMMARY:Walk Around Lake Como
DESCRIPTION:Lets enjoy the weather and walk around Lake Como together. The walk is about 1.7 miles on a flat\, paved walking trail. Ample parking on either side of the pavilion off of Lexington Ave and easy bicycle access as well. \nMeet on the lake side behind the pavilion near the docks: https://goo.gl/maps/bgDx1YFNaRXCjyeV6 \nI’ll be wearing an Everyone Vegan shirt with this group’s logo on it. \nMeet at 5pm and start walking at 5:15pm.
URL:https://www.vkind.com/vegan-events/walk-around-lake-como/
LOCATION:Como Lakeside Pavilion\, 1360 Lexington Pkwy N\, St Paul\, MN\, 55103\, us
ATTACH;FMTTYPE=image/jpeg:https://www.vkind.com/wp-content/uploads/2023/04/1024x576-ZCw0xc.tmp_.jpg
GEO:44.982197;-93.1427
X-APPLE-STRUCTURED-LOCATION;VALUE=URI;X-ADDRESS=Como Lakeside Pavilion 1360 Lexington Pkwy N St Paul MN 55103 us;X-APPLE-RADIUS=500;X-TITLE=1360 Lexington Pkwy N:geo:-93.1427,44.982197
END:VEVENT
END:VCALENDAR