BEGIN:VCALENDAR
VERSION:2.0
PRODID:-//Vkind - ECPv6.15.14//NONSGML v1.0//EN
CALSCALE:GREGORIAN
METHOD:PUBLISH
X-ORIGINAL-URL:https://www.vkind.com
X-WR-CALDESC:Events for Vkind
REFRESH-INTERVAL;VALUE=DURATION:PT1H
X-Robots-Tag:noindex
X-PUBLISHED-TTL:PT1H
BEGIN:VTIMEZONE
TZID:-04:00
END:VTIMEZONE
BEGIN:VEVENT
DTSTART;TZID=-04:00:20240605T120000
DTEND;TZID=-04:00:20240605T140000
DTSTAMP:20260423T174324
CREATED:20240511T014539Z
LAST-MODIFIED:20240603T122542Z
UID:10007705-1717588800-1717596000@www.vkind.com
SUMMARY:VSDC Packs Fruits and Veggies for Local Families in Need
DESCRIPTION:Have you volunteered at a food bank and cringed as you helped pack foods\, including meat and dairy\, that don’t align with your values? Community FarmShare supports families in need while caring about the health of those they serve and the environment. \nJoin us at the Community FarmShare Hub to help pack fruits and vegetables grown on local small-scale farms for those lacking access to healthy foods. The bags we (and other volunteers) pack will be distributed to more than 500 families. \nWe will stand for the entire shift\, so wear comfortable\, closed-toe shoes. We recommend you bring a water bottle and feel free to bring a light vegan snack. Packing takes place partially outdoors but shaded\, so dress for the weather. There is a porta-potty on site. \nTo learn more about Community FarmShare and other volunteer opportunities\, visit http://www.communityfarmshare.org. \n**VSDC: More Than A Meetup**\nWe are so glad to have you as part of The Veg Society of DC Vegan Meetup group\, and we enjoy seeing you at our events. Did you know that [VSDC](https://vsdc.org/) is a nonprofit organization with membership benefits?\nWith VSDC membership\, you will save money at area restaurants and businesses\, attend VSDC member-only events\, and\, most importantly\, support us as a clear and consistent voice for improving the lives of all beings through community building and education centered on the benefits of a vegan diet and lifestyle.\nThe membership fee is minimal\, but the impact is significant! [Become a member of VSDC](https://vsdc.org/membership/). \n**Liability Waiver and Code of Conduct**\nWhen you sign up to attend\, you automatically acknowledge [VSDC’s Liability Waiver](https://vsdc.org/activity-waiver/) and commit to follow the code of conduct found at [Policies – VSDC – Veg Society of DC](https://vsdc.org/policies/).
URL:https://www.vkind.com/vegan-events/vsdc-packs-fruits-and-veggies-for-local-families-in-need/
LOCATION:Common Root Farm\, 18101 Bowie Mill Rd\, Derwood\, MD\, 20855\, United States
ATTACH;FMTTYPE=image/jpeg:https://www.vkind.com/wp-content/uploads/2024/05/1024x576-YOFGGD.tmp_.jpg
GEO:39.152855;-77.09803
X-APPLE-STRUCTURED-LOCATION;VALUE=URI;X-ADDRESS=Common Root Farm 18101 Bowie Mill Rd Derwood MD 20855 United States;X-APPLE-RADIUS=500;X-TITLE=18101 Bowie Mill Rd:geo:-77.09803,39.152855
END:VEVENT
END:VCALENDAR